BEGIN:VCALENDAR
VERSION:2.0
PRODID:-//いみ～る国東 - ECPv6.15.20//NONSGML v1.0//EN
CALSCALE:GREGORIAN
METHOD:PUBLISH
X-WR-CALNAME:いみ～る国東
X-ORIGINAL-URL:https://www.imiru-kunisaki.fun
X-WR-CALDESC:いみ～る国東 のイベント
REFRESH-INTERVAL;VALUE=DURATION:PT1H
X-Robots-Tag:noindex
X-PUBLISHED-TTL:PT1H
BEGIN:VTIMEZONE
TZID:Asia/Tokyo
BEGIN:STANDARD
TZOFFSETFROM:+0900
TZOFFSETTO:+0900
TZNAME:JST
DTSTART:20240101T000000
END:STANDARD
END:VTIMEZONE
BEGIN:VEVENT
DTSTART;TZID=Asia/Tokyo:20250420T210000
DTEND;TZID=Asia/Tokyo:20250420T220000
DTSTAMP:20260423T101359
CREATED:20250325T173329Z
LAST-MODIFIED:20250406T012222Z
UID:882-1745182800-1745186400@www.imiru-kunisaki.fun
SUMMARY:M67 散開星団撮影会【天球館】
DESCRIPTION:梅園の里天文台天球館で、M67散開星団を撮影する特別なひとときをご一緒しませんか？静かな夜空に広がる星々をカメラに収めながら、宇宙の神秘に触れる時間をお楽しみください。定員8名、当日先着順ですので、ご希望の方はお早めにお越しください。 \n【開催日時】\n4月20日（日）21:00~22:00 \n【場所】\n梅園の里天文台 天球館（国東市安岐町富清2244） \n【定員】\n8名　※当日先着順 \n【料金】\n観察料：大人500円・高校生:300円・小中学生200円\n※梅園の里 宿泊者様、団体（10名以上）は、お一人様100円引き \n◆年間パスポート：大人1500円・高校生900円・小中学生600円 \n【お問い合わせ】\n梅園の里天文台 天球館\nTEL:0978-97-2655\n開館時間：平日（月・水・木・金） 18:00～22:00　　土日祝・学童春夏冬休み 13:00〜22:00\n休館日：火曜日（祝祭日の場合は翌平日）
URL:https://www.imiru-kunisaki.fun/corner/2025-04-20/
LOCATION:梅園の里天文台 天球館\, 富清2244\, 国東市安岐町\, 大分県\, 873-0355\, Japan
CATEGORIES:イベント,安岐町
ATTACH;FMTTYPE=image/jpeg:https://www.imiru-kunisaki.fun/wp-content/uploads/2025/03/m67_eyecatch-800X500-1.jpg
END:VEVENT
BEGIN:VEVENT
DTSTART;TZID=Asia/Tokyo:20250420T130000
DTEND;TZID=Asia/Tokyo:20250420T130000
DTSTAMP:20260423T101359
CREATED:20250418T145637Z
LAST-MODIFIED:20250418T150525Z
UID:1185-1745154000-1745154000@www.imiru-kunisaki.fun
SUMMARY:おせったい【KITOWA“きとわ”】
DESCRIPTION:＼ 心ほどける、春のおもてなし ／国東半島に受け継がれる、あたたかな風習「おせったい」。家々に祀られた「お弘法さま」を囲み、地域の人々や訪れた人たちが笑顔で集う、特別な一日です。お参りをすると、地元の方々が用意したお菓子や軽食がふるまわれる――そんな心づくしのもてなしに、気づけばほっこり。 \n“きとわ”でも、この伝統行事をみなさんと一緒に楽しむ機会をつくりました。今日はちょっとした“旅気分”。森の中、海辺、知らなかった道の先にある「お接待処」を巡る楽しさも魅力のひとつ。一年に一度、農道に渋滞が起こるほどの賑わいに、自然と笑顔がこぼれます。 \nそんな“地域のやさしさ”を感じに、ぜひお越しください。“きとわ”で、お待ちしています。 \n詳しくはこちら＞＞＞ \n【開催日時】\n4月20日（日）13:00より（なくなり次第終了）\n \n【場所】\n旧古城医院 玄関スペース\n鶴川商店街周辺の観光・交流拠点施設「きとわ」 \n【お問い合わせ】\n鶴川商店街周辺の観光・交流拠点施設「きとわ」\nTEL：0978-75-0583\nメールアドレス：tsuru-y@jcom.zaq.n
URL:https://www.imiru-kunisaki.fun/corner/2025-4-20_3/
LOCATION:鶴川商店街周辺観光・交流拠点施設「きとわ」\, 鶴川１３６５番地１\, 国東市国東町\, 大分県\, 873-0503\, Japan
CATEGORIES:イベント,国東町
END:VEVENT
BEGIN:VEVENT
DTSTART;TZID=Asia/Tokyo:20250419T100000
DTEND;TZID=Asia/Tokyo:20250419T140000
DTSTAMP:20260423T101359
CREATED:20250405T083530Z
LAST-MODIFIED:20250406T011824Z
UID:1043-1745056800-1745071200@www.imiru-kunisaki.fun
SUMMARY:春の「たぶか軒先市」
DESCRIPTION:国東市の田深縦町商店街で、第６回「たぶか軒先市」が開催されます！通り沿いには、市内外から39の素敵なお店が集まり、旬の美味しい食材や地元の特産品、リサイクルグッズや暮らしの道具など、魅力的な品々が並びます。春のひとときを楽しみながら、心温まるひとときを過ごしましょう♪\nマイバックをご持参ください👜 \n詳しくはこちら＞＞＞ \n【開催日時】\n4月19日（土）10:00~14:00 \n【場所】\n田深縦町商店街（国東市国東町田深） \n【お問い合わせ】\n田深商店街活性化プロジェクト推進委員会\nTEL：0978-72-0141（松尾米穀店）\nTEL：080-4317-2298（Curry Cafe ぷらす）
URL:https://www.imiru-kunisaki.fun/corner/2025-04-19-1/
LOCATION:田深縦町通り商店街\, 田深\, 国東市国東町\, 大分県\, Japan
CATEGORIES:イベント,国東町
ATTACH;FMTTYPE=image/jpeg:https://www.imiru-kunisaki.fun/wp-content/uploads/2025/04/tabukanokisakiichi_eyecatch-800X500-1.jpg
END:VEVENT
BEGIN:VEVENT
DTSTART;TZID=Asia/Tokyo:20250419T100000
DTEND;TZID=Asia/Tokyo:20250419T123000
DTSTAMP:20260423T101359
CREATED:20250405T094345Z
LAST-MODIFIED:20250407T074101Z
UID:1058-1745056800-1745065800@www.imiru-kunisaki.fun
SUMMARY:親子写真教室＆田深フォトウォーク【たぶか軒先市コラボ企画同時開催】
DESCRIPTION:たぶか軒先市とのコラボ企画！田深縦町通り商店街で、親子で楽しめる「写真教室＆フォトウォーク」が開催されます。一眼レフカメラの使い方をやさしく学びながら、どこか懐かしいレトロな商店街や、にぎやかなイベントの風景を撮影してみませんか？ \n当日は無料でカメラの貸し出しもありますので、手ぶらでの参加も大歓迎。お申し込みは先着順となっておりますので、どうぞお早めに！ \n詳しくはこちら＞＞＞ \n【開催日時】\n4月19日（土）10:00~12:30 \n【場所】\n田深縦町商店街　旧西村化粧品店（夷宮の隣）\n（国東市国東町田深）\n \n【募集定員】\n小中学生と保護者10組（20名前後）※先着順 \n【参加費】\n無料（当日カメラを無料貸出しします） \n【お問い合わせ】\n田深商店街活性化プロジェクト推進委員会\nTEL：0978-72-0141（松尾米穀店） \n【協力】\n大分キャノン株式会社
URL:https://www.imiru-kunisaki.fun/corner/2025-04-19-2/
LOCATION:田深縦町通り商店街\, 田深\, 国東市国東町\, 大分県\, Japan
CATEGORIES:イベント,国東町,教育・学習
ATTACH;FMTTYPE=image/jpeg:https://www.imiru-kunisaki.fun/wp-content/uploads/2025/04/oyakosyashinnkyoushitsu_eyecatch-800X500-1.jpg
END:VEVENT
BEGIN:VEVENT
DTSTART;TZID=Asia/Tokyo:20250413T110000
DTEND;TZID=Asia/Tokyo:20250413T150000
DTSTAMP:20260423T101359
CREATED:20250404T160806Z
LAST-MODIFIED:20250411T033423Z
UID:1010-1744542000-1744556400@www.imiru-kunisaki.fun
SUMMARY:己書【作品展示＆体験会】
DESCRIPTION:「己書」作品展示＆体験会 in きとわ 🖌️ \n鶴川商店街周辺観光・交流拠点「きとわ」にて、心あたたまる**己書（おのれしょ）**の作品展示と、無料体験会が開催されます。 \n🌿 己書とは…筆ペンや水彩絵の具を使って、まるで絵を描くように自由に文字を綴る書。前向きになれる言葉、癒される言葉、そっと背中を押してくれるような言葉たち――そんな“言葉との出逢い”が、あなたをやさしく包み込みます。見る人の心をほっこりあたためてくれる、そんな作品たちに会いにきませんか？ \n🖌️ 無料体験会も実施中！「できるかな？」なんて心配は無用。まずは楽しむ気持ちでどうぞ。体験をご希望の方は、事前にご予約をお願いいたします。 \nあなたの“今”に寄り添う言葉と、出逢えますように。 \n詳しくはこちら＞＞＞ \n【開催日時】\n4月13日（日）11:00~15:00\n無料体験会　①11:00~12:00　②12:00~13:00　③13:00~14:00　④14:00~15:00\n各定員5名様　※事前予約制 \n【場所】\n旧古城医院　カフェスペース \n【ご予約・お問い合わせ】\n鶴川商店街周辺の観光・交流拠点施設「きとわ」\nTEL：0978-75-0583\nメールアドレス：tsuru-y@jcom.zaq.n
URL:https://www.imiru-kunisaki.fun/corner/2025-04-13/
LOCATION:鶴川商店街周辺観光・交流拠点施設「きとわ」\, 鶴川１３６５番地１\, 国東市国東町\, 大分県\, 873-0503\, Japan
CATEGORIES:イベント,国東町
ATTACH;FMTTYPE=image/jpeg:https://www.imiru-kunisaki.fun/wp-content/uploads/2025/04/onoresho_eyecatch-800X500-2.jpg
END:VEVENT
BEGIN:VEVENT
DTSTART;TZID=Asia/Tokyo:20250413T100000
DTEND;TZID=Asia/Tokyo:20250413T150000
DTSTAMP:20260423T101359
CREATED:20250405T063820Z
LAST-MODIFIED:20250406T011844Z
UID:1020-1744538400-1744556400@www.imiru-kunisaki.fun
SUMMARY:Creer marche【KITOWA”きとわ”】
DESCRIPTION:鶴川商店街周辺の観光・交流拠点施設【きとわ】のチャレンジショップで「creer marche 」開催！やわらかな風に誘われて、週末はマルシェへ。キッチンカーやハンドメイド作家さんなど、25のお店が並びます。ここにしかない美味しさと、手づくりの温もりに出会える場所。あなたの“とっておき”を見つけに来ませんか？ \n【開催日時】\n4月13日（日）10:00~15:00\n \n【場所】\n鶴川商店街周辺の観光・交流拠点施設「きとわ」\nチャレンジショップ \n【お問い合わせ】\n鶴川商店街周辺の観光・交流拠点施設「きとわ」\nTEL：0978-75-0583\nメールアドレス：tsuru-y@jcom.zaq.n
URL:https://www.imiru-kunisaki.fun/corner/2025-04-13-2/
LOCATION:鶴川商店街周辺観光・交流拠点施設「きとわ」\, 鶴川１３６５番地１\, 国東市国東町\, 大分県\, 873-0503\, Japan
CATEGORIES:イベント,国東町
ATTACH;FMTTYPE=image/jpeg:https://www.imiru-kunisaki.fun/wp-content/uploads/2025/04/creermarche_eyecatch-800X500-1.jpg
END:VEVENT
BEGIN:VEVENT
DTSTART;TZID=Asia/Tokyo:20250412T100000
DTEND;TZID=Asia/Tokyo:20250412T160000
DTSTAMP:20260423T101359
CREATED:20250405T082709Z
LAST-MODIFIED:20250406T011904Z
UID:1040-1744452000-1744473600@www.imiru-kunisaki.fun
SUMMARY:634そらマルシェ【大分の空 むさし】
DESCRIPTION:大分空港そばの直売所「大分の空 むさし」に、先週に引き続き、キッチンカーやハンドメイド雑貨が出店します♪やわらかな春風に誘われて、ふらりと立ち寄りたくなるような、あたたかな雰囲気のマルシェです。桜はそろそろ見納めですが、春のなごりを感じながら、美味しいものや素敵な出会いをお楽しみください。 \n【出店予定店舗一覧】\nsankitei\nチームにゃパン\nカレーハウス うえの\nまるしげ家\nおあげや \n【開催日時】\n4月12日（土）10:00~16:00\n \n【場所】\n大分の空 むさし 駐車場\n（国東市武蔵町糸原３５５０） \n【お問い合わせ】\n大分の空 むさし\n大分県国東市武蔵町糸原３５５０\nTEL： 0978-69-0056 \n“>
URL:https://www.imiru-kunisaki.fun/corner/634%e3%81%9d%e3%82%89%e3%83%9e%e3%83%ab%e3%82%b7%e3%82%a7%e3%80%90%e5%a4%a7%e5%88%86%e3%81%ae%e7%a9%ba%e3%80%91/
LOCATION:大分の空 むさし\, 糸原３５５０\, 国東市武蔵町\, 大分県\, 873-0421\, Japan
CATEGORIES:イベント,武蔵町
ATTACH;FMTTYPE=image/jpeg:https://www.imiru-kunisaki.fun/wp-content/uploads/2025/04/634soramarche_eyecatch-800X500-1.jpg
END:VEVENT
BEGIN:VEVENT
DTSTART;TZID=Asia/Tokyo:20250406T110000
DTEND;TZID=Asia/Tokyo:20250406T190000
DTSTAMP:20260423T101359
CREATED:20250404T132838Z
LAST-MODIFIED:20250406T011932Z
UID:994-1743937200-1743966000@www.imiru-kunisaki.fun
SUMMARY:つるがわ桜まつり
DESCRIPTION:🌸 つるがわ桜まつり 開催！ 🌸鶴川商店街周辺の観光・交流拠点施設「きとわ」で、春の訪れを楽しむ「つるがわ桜まつり」が開催されます！ \n🎪 ステージイベント🍱 地元で評判の飲食店が勢揃い！👧👦 子どもたちが楽しめる「こども屋台」🎯 懐かしの縁日や屋台も盛りだくさん！🎉 ビンゴ大会開催！ 食事券が当たるかも！？✨ 夜は「鶴川台夜桜ライトアップ」で幻想的なひとときを🌃 \n週末はぜひ「きとわ」へ🌸お花見と一緒に、春のお祭りをまるごと楽しもう！ \n詳しくはこちら＞＞＞ \n【開催日時】\n4月6日（日）11:00~19:00　※雨天中止 \n【場所】\n鶴川商店街周辺の観光・交流拠点施設「きとわ」 \n【お問い合わせ】\n鶴川商店街周辺の観光・交流拠点施設「きとわ」\nTEL：0978-75-0583\nメールアドレス：tsuru-y@jcom.zaq.ne.jp
URL:https://www.imiru-kunisaki.fun/corner/2025-04-06/
LOCATION:鶴川商店街周辺観光・交流拠点施設「きとわ」\, 鶴川１３６５番地１\, 国東市国東町\, 大分県\, 873-0503\, Japan
CATEGORIES:イベント,国東町
ATTACH;FMTTYPE=image/jpeg:https://www.imiru-kunisaki.fun/wp-content/uploads/2025/04/tsurugawasakuramatsuri_eyecatch-800X500-3.jpg
END:VEVENT
BEGIN:VEVENT
DTSTART;TZID=Asia/Tokyo:20250405T210000
DTEND;TZID=Asia/Tokyo:20250405T220000
DTSTAMP:20260423T101359
CREATED:20250325T163743Z
LAST-MODIFIED:20250326T141953Z
UID:870-1743886800-1743890400@www.imiru-kunisaki.fun
SUMMARY:お月さま撮影会【天球館】
DESCRIPTION:梅園の里天文台 天球館で毎月開かれる、お月さま撮影会。澄んだ夜空に輝く美しい月を、一緒にカメラに収めませんか？初心者の方も大歓迎。天文台の特別な設備を使って、いつもとは違う夜を楽しみましょう。定員は8名、当日先着順ですので、参加をご希望の方はお早めにお越しください。 \n【開催日時】\n4月5日（土）21:00~22:00 \n【場所】\n梅園の里天文台 天球館（国東市安岐町富清2244） \n【定員】\n8名　※当日先着順 \n【料金】\n観察料：大人500円・高校生:300円・小中学生200円\n※梅園の里 宿泊者様、団体（10名以上）は、お一人様100円引き \n◆年間パスポート：大人1500円・高校生900円・小中学生600円 \n【お問い合わせ】\n梅園の里天文台 天球館\nTEL:0978-97-2655\n開館時間：平日（月・水・木・金） 18:00～22:00　　土日祝・学童春夏冬休み 13:00〜22:00\n休館日：火曜日（祝祭日の場合は翌平日）
URL:https://www.imiru-kunisaki.fun/corner/2025-04-05/
LOCATION:梅園の里天文台 天球館\, 富清2244\, 国東市安岐町\, 大分県\, 873-0355\, Japan
CATEGORIES:イベント,安岐町
ATTACH;FMTTYPE=image/jpeg:https://www.imiru-kunisaki.fun/wp-content/uploads/2025/03/otsukisamasatsueikai_eyecatch-800X500-1.jpg
END:VEVENT
BEGIN:VEVENT
DTSTART;TZID=Asia/Tokyo:20250405T100000
DTEND;TZID=Asia/Tokyo:20250405T160000
DTSTAMP:20260423T101359
CREATED:20250405T081744Z
LAST-MODIFIED:20250406T012101Z
UID:1030-1743847200-1743868800@www.imiru-kunisaki.fun
SUMMARY:634そらマルシェ【大分の空 むさし】　4/5・4/12開催
DESCRIPTION:大分空港そばの直売所「大分の空 むさし」で、634そらマルシェが開催されます！ふんわり春風に誘われて、人気のキッチンカーや心のこもったハンドメイド雑貨が出店♪会場のまわりには満開の桜が咲き誇り、お花見にもぴったり🌸空港桜坂の桜並木も、この季節だけの特別な美しさを見せてくれます。心はずむ春のおでかけに、そらマルシェへぜひお立ち寄りください。 \n【出店店舗一覧】\nBull\nおしゃべりなスプーン\nモハズケバブ\n美咲丸\nユーリカ\nEasy do TERRA \n【開催日時】\n4月5日（土）10:00~16:00\n \n【場所】\n大分の空 むさし\n（国東市武蔵町糸原３５５０） \n【お問い合わせ】\n大分の空 むさし\n大分県国東市武蔵町糸原３５５０\nTEL： 0978-69-0056
URL:https://www.imiru-kunisaki.fun/corner/2025-04-05-2/
LOCATION:大分の空 むさし\, 糸原３５５０\, 国東市武蔵町\, 大分県\, 873-0421\, Japan
CATEGORIES:イベント,武蔵町
ATTACH;FMTTYPE=image/jpeg:https://www.imiru-kunisaki.fun/wp-content/uploads/2025/04/634soramarche_eyecatch-800X500-2.jpg
END:VEVENT
BEGIN:VEVENT
DTSTART;TZID=Asia/Tokyo:20250330T100000
DTEND;TZID=Asia/Tokyo:20250330T150000
DTSTAMP:20260423T101359
CREATED:20250306T081029Z
LAST-MODIFIED:20250324T044756Z
UID:755-1743328800-1743346800@www.imiru-kunisaki.fun
SUMMARY:【第38回】安岐ダム桜まつり
DESCRIPTION:安岐ダムのほとりに咲き誇る約3\,000本の桜。今年も「安岐ダム桜まつり」が開催されます。 \nふんわりと舞う花びらの下、餅まきやカラオケ、ビンゴ大会、そして迫力満点の富永神楽など、楽しいステージイベントが盛りだくさん。春のひとときを、ぜひご家族やご友人と一緒にお楽しみください。 \nまた、お祭りの前後１週間ほどは、夜間ライトアップも予定されています。幻想的な桜の景色が、昼とは違う美しさで皆さまを迎えます。（ライトアップ期間は、桜の開花状況によって変更になる場合があります） \n春の訪れを感じるひとときを、安岐ダムで過ごしてみませんか？ \n詳しくはこちら＞＞＞ \n【開催日時】\n3月30日（日）10:00~15:00　※雨天中止 \n【場所】\n安岐ダムいこいの広場（安岐町矢川） \n【お問い合わせ】\n朝来地区活性化推進協議会　稙田 武郎　TEL:080-2721-6778
URL:https://www.imiru-kunisaki.fun/corner/2025-03-30/
LOCATION:安岐ダムいこいの広場\, 矢川\, 国東市安岐町\, 大分県\, 873-0353\, Japan
CATEGORIES:イベント,安岐町
ATTACH;FMTTYPE=image/jpeg:https://www.imiru-kunisaki.fun/wp-content/uploads/2025/03/akidamu_eyecatch-800X500-2.jpg
END:VEVENT
BEGIN:VEVENT
DTSTART;TZID=Asia/Tokyo:20250323T100000
DTEND;TZID=Asia/Tokyo:20250323T140000
DTSTAMP:20260423T101359
CREATED:20250316T081825Z
LAST-MODIFIED:20250515T134112Z
UID:807-1742724000-1742738400@www.imiru-kunisaki.fun
SUMMARY:『こども子育て応援!! なっちゃんの家』に遊びに来ませんか？
DESCRIPTION:「なっちゃん」の家って？ \n「なっちゃんの家」は、0～18歳の子どもたちや保護者の方が、気軽に集まって楽しく交流できるあたたかい場所です。 \n地域の皆さんがスタッフとして工夫をこらし、毎回楽しいイベントを開催！ たくさんの笑顔があふれ、毎回150～200人もの方々が訪れています。 \n名前の由来は、武蔵児童館前にたたずむ少女像「なっちゃん」。まるでお友達の家に遊びに行くような気持ちで、どうぞ気軽に遊びに来てください！ \n《開催時期》\n毎月第4日曜日\n午前10時から午後2時まで \n詳しくはこちら＞＞＞ \n【開催日時】\n3月23日（日）10:00~14:00 \n【場所】\n武蔵児童館（国東市隣保館）\n国東市武蔵町古市1138番地1\n \n【参加料金】\n無料 \n【お問い合わせ】\n国東市役所 子育て支援課（国東市こども家庭センター）\n大分県国東市国東町鶴川149番地\nTEL 0978-72-5114\n平日8:30～17:00 （土日・祝祭日・年末年始を除く） \n 
URL:https://www.imiru-kunisaki.fun/corner/2025-03-23-3/
LOCATION:武蔵児童館（国東市隣保館）\, 古市1138番地1\, 国東市武蔵町\, 大分県\, 873-0412\, Japan
CATEGORIES:イベント,子育て,武蔵町
ATTACH;FMTTYPE=image/jpeg:https://www.imiru-kunisaki.fun/wp-content/uploads/2025/03/nacchannoie_eyecatch-800X500-1.jpg
END:VEVENT
BEGIN:VEVENT
DTSTART;TZID=Asia/Tokyo:20250322T100000
DTEND;TZID=Asia/Tokyo:20250323T180000
DTSTAMP:20260423T101400
CREATED:20250321T001814Z
LAST-MODIFIED:20250515T134046Z
UID:838-1742637600-1742752800@www.imiru-kunisaki.fun
SUMMARY:【3月22・23日】六郷満山アートフェスティバル「ハルノオマツリ」開催！
DESCRIPTION:権現崎キャンプ場「GONGEN CAMP」で六郷満山アートフェスティバル 「ハルノオマツリ」 開催！🌿✨ \n音楽やアート、マルシェ、ワークショップ——九州各地から集まる人々とともに、自然に寄り添う豊かなひとときを過ごしませんか？ \nワークショップでは、ギー作りや野草の教室、竹笛やかずらリース作り、アロマづくりなど、地球や暮らしを大切にする体験がたくさん。お子さまと一緒に楽しめる内容も盛りだくさんです！ \nさらに、健康蒸しやマッサージ、占いなど、心と身体を癒やすリラクゼーションも充実。オーガニックや地元の食材を使った美味しいごはんや飲み物を味わいながら、ゆったりとした時間をお過ごしください。 \n太陽が似合う権現崎キャンプ場で、春の訪れを感じるひとときを🌸 \n\n\n\n\n詳しくはこちら＞＞＞ \n【開催日時】\n2025年3月22日（土）10:00-midnight　　23日（日）10:00-18:00 \n【会場】\n権現崎キャンプ場「GONGEN CAMP」（国見町伊美崎3690） \n【内容】\n音楽やアート、マルシェ\nワークショップ（ギー作り、野草の教室、竹笛つくり、かずらリース作り、アロマづくりなど）\n健康蒸し、マッサージ、占いなど \n【主催・お問い合わせ】\n3RD:RainBOW
URL:https://www.imiru-kunisaki.fun/corner/2025-03-22-23/
LOCATION:GONGEN CAMP\, 伊美4652\, 国東市国見町\, 大分県\, 872-1401　\, Japan
CATEGORIES:イベント,国見町
ATTACH;FMTTYPE=image/jpeg:https://www.imiru-kunisaki.fun/wp-content/uploads/2025/03/harunoomatsuri_eyecatch-800X500-2.jpg
END:VEVENT
BEGIN:VEVENT
DTSTART;TZID=Asia/Tokyo:20250322T100000
DTEND;TZID=Asia/Tokyo:20250322T133000
DTSTAMP:20260423T101400
CREATED:20250318T042842Z
LAST-MODIFIED:20250515T134133Z
UID:817-1742637600-1742650200@www.imiru-kunisaki.fun
SUMMARY:秀渓まつり
DESCRIPTION:5年ぶりに、にぎやかで楽しい「秀渓まつり」が武蔵農村公園で開催されます！ \n御神楽をはじめ、さまざまなステージイベントが開催され、にぎやかな雰囲気に包まれます♪\nストラックアウトや射的で遊んだり、ふれあい動物コーナーでかわいい動物たちと触れ合ったり、子どもも大人も笑顔になれるコーナーもあります！ 大人気の「さ吉くんふわふわ」も登場します。\nさらに、おいしいグルメが楽しめるキッチンカーもやってくる！なんと綿菓子は無料‼️ \nそして、お楽しみの抽選会では、ダイソンの人気商品や高額ギフト券が当たるチャンスも✨ \nみんなで遊んで、笑って、思い出いっぱいのおまつりを楽しもう♪ \n詳しくはこちら＞＞＞ \n【開催日時】\n3月22日（土）10:00~13:30\n※抽選券は先着300名様　9:30〜11:30配布予定（一人一枚、なくなり次第終了） \n【場所】\n武蔵農村公園（武蔵総合支所・武蔵保健センター裏）通称：きのこ公園\n国東市武蔵町古市１２３１−１\n \n【参加料金】\n無料 \n【お問い合わせ・主催】\n社会福祉法人　秀渓会\nTEL 0978-69-0101
URL:https://www.imiru-kunisaki.fun/corner/2025-03-22/
LOCATION:武蔵農村公園\, 古市１２３１−１\, 国東市武蔵町\, 大分県\, 873-0412\, Japan
CATEGORIES:イベント,武蔵町
ATTACH;FMTTYPE=image/jpeg:https://www.imiru-kunisaki.fun/wp-content/uploads/2025/03/syuukeimatsuri_eyecatch-800X500-1-1.jpg
END:VEVENT
BEGIN:VEVENT
DTSTART;TZID=Asia/Tokyo:20250320T130000
DTEND;TZID=Asia/Tokyo:20250320T130000
DTSTAMP:20260423T101400
CREATED:20250306T082701Z
LAST-MODIFIED:20250515T134157Z
UID:761-1742475600-1742475600@www.imiru-kunisaki.fun
SUMMARY:諸田山神社御田植祭 （大分県指定無形民俗文化財）
DESCRIPTION:岐町明治の諸田地区に受け継がれる、心温まる伝統行事。 \n地区の山神社の境内を水田に見立て、神前で丁寧に田植えを行い、五穀豊穣や子孫繁栄を祈願します。 \n特徴的なのは、そのユニークな所作と滑稽な化粧。見ている人々を思わず笑顔にさせる、にぎやかで楽しいひとときが広がります。 \n長い歴史の中で受け継がれてきた、この特別な行事。ぜひ一度、その温かな雰囲気を味わってみませんか？ \n  \n【開催日時】\n3月20日（木）13:00~神事　　14:00〜演舞 \n【場所】\n諸田山神社（安岐町明治） \n【料金】\n無料 \n【お問い合わせ】\n国東市役所　文化財課　TEL:0978-72-2677
URL:https://www.imiru-kunisaki.fun/corner/2025-03-20/
LOCATION:諸田山神社\, 明治526番地\, 国東市安岐町\, 大分県\, 873-0352\, Japan
CATEGORIES:イベント,安岐町
ATTACH;FMTTYPE=image/jpeg:https://www.imiru-kunisaki.fun/wp-content/uploads/2025/03/morotayamajinjya_eyecatch-800X500-2.jpg
END:VEVENT
BEGIN:VEVENT
DTSTART;TZID=Asia/Tokyo:20250315T100000
DTEND;TZID=Asia/Tokyo:20250315T100000
DTSTAMP:20260423T101400
CREATED:20250306T072108Z
LAST-MODIFIED:20250306T082754Z
UID:749-1742032800-1742032800@www.imiru-kunisaki.fun
SUMMARY:文化芸能発表会  他（もちまき＆もちつき体験）
DESCRIPTION:国見文化協会と国見公民大学が主催する文化芸能発表会が開催されます！国見町で文化芸能活動をされている団体8組による成果発表が行われ、もちまきやもちつき体験など、そのほかの楽しいイベントも同日開催しています。地域の皆さんが集うこの素敵な機会、ぜひ足を運んでみてください！ \n詳しくはこちら＞＞＞ \n【開催日時】\n3月15日（日）10:00開演 \n【場所】\n国見生涯学習センターみんなんかんホール \n【料金】\n無料 \n【お問い合わせ】\n 国東市教育委員会社会教育課（国見）\n 電話番号：0978-82-1115
URL:https://www.imiru-kunisaki.fun/corner/2025-03-15_3/
LOCATION:国見みんなんかんホール\, 伊美２３０５−１\, 国東市国見町\, 大分県\, 872-1401\, Japan
CATEGORIES:イベント,国見町
END:VEVENT
END:VCALENDAR