BEGIN:VCALENDAR
VERSION:2.0
PRODID:-//いみ～る国東 - ECPv6.15.20//NONSGML v1.0//EN
CALSCALE:GREGORIAN
METHOD:PUBLISH
X-WR-CALNAME:いみ～る国東
X-ORIGINAL-URL:https://www.imiru-kunisaki.fun
X-WR-CALDESC:いみ～る国東 のイベント
REFRESH-INTERVAL;VALUE=DURATION:PT1H
X-Robots-Tag:noindex
X-PUBLISHED-TTL:PT1H
BEGIN:VTIMEZONE
TZID:Asia/Tokyo
BEGIN:STANDARD
TZOFFSETFROM:+0900
TZOFFSETTO:+0900
TZNAME:JST
DTSTART:20240101T000000
END:STANDARD
END:VTIMEZONE
BEGIN:VEVENT
DTSTART;TZID=Asia/Tokyo:20250712T090000
DTEND;TZID=Asia/Tokyo:20250712T140000
DTSTAMP:20260422T180045
CREATED:20250620T103303Z
LAST-MODIFIED:20250620T111308Z
UID:1488-1752310800-1752328800@www.imiru-kunisaki.fun
SUMMARY:きとわ朝市
DESCRIPTION:🍙【くにさき朝市 × おにむすびフェア】開催！ \n国東の新鮮な食材をたっぷり楽しめる朝市がオープン！漁師さん直送の鮮魚や地元の旬の食材が並びます🐟✨ \nそして今回は、くにさきおにむすび公式キャラクター**「オニムスジン」**も遊びに来てくれます！ \n会場では、いろんな種類の「くにさきおにむすび（おにぎり）」を販売🍙おにむすびをご購入いただいた方には、うれしい特典も！ \n🎁【先着100名様限定】会場でおにむすびを買って「くにさきおにむすび」ブースに持っていくと、**かき氷を無料でプレゼント！**🍧 \n🌅朝市は9:00から、おにむすび販売は10:00からスタート！ご家族やお友だちと、朝の国東を楽しみに来てくださいね。\n最新情報はこちら＞＞＞ \n\n【開催日時】\n7月12日（土）9:00-14:00\n※入場無料・小雨決行・荒天中止 \n【場所】\n「きとわ」鶴川商店街周辺観光・交流拠点施設\n国東市国東町鶴川1365番地1 \n【駐車場】\n・きとわ駐車場\n・櫻八幡神社駐車場\n・アスト国東駐車場 \n【主催・お問い合わせ】\n国東市　TEL 0978-72-5183
URL:https://www.imiru-kunisaki.fun/corner/2025-07-12/
LOCATION:鶴川商店街周辺観光・交流拠点施設「きとわ」\, 鶴川１３６５番地１\, 国東市国東町\, 大分県\, 873-0503\, Japan
CATEGORIES:イベント,国東町
ATTACH;FMTTYPE=image/jpeg:https://www.imiru-kunisaki.fun/wp-content/uploads/2025/06/kitowaasaichi_eyecatch-800X500.jpg
END:VEVENT
END:VCALENDAR