BEGIN:VCALENDAR
VERSION:2.0
PRODID:-//いみ～る国東 - ECPv6.15.20//NONSGML v1.0//EN
CALSCALE:GREGORIAN
METHOD:PUBLISH
X-ORIGINAL-URL:https://www.imiru-kunisaki.fun
X-WR-CALDESC:いみ～る国東 のイベント
REFRESH-INTERVAL;VALUE=DURATION:PT1H
X-Robots-Tag:noindex
X-PUBLISHED-TTL:PT1H
BEGIN:VTIMEZONE
TZID:Asia/Tokyo
BEGIN:STANDARD
TZOFFSETFROM:+0900
TZOFFSETTO:+0900
TZNAME:JST
DTSTART:20240101T000000
END:STANDARD
END:VTIMEZONE
BEGIN:VEVENT
DTSTART;TZID=Asia/Tokyo:20250720T210000
DTEND;TZID=Asia/Tokyo:20250720T213000
DTSTAMP:20260422T195459
CREATED:20250504T044611Z
LAST-MODIFIED:20250504T044630Z
UID:1259-1753045200-1753047000@www.imiru-kunisaki.fun
SUMMARY:夏の星座 実践教室【天球館】
DESCRIPTION:梅園の里天文台 天球館で夏の星座 実践教室が開催されます。\n夏の夜空を彩る美しい星々を一緒に観察し、星座の形や名前を学んでみませんか？\n夏の夜空に輝く星座を実際に観察しながら、星座の知識を深めます。星座の名前や特徴を知ることで、夜空が一層魅力的に感じられることでしょう。初めての方でも安心して参加できる内容ですので、この機会にぜひ星座観察の楽しさを体験してみてください。 \n【開催日時】\n7月20日（日）21:00~21:30 \n【場所】\n梅園の里天文台 天球館（国東市安岐町富清2244） \n【定員】\nなし　※応募不要 \n【料金】\n観覧料：大人500円・高校生:300円・小中学生200円\n※梅園の里 宿泊者様、団体（10名以上）は、お一人様100円引き \n◆年間パスポート：大人1500円・高校生900円・小中学生600円 \n【お問い合わせ】\n梅園の里天文台 天球館\nTEL:0978-97-2655\n開館時間：平日（月・水・木・金） 18:00～22:00　　土日祝・学童春夏冬休み 13:00〜22:00\n休館日：火曜日（祝祭日の場合は翌平日）
URL:https://www.imiru-kunisaki.fun/corner/2025-07-20/
LOCATION:梅園の里天文台 天球館\, 富清2244\, 国東市安岐町\, 大分県\, 873-0355\, Japan
CATEGORIES:イベント,安岐町
ATTACH;FMTTYPE=image/jpeg:https://www.imiru-kunisaki.fun/wp-content/uploads/2025/05/natsunosaiza_eyecatch-800X500-1.jpg
END:VEVENT
END:VCALENDAR