BEGIN:VCALENDAR
VERSION:2.0
PRODID:-//いみ～る国東 - ECPv6.15.20//NONSGML v1.0//EN
CALSCALE:GREGORIAN
METHOD:PUBLISH
X-ORIGINAL-URL:https://www.imiru-kunisaki.fun
X-WR-CALDESC:いみ～る国東 のイベント
REFRESH-INTERVAL;VALUE=DURATION:PT1H
X-Robots-Tag:noindex
X-PUBLISHED-TTL:PT1H
BEGIN:VTIMEZONE
TZID:Asia/Tokyo
BEGIN:STANDARD
TZOFFSETFROM:+0900
TZOFFSETTO:+0900
TZNAME:JST
DTSTART:20240101T000000
END:STANDARD
END:VTIMEZONE
BEGIN:VEVENT
DTSTART;TZID=Asia/Tokyo:20250721T100000
DTEND;TZID=Asia/Tokyo:20250721T153000
DTSTAMP:20260422T180228
CREATED:20250708T160142Z
LAST-MODIFIED:20250714T050057Z
UID:1540-1753092000-1753111800@www.imiru-kunisaki.fun
SUMMARY:古代体験てんこもり！弥生アラカルト【土器づくり】
DESCRIPTION:弥生時代の暮らしやものづくりを楽しみながら体験できる、毎年人気のイベント「弥生アラカルト」。今年も土器づくりをはじめ、いろいろな体験が楽しめます♪\n体験内容は日によって異なり、大人の方だけの参加も大歓迎です。\n古代の知恵や技にふれながら、家族や友達と一緒に楽しい時間を過ごしてみませんか？ \n🏺 体験メニュー（※日程ごとに異なります）\n①土器づくり\n②デカ勾玉づくり／特殊勾玉づくり\n③草木染め体験／発掘体験\n④アンギン織り\n⑤古代狩猟体験／とんぼ玉づくり\n \n各メニューの開催日はこちら＞＞＞\n \n※作業を伴いますので、動きやすく汚れても良い服装でお越しください。みなさまのご参加をお待ちしています！ \n①土器作り\n弥生人の技術に挑戦！安国寺式 土器を作ってみよう♪\n※焼き上げてお渡しするまで約１ヵ月かかります。\n \n【開催日時】\n7月21日（月・祝日）\n⚫午前の部　開始10時00分～終了予定12時00分\n⚫午後の部　開始13時30分～終了予定15時30分 \n【場所】\n弥生のムラ　国東市歴史体験学習館 \n【参加料金】\n300円 \n【対象年齢】\n小学生以上　※保護者同伴 \n【定員】※完全予約制（先着順）\n15名 \n【予約について】\n詳しくはこちら＞＞＞ \n【お申込み・お問い合わせ】\n弥生のムラ 国東市歴史体験学習館\nTEL：0978－72－2677\n（月曜日・祝日の翌日は休館）
URL:https://www.imiru-kunisaki.fun/corner/2025-07-21-1/
LOCATION:弥生のムラ　国東市歴史体験学習館\, 国東市国東町安国寺1639番地2\, 国東市\, 大分県\, 873-0504\, Japan
CATEGORIES:イベント,体験,国東町
ATTACH;FMTTYPE=image/jpeg:https://www.imiru-kunisaki.fun/wp-content/uploads/2025/07/yayoiarakaruto2025_eyecatch-800X500.jpg
END:VEVENT
END:VCALENDAR