BEGIN:VCALENDAR
VERSION:2.0
PRODID:-//いみ～る国東 - ECPv6.15.20//NONSGML v1.0//EN
CALSCALE:GREGORIAN
METHOD:PUBLISH
X-WR-CALNAME:いみ～る国東
X-ORIGINAL-URL:https://www.imiru-kunisaki.fun
X-WR-CALDESC:いみ～る国東 のイベント
REFRESH-INTERVAL;VALUE=DURATION:PT1H
X-Robots-Tag:noindex
X-PUBLISHED-TTL:PT1H
BEGIN:VTIMEZONE
TZID:Asia/Tokyo
BEGIN:STANDARD
TZOFFSETFROM:+0900
TZOFFSETTO:+0900
TZNAME:JST
DTSTART:20250101T000000
END:STANDARD
END:VTIMEZONE
BEGIN:VEVENT
DTSTART;TZID=Asia/Tokyo:20260103T200000
DTEND;TZID=Asia/Tokyo:20260103T220000
DTSTAMP:20260422T052821
CREATED:20251222T070811Z
LAST-MODIFIED:20251224T005428Z
UID:2383-1767470400-1767477600@www.imiru-kunisaki.fun
SUMMARY:しぶんぎ座流星群観察会【天球館】
DESCRIPTION:新年の夜空を華やかに彩る✨しぶんぎ座流星群観察会🌠一年の始まりを告げるしぶんぎ座流星群。夜空を切り裂くように現れる明るい流れ星を、ゆったりと観察してみませんか？🌌 \n星空観察が初めての方やお子さま連れの方も大歓迎🔭天文スタッフが星座や流星群の見どころを分かりやすく解説しますので、安心してお楽しみいただけます。 \n澄んだ冬の空気の中、流れ星に願いを込めて✨新年ならではの特別なひとときを、ぜひご一緒にお過ごしください❄️🌠 \n【開催日時】\n1月3日（日）20:00~22:00 \n【定員】\nなし　※申込不要 \n【場所】\n梅園の里天文台 天球館（国東市安岐町富清2244） \n【料金】\n観察料：大人500円・高校生:300円・小中学生200円\n※梅園の里 宿泊者様、団体（10名以上）は、お一人様100円引き \n◆年間パスポート：大人1500円・高校生900円・小中学生600円 \n【お問い合わせ】\n梅園の里天文台 天球館\nTEL:0978-97-2655\n開館時間：平日（月・水・木・金） 18:00～22:00　　土日祝・学童春夏冬休み 13:00〜22:00\n休館日：火曜日（祝祭日の場合は翌平日）
URL:https://www.imiru-kunisaki.fun/corner/2026-1-3/
LOCATION:梅園の里天文台 天球館\, 富清2244\, 国東市安岐町\, 大分県\, 873-0355\, Japan
CATEGORIES:イベント,安岐町
ATTACH;FMTTYPE=image/jpeg:https://www.imiru-kunisaki.fun/wp-content/uploads/2025/12/shibunngizaryuuseigunnkannsatsukai-800X500.jpg
END:VEVENT
BEGIN:VEVENT
DTSTART;TZID=Asia/Tokyo:20260104T100000
DTEND;TZID=Asia/Tokyo:20260125T170000
DTSTAMP:20260422T052821
CREATED:20251222T020708Z
LAST-MODIFIED:20251222T043012Z
UID:2345-1767520800-1769360400@www.imiru-kunisaki.fun
SUMMARY:図書館「雑誌付録プレゼント」イベント
DESCRIPTION:くにさき図書館で開催された📚✨**「雑誌付録プレゼント企画 第1弾」**は、たくさんの方にご参加いただき、大好評のうちに終了しました。 \nそしてこのたび、うれしい声にお応えして🌈**第2弾の開催が決定！**🌈 \n本を借りてくださった方へ、🎁✨先着順で雑誌の付録をプレゼントいたします。 \n新しい年のはじまりに、本との出会いとちょっとしたお楽しみを📖💐みなさまのご来館を、心よりお待ちしております☺️🌸 \n\n\n\n\n\n\n\n【開催日時】\n1月4日（日）〜なくなり次第終了 \n【場所】\n3町の図書館（国見・武蔵・安岐） \n【参加料金】\n無料 \n【お問い合わせ】\n下記の各図書館へご連絡ください。\n国見図書館：0978-82-1585\n武蔵図書館：0978-69-0946\n安岐図書館：0978-67-3551
URL:https://www.imiru-kunisaki.fun/corner/2026-01-04/
LOCATION:3町の図書館（国見・武蔵・安岐）\, 大分県\, Japan
CATEGORIES:イベント,国見町,安岐町,武蔵町
ATTACH;FMTTYPE=image/jpeg:https://www.imiru-kunisaki.fun/wp-content/uploads/2025/12/tosyokannzasshifurokupresent-800X500.jpg
END:VEVENT
BEGIN:VEVENT
DTSTART;TZID=Asia/Tokyo:20260110T090000
DTEND;TZID=Asia/Tokyo:20260110T120000
DTSTAMP:20260422T052821
CREATED:20251222T021148Z
LAST-MODIFIED:20251222T070159Z
UID:2352-1768035600-1768046400@www.imiru-kunisaki.fun
SUMMARY:きとわ朝市
DESCRIPTION:🌅🥬 きとわで朝市、開催します！ 🥐☕ \n「朝の幸せ、きっと見つかる！」を合い言葉に、鶴川の新たな名物として令和7年7月に誕生した ✨きとわ朝市✨。 \n第3回目となる今回も、🏡🍴市内7店舗の事業者が集まり、国東ならではの自慢のグルメを中心に、心を込めておもてなしします😊 \nご家族やお友達、ご近所の方を誘って、📅 **1月10日（土）**の朝は、やさしいにぎわいとおいしい出会いを楽しみに🌿☀️ きとわへぜひお越しください♪ \n朝のひとときが、きっと特別になります✨ \n詳しくはこちら＞＞＞ \n【開催日時】\n1月10日（土）9:00-12:00\n※入場無料 \n【場所】\n「きとわ」鶴川商店街周辺観光・交流拠点施設\n国東市国東町鶴川1365番地1 \n【駐車場】\n・きとわ駐車場\n・櫻八幡神社駐車場\n・アスト国東駐車場 \n【主催・お問い合わせ】\n国東市観光協会・地域産業創造課\nTEL 0978-72-5183
URL:https://www.imiru-kunisaki.fun/corner/2026-01-10/
LOCATION:鶴川商店街周辺観光・交流拠点施設「きとわ」\, 鶴川１３６５番地１\, 国東市国東町\, 大分県\, 873-0503\, Japan
CATEGORIES:イベント,国東町
ATTACH;FMTTYPE=image/jpeg:https://www.imiru-kunisaki.fun/wp-content/uploads/2025/12/kitowaasaichi01-110-800X500.jpg
END:VEVENT
BEGIN:VEVENT
DTSTART;TZID=Asia/Tokyo:20260111T140000
DTEND;TZID=Asia/Tokyo:20260111T140000
DTSTAMP:20260422T052821
CREATED:20250618T041011Z
LAST-MODIFIED:20251222T014645Z
UID:1443-1768140000-1768140000@www.imiru-kunisaki.fun
SUMMARY:令和7年度 国東市「二十歳のつどい」
DESCRIPTION:令和7年度 国東市「二十歳のつどい」を開催いたします。節目の年を迎える皆さんの門出を祝うこの日、式典や記念講演に加え、中学校ごとの同窓会も予定しております。 \n懐かしい顔ぶれと再会し、語り合える温かなひとときを、冬の帰省に合わせて過ごしてみませんか？皆さまのご参加を、心よりお待ちしております。\n \n【開催日時】\n令和8年1月11日（日）　開会：14時（受付：13時〜） \n【場所】\nアストくにさき  アストホール \n【対象者】\n平成17年4月2日～平成18年4月1日生まれの方で、次の（1）または（2）に該当する方\n（1）国東市に住民票がある方（令和7年5月1日時点）\n（2）国東市内の中学校を卒業した方（現在は、市外に住んでいる方も含む） \n※6月より案内文書を送付します。対象者の方で案内文書が届いていない場合は、下記お問合せ先までご連絡ください。 \n【内容】\n式典、記念講演、記念撮影、恩師の先生方を囲んでの同窓会等\n（※同窓会会場はアストくにさきアグリホールでの開催を予定しています）\n \n【実行委員の募集】\n「二十歳のつどい」開催にあたり、実行委員を募集中です。\n実行委員は、主に同窓会の企画と運営を行っていただきます。\n実行委員となり、より思い出に残るつどいにしませんか？興味や関心のある方はお問い合わせください。\n実行委員の申込み締切り：10月31日（金曜日）まで\n詳しくはこちら＞＞＞\n \n【お問い合わせ】\n国東市教育委員会\n社会教育課 社会教育係（アストくにさき1階）\nTEL 0978-72-2121\nFAX 0978-72-4070
URL:https://www.imiru-kunisaki.fun/corner/2026-01-11/
LOCATION:アスト国東\, 鶴川160-2\, 国東町\, 大分県\, 873-0503\, Japan
CATEGORIES:イベント,国東町
ATTACH;FMTTYPE=image/jpeg:https://www.imiru-kunisaki.fun/wp-content/uploads/2025/06/hatachinotudoi_eyecatch-800X500.jpg
END:VEVENT
BEGIN:VEVENT
DTSTART;TZID=Asia/Tokyo:20260112T210000
DTEND;TZID=Asia/Tokyo:20260112T220000
DTSTAMP:20260422T052821
CREATED:20251222T071305Z
LAST-MODIFIED:20251224T010841Z
UID:2385-1768251600-1768255200@www.imiru-kunisaki.fun
SUMMARY:オリオン大星雲撮影会【天球館】
DESCRIPTION:冬の星空に広がる幻想的な光✨オリオン大星雲撮影会📸オリオン座の中心に輝く、壮大で美しいオリオン大星雲。肉眼では見えにくい淡い光や色彩を、カメラでじっくり写し出してみませんか？🌌 \n星空撮影が初めての方も大歓迎🔰天文台の望遠鏡や専用機材を使いながら、撮影方法やカメラ設定をスタッフが丁寧にサポートしますので、安心してご参加いただけます🔭 \n冬の澄んだ夜空のもと、宇宙の奥深さを感じる特別な時間を✨感動の一枚を撮りに、ぜひご参加ください❄️🌟 \n定員は8名、当日先着順となっていますので、参加をご希望の方はお早めにお越しください🚀 \n【開催日時】\n1月12日（月）21:00~22:00 \n【場所】\n梅園の里天文台 天球館（国東市安岐町富清2244） \n【定員】\n8名　※当日先着順 \n【料金】\n観察料：大人500円・高校生:300円・小中学生200円\n※梅園の里 宿泊者様、団体（10名以上）は、お一人様100円引き \n◆年間パスポート：大人1500円・高校生900円・小中学生600円 \n【お問い合わせ】\n梅園の里天文台 天球館\nTEL:0978-97-2655\n開館時間：平日（月・水・木・金） 18:00～22:00　　土日祝・学童春夏冬休み 13:00〜22:00\n休館日：火曜日（祝祭日の場合は翌平日）
URL:https://www.imiru-kunisaki.fun/corner/2026-1-12/
LOCATION:梅園の里天文台 天球館\, 富清2244\, 国東市安岐町\, 大分県\, 873-0355\, Japan
CATEGORIES:イベント,安岐町
ATTACH;FMTTYPE=image/jpeg:https://www.imiru-kunisaki.fun/wp-content/uploads/2025/12/orionndaiseiunnsatsueikai-800X500.jpg
END:VEVENT
BEGIN:VEVENT
DTSTART;TZID=Asia/Tokyo:20260116T103000
DTEND;TZID=Asia/Tokyo:20260116T113000
DTSTAMP:20260422T052821
CREATED:20251222T015543Z
LAST-MODIFIED:20251222T015543Z
UID:2342-1768559400-1768563000@www.imiru-kunisaki.fun
SUMMARY:離乳食教室
DESCRIPTION:「離乳食っていつから始めたらいいの？」「どんな風に進めていけばいいの？」そんなお悩みはありませんか？離乳食の基本や進め方についてわかりやすくお話しします♪ ちょっとしたコツを知るだけで、ママやパパの負担もぐっと軽くなりますよ！お気軽にご参加くださいね。\n※日程や内容は急に変更になることがあります。あらかじめご了承ください。 \n≪対象≫ おおむね生後3か月～1歳ごろまでのお子さんがいる、ご家族 \n≪内容≫ 離乳食の基本や進め方のお話に加えて、離乳食体験（大人の食事からの取り分けメニュー試食）\n※事前申込必要 \nR7年度　離乳食教室 \n【開催日時】\n1月16日（金）10:30~11:30 \n【場所】\n武蔵保健福祉センター（和室）\n※参加者の状況により会場が変更になることがございます。 \n【参加料金】\n無料 \n【持ち物】\n・赤ちゃんのお出かけセット（お気に入りのおもちゃ、着替えやオムツ等）\n・いつも使っているスプーン（離乳食を開始している方）\n・授乳の準備、ママの飲み物、バスタオル、母子手帳 \n【予約方法】\n電話もしくは、母子手帳アプリでのWeb予約\n※母子手帳アプリ『母子モ』→『地域の子育て情報』→『子育てイベント』 \n【お申込み・お問い合わせ】\n国東市役所 子育て支援課（国東市こども家庭センター）\n大分県国東市国東町鶴川149番地\nTEL 0978-72-5114\n平日8:30～17:00 （土日・祝祭日・年末年始を除く）
URL:https://www.imiru-kunisaki.fun/corner/2026-01-16/
LOCATION:武蔵保健福祉センター\, 古市１０８６−１\, 国東市武蔵町\, 大分県\, 873-0412\, Japan
CATEGORIES:イベント,子育て,教室,武蔵町
ATTACH;FMTTYPE=image/jpeg:https://www.imiru-kunisaki.fun/wp-content/uploads/2025/12/rinyuushokukyoushitsu-01-800X500.r.jpg
END:VEVENT
BEGIN:VEVENT
DTSTART;TZID=Asia/Tokyo:20260117T210000
DTEND;TZID=Asia/Tokyo:20260117T213000
DTSTAMP:20260422T052821
CREATED:20251222T063522Z
LAST-MODIFIED:20251222T063522Z
UID:2367-1768683600-1768685400@www.imiru-kunisaki.fun
SUMMARY:冬の星座 実践教室【天球館】
DESCRIPTION:澄みきった冬の夜空にきらめく、物語のような星座たち✨❄️🌌 **「冬の星座実践教室」**では、星座の探し方から望遠鏡🔭の使い方まで、実際の夜空を見上げながら楽しく学べます。 \nオリオン座やおうし座、ふたご座など、冬ならではの明るく美しい星々を一緒に見つけてみませんか？🌟星空観察のプロがやさしくサポートするので、初めての方やお子さま連れのご家族も安心してご参加いただけます😊 \n寒い季節だからこそ出会える、❄️✨星たちの輝きとともに過ごす特別なひとときを──🌙 \n【開催日時】\n1月17日（土）21:00~21:30 \n【場所】\n梅園の里天文台 天球館（国東市安岐町富清2244） \n【定員】\nなし　※応募不要 \n【料金】\n観覧料：大人500円・高校生:300円・小中学生200円\n※梅園の里 宿泊者様、団体（10名以上）は、お一人様100円引き \n◆年間パスポート：大人1500円・高校生900円・小中学生600円 \n【お問い合わせ】\n梅園の里天文台 天球館\nTEL:0978-97-2655\n開館時間：平日（月・水・木・金） 18:00～22:00　　土日祝・学童春夏冬休み 13:00〜22:00\n休館日：火曜日（祝祭日の場合は翌平日）
URL:https://www.imiru-kunisaki.fun/corner/2026-1-17/
LOCATION:梅園の里天文台 天球館\, 富清2244\, 国東市安岐町\, 大分県\, 873-0355\, Japan
CATEGORIES:イベント,安岐町,教室
ATTACH;FMTTYPE=image/jpeg:https://www.imiru-kunisaki.fun/wp-content/uploads/2025/12/fuyunoseizajissennkyoushitsu-800X500.jpg
END:VEVENT
BEGIN:VEVENT
DTSTART;TZID=Asia/Tokyo:20260122T100000
DTEND;TZID=Asia/Tokyo:20260122T120000
DTSTAMP:20260422T052821
CREATED:20251222T015218Z
LAST-MODIFIED:20251222T015258Z
UID:2337-1769076000-1769083200@www.imiru-kunisaki.fun
SUMMARY:令和7年度 プレママ・プレパパ教室
DESCRIPTION:もうすぐ赤ちゃんを迎えるプレママ・プレパパの皆さん、助産師と一緒に「自分らしいお産」について考えてみませんか？ \n出産への不安を和らげるだけでなく、同じ気持ちを持つ仲間と出会える機会にもなりますよ。\nぜひ、お気軽にご参加ください！ \n〈期間・開催日〉\n令和7年4月から令和8年3月\n※詳しい日程はこちらのサイトでご確認ください。令和7年度プレママ・プレパパ教室 \n〈対象者〉\n妊娠20週頃から出産までの妊婦さんとその夫・パートナー（ご家族の参加は要相談）\n※おひとりでの参加も大歓迎です！\n〈テーマ〉\n助産師と考える「アフターバースプラン」\n※事前申込必要 \n\n【開催日時】\n1月22日（木）10:00~12:00 ※トイレ休憩あり \n【場所】\n武蔵保健福祉センター ボランティア室\n※都合により変更となる場合がございます。 \n【参加料金】\n無料 \n【持ち物】\n母子健康手帳、筆記用具、飲み物 \n【予約方法】\n電話もしくは、母子手帳アプリでのWeb予約\n※母子手帳アプリ『母子モ』→『地域の子育て情報』→『子育てイベント』 \n【その他】\n託児が必要な方は、ご相談ください。 \n【お申込み・お問い合わせ】\n国東市役所 子育て支援課 （国東市こども家庭センター）\n大分県国東市国東町鶴川149番地\nTEL 0978-72-5114\n平日8:30～17:00 （土日・祝祭日・年末年始を除く）
URL:https://www.imiru-kunisaki.fun/corner/2026-01-22/
LOCATION:武蔵保健福祉センター\, 古市１０８６−１\, 国東市武蔵町\, 大分県\, 873-0412\, Japan
CATEGORIES:イベント,教室,武蔵町
ATTACH;FMTTYPE=image/jpeg:https://www.imiru-kunisaki.fun/wp-content/uploads/2025/12/puremamapurepapakyoushitsu-_eyecatch-1-800X500.jpg
END:VEVENT
BEGIN:VEVENT
DTSTART;TZID=Asia/Tokyo:20260125T210000
DTEND;TZID=Asia/Tokyo:20260125T220000
DTSTAMP:20260422T052821
CREATED:20251222T064138Z
LAST-MODIFIED:20251222T065342Z
UID:2370-1769374800-1769378400@www.imiru-kunisaki.fun
SUMMARY:木星撮影会【天球館】
DESCRIPTION:🌌✨ 木星撮影会 開催！ 📸🔭 \n夜空にひときわ明るく輝く 木星。この撮影会では、天体望遠鏡を使って木星を観察しながら、📷✨実際に撮影にチャレンジします。 \n木星の縞模様や、タイミングが合えば🛰️ガリレオ衛星の姿も見られるかも…？星空観察や天体撮影が初めての方も、スタッフがやさしくサポートしますので安心してご参加ください😊 \n宇宙の神秘を間近に感じる、🌠特別なひとときを一緒に楽しみましょう。 \n定員は 8名、当日先着順となっていますので、参加をご希望の方はお早めにお越しください 🚀✨ \n\n\n\n\n\n\n\n\n\n\n\n\n\n【開催日時】\n1月25日（日）21:00~22:00 \n【場所】\n梅園の里天文台 天球館（国東市安岐町富清2244） \n【定員】\n8名　※当日先着順 \n【料金】\n観察料：大人500円・高校生:300円・小中学生200円\n※梅園の里 宿泊者様、団体（10名以上）は、お一人様100円引き \n◆年間パスポート：大人1500円・高校生900円・小中学生600円 \n【お問い合わせ】\n梅園の里天文台 天球館\nTEL:0978-97-2655\n開館時間：平日（月・水・木・金） 18:00～22:00　　土日祝・学童春夏冬休み 13:00〜22:00\n休館日：火曜日（祝祭日の場合は翌平日）
URL:https://www.imiru-kunisaki.fun/corner/2026-1-25/
LOCATION:梅園の里天文台 天球館\, 富清2244\, 国東市安岐町\, 大分県\, 873-0355\, Japan
CATEGORIES:イベント,安岐町
ATTACH;FMTTYPE=image/jpeg:https://www.imiru-kunisaki.fun/wp-content/uploads/2025/12/mokuseisatsueikai-800X500.jpg
END:VEVENT
BEGIN:VEVENT
DTSTART;TZID=Asia/Tokyo:20260131T210000
DTEND;TZID=Asia/Tokyo:20260131T220000
DTSTAMP:20260422T052821
CREATED:20251222T065831Z
LAST-MODIFIED:20251222T065831Z
UID:2376-1769893200-1769896800@www.imiru-kunisaki.fun
SUMMARY:お月様撮影会【天球館】
DESCRIPTION:梅園の里天文台 天球館で毎月開催される🌙お月さま撮影会📸澄んだ夜空に輝く美しい月を、みんなで一緒にカメラに収めてみませんか？✨ \n初心者の方も大歓迎🔰天文台ならではの特別な設備を使って、いつもとはひと味違う夜のひとときを楽しみましょう🌌 \n定員は8名、当日先着順となっていますので、参加をご希望の方はお早めにお越しください🚀 \n【開催日時】\n12月6日（土）21:00~22:00 \n【場所】\n梅園の里天文台 天球館（国東市安岐町富清2244） \n【定員】\n8名　※当日先着順 \n【料金】\n観察料：大人500円・高校生:300円・小中学生200円\n※梅園の里 宿泊者様、団体（10名以上）は、お一人様100円引き \n◆年間パスポート：大人1500円・高校生900円・小中学生600円 \n【お問い合わせ】\n梅園の里天文台 天球館\nTEL:0978-97-2655\n開館時間：平日（月・水・木・金） 18:00～22:00　　土日祝・学童春夏冬休み 13:00〜22:00\n休館日：火曜日（祝祭日の場合は翌平日）
URL:https://www.imiru-kunisaki.fun/corner/2026-1-31/
LOCATION:梅園の里天文台 天球館\, 富清2244\, 国東市安岐町\, 大分県\, 873-0355\, Japan
CATEGORIES:イベント,安岐町
ATTACH;FMTTYPE=image/jpeg:https://www.imiru-kunisaki.fun/wp-content/uploads/2025/12/otsukisamasatsueikai-800X500.jpg
END:VEVENT
END:VCALENDAR