BEGIN:VCALENDAR
VERSION:2.0
PRODID:-//いみ～る国東 - ECPv6.15.20//NONSGML v1.0//EN
CALSCALE:GREGORIAN
METHOD:PUBLISH
X-ORIGINAL-URL:https://www.imiru-kunisaki.fun
X-WR-CALDESC:いみ～る国東 のイベント
REFRESH-INTERVAL;VALUE=DURATION:PT1H
X-Robots-Tag:noindex
X-PUBLISHED-TTL:PT1H
BEGIN:VTIMEZONE
TZID:Asia/Tokyo
BEGIN:STANDARD
TZOFFSETFROM:+0900
TZOFFSETTO:+0900
TZNAME:JST
DTSTART:20240101T000000
END:STANDARD
END:VTIMEZONE
BEGIN:VEVENT
DTSTART;TZID=Asia/Tokyo:20250314T123000
DTEND;TZID=Asia/Tokyo:20250314T160000
DTSTAMP:20260423T133454
CREATED:20250306T032258Z
LAST-MODIFIED:20250306T033004Z
UID:739-1741955400-1741968000@www.imiru-kunisaki.fun
SUMMARY:プロに学ぶ商品開発～夢と希望をのせて、宇宙に羽ばたいたブラックモンブラン？！～
DESCRIPTION:宇宙港の未来を考える公開授業、開催！ \n宇宙港を どんな風に盛り上げ、PRしていくのか？\nさまざまな人を巻き込みながら、今回 「梅園プロジェクト」 の一環として、特別な公開授業を開催します！ \nゲストには、宇宙とつながりのある 竹下製菓「ブラックモンブラン」商品開発室長・松野氏 をお迎えします。\n「なぜブラックモンブランが宇宙と関係あるの？」と思った方もいるかもしれません。\n実は… ブラックモンブランは宇宙へ行ったことがあるんです🚀🚀 \nアイス × 宇宙 × 商品開発\nさまざまな視点から深掘りする今回の公開授業、見どころ満載です！ \n🔹 第一部：パネルトーク & 公開授業\n国東市長、梅園プロジェクト理事長、「ゆわえば2」のメンバー、竹下製菓・松野室長による パネルトーク からスタート。その後、公開授業へと進みます。 \n🔹 第二部：交流会\nパネルトークの参加者を囲み、より深い話ができる交流会を開催。国東高校生も参加予定で、どんな質問が飛び出すのかドキドキ・ワクワクです！ \n📌 開催日時・場所\n📅 3月14日（金）13:00～\n📍 アストくにさき マルチホール\n📝 定員：50名（要申込） \n今後の商品開発や宇宙港への興味がギュッと詰まった特別な機会、ぜひご参加ください！ \n参加申し込みは 以下のフォームよりお願いいたします。\n参加申し込みフォーム \n👽 司会はエミリー星人！\nお楽しみに！
URL:https://www.imiru-kunisaki.fun/corner/%e3%83%97%e3%83%ad%e3%81%ab%e5%ad%a6%e3%81%b6%e5%95%86%e5%93%81%e9%96%8b%e7%99%ba%ef%bd%9e%e5%a4%a2%e3%81%a8%e5%b8%8c%e6%9c%9b%e3%82%92%e3%81%ae%e3%81%9b%e3%81%a6%e3%80%81%e5%ae%87%e5%ae%99%e3%81%ab/
LOCATION:アスト国東マルチホール\, 鶴川160番地2\, 国東市国東町\, 大分県\, 873-0503\, Japan
CATEGORIES:セミナー・勉強会,国東町
ATTACH;FMTTYPE=image/jpeg:https://www.imiru-kunisaki.fun/wp-content/uploads/2025/03/takshitaseika_eyecatch-800x500-1.jpg
END:VEVENT
END:VCALENDAR