BEGIN:VCALENDAR
VERSION:2.0
PRODID:-//いみ～る国東 - ECPv6.15.20//NONSGML v1.0//EN
CALSCALE:GREGORIAN
METHOD:PUBLISH
X-WR-CALNAME:いみ～る国東
X-ORIGINAL-URL:https://www.imiru-kunisaki.fun
X-WR-CALDESC:いみ～る国東 のイベント
REFRESH-INTERVAL;VALUE=DURATION:PT1H
X-Robots-Tag:noindex
X-PUBLISHED-TTL:PT1H
BEGIN:VTIMEZONE
TZID:Asia/Tokyo
BEGIN:STANDARD
TZOFFSETFROM:+0900
TZOFFSETTO:+0900
TZNAME:JST
DTSTART:20240101T000000
END:STANDARD
END:VTIMEZONE
BEGIN:VEVENT
DTSTART;TZID=Asia/Tokyo:20251004T100000
DTEND;TZID=Asia/Tokyo:20251004T130000
DTSTAMP:20260422T120832
CREATED:20250908T025847Z
LAST-MODIFIED:20250911T020401Z
UID:1924-1759572000-1759582800@www.imiru-kunisaki.fun
SUMMARY:腸からきれいに！紫もち麦粉で作る水キムチ＆パティシエスイーツ【国東おだやか博2025】
DESCRIPTION:🌾 むらさきもち麦の魅力を味わう特別教室！生産者直伝✨ 乳酸菌たっぷりで子どもも食べやすい「水キムチ作り」体験🥒💚さらに、パティシエが目の前で仕上げる、むらさきもち麦粉を使ったヘルシースイーツもご堪能いただけます🍰✨嬉しいお土産付きで、学んで・作って・味わえる贅沢なひとときをお楽しみください🎁 \n【開催日時】\n10月4日（土）10:00~13:00\n\n【参加料金】\n4\,300円\n\n【場所】\n武蔵中央公民館（セントラルホール）隣\n（国東市武蔵町古市1107-1）\n\n【定員】\n12名　※定員になり次第締切\n\n【持ち物】\nエプロン、三角巾、お手拭き\n\n【大まかな行程】\n10：00開始・美腸講座→水キムチ作り→水キムチ作りの簡単アレンジ調理　→11：45会食→片付け→13:00終了\n\n【申込締切】\n9月29日（月）※定員になり次第締切\n\n【お申込み・お問い合わせ】\nお申し込みはこちら＞＞＞\n一般社団法人国東市観光協会\nTEL 0978-73-0962 (受付時間 9:00 ~ 17:00)
URL:https://www.imiru-kunisaki.fun/corner/2025-10-4-3/
LOCATION:大分県
CATEGORIES:イベント,おだやか博,体験,武蔵町
ATTACH;FMTTYPE=image/jpeg:https://www.imiru-kunisaki.fun/wp-content/uploads/2025/09/tyoukarakireini_eyecatch-800X500.jpg
END:VEVENT
BEGIN:VEVENT
DTSTART;TZID=Asia/Tokyo:20251005T103000
DTEND;TZID=Asia/Tokyo:20251005T130000
DTSTAMP:20260422T120832
CREATED:20250908T023554Z
LAST-MODIFIED:20251001T044142Z
UID:1918-1759660200-1759669200@www.imiru-kunisaki.fun
SUMMARY:農業青年と語ろう オリーブとピザランチ【国東おだやか博2025】
DESCRIPTION:🍃 オリーブの魅力をまるごと体験！収穫体験やオイルの試飲に加え、農家さんとのあたたかな交流や、焼きたてピザを囲む楽しいひとときもご用意しています🍕✨さらに、採れたてオリーブオイルのお土産付き🎁五感でオリーブを味わう特別なイベントに、ぜひご参加ください🌿💚 \n【開催日時】\n10月5日（日）10:30~13:00\n\n【参加料金】\n3\,000円\n\n【場所】\n河野農園\n（国東市安岐町山浦1526）\n\n\n【定員】\n20名　※定員になり次第締切\n\n【持ち物】\nスニーカー、帽子、タオル、汚れてもいい服、飲み物、オリーブの実持帰り用の保冷バック\n\n【大まかな行程】\n10：30開始・オリーブ栽培、収穫、加工方法について紹介→収穫体験→11：30オリーブオイルテイスティング→12：00ピザを囲んで交流会　→13：00終了\n\n【申込締切】\n9月29日（月）※定員になり次第締切\n\n【お申込み・お問い合わせ】\n参加お申し込みはこちらから＞＞＞\n一般社団法人国東市観光協会\nTEL 0978-73-0962 (受付時間 9:00 ~ 17:00)
URL:https://www.imiru-kunisaki.fun/corner/2025-10-5-1/
LOCATION:河野農園\, 山浦1526\, 国東市安岐町\, 大分県\, 873-0206\, Japan
CATEGORIES:イベント,おだやか博,体験,安岐町
ATTACH;FMTTYPE=image/jpeg:https://www.imiru-kunisaki.fun/wp-content/uploads/2025/09/nougyouseinenntokatarou_eyecatch-800X500.jpg
END:VEVENT
BEGIN:VEVENT
DTSTART;TZID=Asia/Tokyo:20251011T105000
DTEND;TZID=Asia/Tokyo:20251011T150000
DTSTAMP:20260422T120832
CREATED:20250722T052425Z
LAST-MODIFIED:20250722T062519Z
UID:1662-1760179800-1760194800@www.imiru-kunisaki.fun
SUMMARY:オリーブリトリート in 国東
DESCRIPTION:触れる、味わう、深呼吸する——秋のやさしい1日 \n昨年大好評だった「RRRoom × 国東オリーブガーデン」の秋限定リトリートが、今年も帰ってきます🍃オリーブの実りが深まる季節、自然に包まれて心とからだをととのえる1日へ。 \nオリーブ畑の中で行うやさしいヨガ。木漏れ日の下で楽しむ料理体験。搾りたてのオリーブオイルを味わう、特別なひととき。 \n「食・健康・自然・自分」と静かに向き合う、心ほどける時間を、ぜひご一緒に。 \n※現地集合・現地解散の体験イベントです\n親子・女性おひとり参加、障がいのある方も大歓迎！\nご家族での参加や、サポートが必要な方は事前にお気軽にご相談ください。\n \n詳しくはこちら＞＞＞ \n【開催日時】\n10月11日（土）10:50~15:00　　※雨天決行（天候により一部内容変更あり） \n【場所】\n国東クリーブガーデン（大分県国東市安国寺） \n【定員】\n25名　※先着順\n \n【参加費】（体験・食事・特典等含む）\n大人6\,400円\n中高生3\,200円\n小学生以下・障がいのある方（要事前申告）は無料\n※障害のある方の保護者6\,400円\n※お申し込み後3日以内に参加費のご入金をお願いいたします。\n入金をもって参加確定となります。 \n【内容】\nオリーブ収穫・料理体験・ヨガ・テイスティング・お買い物 \n【申込締切】\n10月1日 (水)\nお申し込みはこちら＞＞＞\n \n【お申込み・お問い合わせ】\n国東クリーブガーデン\n大分県国東市安国寺2797番地3\nTEL:0978-73-2255
URL:https://www.imiru-kunisaki.fun/corner/2025-10-11/
LOCATION:国東クリーブガーデン\, 安国寺２７９７\, 国東市国東町\, 大分県\, 873-0504\, Japan
CATEGORIES:イベント,体験,国東町
ATTACH;FMTTYPE=image/jpeg:https://www.imiru-kunisaki.fun/wp-content/uploads/2025/07/oliveretreat_eyecatch-800X500.jpg
END:VEVENT
END:VCALENDAR