BEGIN:VCALENDAR
VERSION:2.0
PRODID:-//いみ～る国東 - ECPv6.15.20//NONSGML v1.0//EN
CALSCALE:GREGORIAN
METHOD:PUBLISH
X-WR-CALNAME:いみ～る国東
X-ORIGINAL-URL:https://www.imiru-kunisaki.fun
X-WR-CALDESC:いみ～る国東 のイベント
REFRESH-INTERVAL;VALUE=DURATION:PT1H
X-Robots-Tag:noindex
X-PUBLISHED-TTL:PT1H
BEGIN:VTIMEZONE
TZID:Asia/Tokyo
BEGIN:STANDARD
TZOFFSETFROM:+0900
TZOFFSETTO:+0900
TZNAME:JST
DTSTART:20240101T000000
END:STANDARD
END:VTIMEZONE
BEGIN:VEVENT
DTSTART;TZID=Asia/Tokyo:20250209T110000
DTEND;TZID=Asia/Tokyo:20250209T150000
DTSTAMP:20260423T083005
CREATED:20250130T050744Z
LAST-MODIFIED:20250203T074236Z
UID:41-1739098800-1739113200@www.imiru-kunisaki.fun
SUMMARY:大おせったい祭
DESCRIPTION:
URL:https://www.imiru-kunisaki.fun/corner/daiosettai2025-02-09/
LOCATION:鶴川商店街\, 鶴川\, 国東市国東町\, 大分県\, 873-0503\, Japan
CATEGORIES:国東町
END:VEVENT
BEGIN:VEVENT
DTSTART;TZID=Asia/Tokyo:20250209T100000
DTEND;TZID=Asia/Tokyo:20250209T160000
DTSTAMP:20260423T083005
CREATED:20250130T141529Z
LAST-MODIFIED:20250209T213530Z
UID:54-1739095200-1739116800@www.imiru-kunisaki.fun
SUMMARY:空き家フェス
DESCRIPTION:
URL:https://www.imiru-kunisaki.fun/corner/akiyafes2025-02-09/
LOCATION:鶴川商店街\, 鶴川\, 国東市国東町\, 大分県\, 873-0503\, Japan
CATEGORIES:国東町
END:VEVENT
BEGIN:VEVENT
DTSTART;TZID=Asia/Tokyo:20250209T100000
DTEND;TZID=Asia/Tokyo:20250209T120000
DTSTAMP:20260423T083005
CREATED:20250203T045844Z
LAST-MODIFIED:20250216T063305Z
UID:153-1739095200-1739102400@www.imiru-kunisaki.fun
SUMMARY:古きを訪ねて新しきを知る「鶴川探訪」~空也上人ゆかりの地を歩く～
DESCRIPTION:お申し込みは、こちらから＞＞＞ \n平安時代の高僧・空也上人が開基した興導寺を中心に、平安京を模した町づくりが行われ、数多くの歴史的遺構が残る国東市国東町鶴川。\nこの地をゆっくりと散策し、古の息吹を感じながら新たな発見を共に楽しみませんか。各名所では専門のガイドが見どころを丁寧にご案内いたします。\n昼食には、地元の新鮮な食材を使ったおにぎり弁当をご用意しております。\n歴史と自然が織りなす風景の中で、心豊かなひとときをお過ごしください。 \n【開催日時】\n2月9日（日）10:00~12:00 \n【参加料金】\n2\,500円（おにぎり弁当付き） \n【集合場所】\n鶴川商店街周辺観光・交流拠点施設「きとわ」\n（国東市国東町鶴川1365番地1） \n【定員】\n10名（最少催行5名） \n【持ち物】\n歩きやすい服装・雨具 \n【行程】\n10:00　集合　約10ヶ所のポイントを専門のガイドが説明→12:00 昼食、解散 \n【申込締切】\n2月5日（水）17:00 \n【お申込み・お問い合わせ】\n一般社団法人国東市観光協会\nTEL 0978-73-0962 (受付時間 9:00 ~ 17:00)
URL:https://www.imiru-kunisaki.fun/corner/odayaka2025-02-09_2/
LOCATION:鶴川商店街周辺観光・交流拠点施設\, 鶴川1365-1\, 国東市国東町\, 大分県\, 873-0503\, Japan
CATEGORIES:おだやか博,国東町
ATTACH;FMTTYPE=image/jpeg:https://www.imiru-kunisaki.fun/wp-content/uploads/2025/02/tsurugawatanbou_eyecatch-800x500-1.jpg
END:VEVENT
END:VCALENDAR