BEGIN:VCALENDAR
VERSION:2.0
PRODID:-//いみ～る国東 - ECPv6.15.20//NONSGML v1.0//EN
CALSCALE:GREGORIAN
METHOD:PUBLISH
X-WR-CALNAME:いみ～る国東
X-ORIGINAL-URL:https://www.imiru-kunisaki.fun
X-WR-CALDESC:いみ～る国東 のイベント
REFRESH-INTERVAL;VALUE=DURATION:PT1H
X-Robots-Tag:noindex
X-PUBLISHED-TTL:PT1H
BEGIN:VTIMEZONE
TZID:Asia/Tokyo
BEGIN:STANDARD
TZOFFSETFROM:+0900
TZOFFSETTO:+0900
TZNAME:JST
DTSTART:20250101T000000
END:STANDARD
END:VTIMEZONE
BEGIN:VEVENT
DTSTART;TZID=Asia/Tokyo:20260314T083000
DTEND;TZID=Asia/Tokyo:20260314T120000
DTSTAMP:20260422T052447
CREATED:20260220T211052Z
LAST-MODIFIED:20260220T211052Z
UID:2478-1773477000-1773489600@www.imiru-kunisaki.fun
SUMMARY:第２回　河津桜街道＆彼岸花植木体験ウォーク
DESCRIPTION:河津桜咲く黒津崎をスタートし、あさひの桜街道700m・ヤブツバキの並木を花見しながら散策します。途中桜の株元に彼岸花球根の植え付け体験をします。ちょっとした作業の後は、「あさひネット」の自家製コーヒーとおやつでくつろぎます。復路は祇園山経由でゴールの黒津崎を目指します。 \n  \n【日付】 \n2026年3月14日8:20集合 \n8:30-12:00 \n【場所】 \n黒津崎お祭り広場（駐車場はおまつり広場駐車場をご利用ください） \n【参加費】 \n500円（コーヒー・おやつ付き）100人規模 \n【行程】 \n開会行事　8:30→黒津崎お祭り広場スタート　8:40→桜街道花見散策　9:20→彼岸花植え付け体験15分　9:30→旭日地区公民館（コーヒー・おやつ休憩）　10:05→祇園山山頂　10:40→黒津崎お祭り広場ゴール　11:50 \n■注意事項 \nお申し込みは3月7日（土）まで。キャンセルは3月11日（水）までに連絡してください。 \n■昼食は準備しておりません。黒津崎周辺の飲食店を利用してください。 \n【お申込み・お問い合わせ】 \nGAP事務局長　清原正義まで \nTELL:090-6889-2402 \nE-mail:m8kiyo@yahoo.co.jp \n氏名・性別・年齢・住所・電話番号を伺います \n主催：世界農業遺産旭日プロジェクト\n　　　小原三区を良くする会　\n後援：国東市、国東市教育委員会、国東市観光協会
URL:https://www.imiru-kunisaki.fun/corner/%e7%ac%ac%ef%bc%92%e5%9b%9e%e3%80%80%e6%b2%b3%e6%b4%a5%e6%a1%9c%e8%a1%97%e9%81%93%ef%bc%86%e5%bd%bc%e5%b2%b8%e8%8a%b1%e6%a4%8d%e6%9c%a8%e4%bd%93%e9%a8%93%e3%82%a6%e3%82%a9%e3%83%bc%e3%82%af/
LOCATION:大分県
CATEGORIES:イベント,国東町
ATTACH;FMTTYPE=image/png:https://www.imiru-kunisaki.fun/wp-content/uploads/2026/02/アイキャッチ25.png
ORGANIZER;CN="%E4%B8%96%E7%95%8C%E8%BE%B2%E6%A5%AD%E9%81%BA%E7%94%A3%E6%97%AD%E6%97%A5%E3%83%97%E3%83%AD%E3%82%B8%E3%82%A7%E3%82%AF%E3%83%88%E3%83%BB%E5%B0%8F%E5%8E%9F%E4%B8%89%E5%8C%BA%E3%82%92%E8%89%AF%E3%81%8F%E3%81%99%E3%82%8B%E4%BC%9A":MAILTO:m8kiyo@yahoo.co.jp
END:VEVENT
BEGIN:VEVENT
DTSTART;TZID=Asia/Tokyo:20260314T100000
DTEND;TZID=Asia/Tokyo:20260314T160000
DTSTAMP:20260422T052447
CREATED:20260317T202403Z
LAST-MODIFIED:20260317T202403Z
UID:2509-1773482400-1773504000@www.imiru-kunisaki.fun
SUMMARY:きとわ朝市
DESCRIPTION:「朝の幸せ、きっと見つかる！」を合言葉に誕生した、鶴川の新名物「きとわ朝市」。\n第4回目は会場を国東市役所に移し、特別版として開催いたします！ \n地元の国東高校生が開発した「おにむすび」や、世界を舞台に活躍する「DRUM TAO」の公演など、見どころ満載の一日です。ぜひご来場ください！ \n  \n【注目企画：国東高校生プロデュース『おにむすび』】\n地元の国東高校の生徒たちが、地域資源の活用や社会課題の解決をテーマに5種類のオリジナルおにむすびを開発しました。当日は生徒たちが自ら販売を担当します！\n※数量限定販売となります。 \n  \n【おにむすびのラインナップ】 \n1.豊後牛の肉巻きおにむすび\n（大分県特産 × おにむすび） \n2.サバ味噌おにむすび\n（高齢者向け健康 × おにむすび） \n3.しし唐味噌おにむすび\n（国東特産 × おにむすび） \n4.肉味噌おにむすび\n（食物ロス改善 × おにむすび） \n5.ゆず胡椒香る鯛ほぐしふりかけおにむすび\n（創作ふりかけ × おにむすび） \n  \n【嬉しい先着特典】\nおにむすびをご購入いただいた先着100名様に、「くにみ農産加工有限会社」のバジルペーストを使用した特製ピザをプレゼントいたします！🍕 \n  \n【開催日時】\n2026年3月14日（土）10:00 〜 16:00 \n  \n【場所】\n国東市役所周辺（大分県国東市国東町鶴川149番地） \n  \n【同時開催イベント】\n■ DRUM TAO くにさき公演2026『THE BEST』\n（※観覧には有料チケットが必要です）\n■ Tsunagu marche（つなぐマルシェ） \n  \n【皆様のお越しをお待ちしております】\n高校生の熱意が詰まったおにむすびと、活気あふれるイベントをぜひお楽しみください。
URL:https://www.imiru-kunisaki.fun/corner/%e3%81%8d%e3%81%a8%e3%82%8f%e6%9c%9d%e5%b8%82/
LOCATION:国東市役所\, 鶴川１４９\, 国東市国東町\, 大分県\, 873-0503\, Japan
CATEGORIES:イベント,国東町
ATTACH;FMTTYPE=image/png:https://www.imiru-kunisaki.fun/wp-content/uploads/2026/02/アイキャッチ30.png
END:VEVENT
BEGIN:VEVENT
DTSTART;TZID=Asia/Tokyo:20260321T130000
DTEND;TZID=Asia/Tokyo:20260321T143000
DTSTAMP:20260422T052447
CREATED:20260402T133511Z
LAST-MODIFIED:20260402T133530Z
UID:2752-1774098000-1774103400@www.imiru-kunisaki.fun
SUMMARY:【第4弾：プロに教わるスポーツ教室】国東市プロスポーツ教室（柔道）
DESCRIPTION:国東市の若き柔道家たちへ、夢のような時間がやってきます。 講師にお迎えするのは、東京2020オリンピック金メダリストであり、世界選手権でも数々の栄冠に輝く阿部 詩 選手（パーク24株式会社所属）。 \n世界中のファンを魅了する華麗な技のキレ、そして決して諦めない強い心。トップアスリートの息づかいを間近に感じながら、直接指導を受けられる特別なワークショップです。大分県立国東高等学校柔道場で、世界一の背中から「強さの真髄」を学び取りましょう。 \n  \n【日時】 \n令和8年3月21日（土曜日）13時00分～14時30分 \n\n12時30分～ 受付開始\n13時00分～ 開講式\n13時10分～ 教室（実技指導、質疑応答）\n14時30分～ 写真撮影等\n\n  \n【場所】 \n大分県立国東高等学校柔道場\n大分県国東市国東町鶴川1974番地 \n  \n【指導者（講師）】 \n阿部 詩（あべ うた）選手 パーク24株式会社所属 \n  \n【対象】 \n国東市内小・中・高校生\n国東高等学校柔道部\n合計70名程度予定 \n  \n【お申し込み・駐車場】 \nこちらのサイトからご確認お願い致します。 \nhttps://www.city.kunisaki.oita.jp/site/kyouikukage/judo-kyoshitsu.html \n  \n【お問い合わせ】 \n〒873-0503 国東市国東町鶴川136番地1\n国東市教育委員会社会教育課内 国東市スポーツ協会事務局 \n電話番号：0978-72-2121\nファックス番号：0978-72-4070 \n  \n【主催】 \n国東市、国東市教育委員会、国東市スポーツ協会
URL:https://www.imiru-kunisaki.fun/corner/%e3%80%90%e7%ac%ac4%e5%bc%be%ef%bc%9a%e3%83%97%e3%83%ad%e3%81%ab%e6%95%99%e3%82%8f%e3%82%8b%e3%82%b9%e3%83%9d%e3%83%bc%e3%83%84%e6%95%99%e5%ae%a4%e3%80%91%e5%9b%bd%e6%9d%b1%e5%b8%82%e3%83%97%e3%83%ad/
LOCATION:大分県立国東高等学校柔道場\, 大分県国東市国東町鶴川1974番地\, 国東市国東町\, 大分県\, 873-0503\, Japan
CATEGORIES:イベント,国東町,教育・学習
ATTACH;FMTTYPE=image/png:https://www.imiru-kunisaki.fun/wp-content/uploads/2026/03/アイキャッチ37.png
END:VEVENT
BEGIN:VEVENT
DTSTART;TZID=Asia/Tokyo:20260329T110000
DTEND;TZID=Asia/Tokyo:20260329T170000
DTSTAMP:20260422T052447
CREATED:20260402T134549Z
LAST-MODIFIED:20260402T134549Z
UID:2757-1774782000-1774803600@www.imiru-kunisaki.fun
SUMMARY:文殊仙寺 春季大祭「火渡り」
DESCRIPTION:「春季大祭 火渡り」が文殊仙寺にて開催されます！ \n災いを払い、心身を清めるためここで行われる採燈護摩供は、新しい1年を健康に歩むための大切な行です。 \n火渡りには護摩木を奉納することでご参加いただけます。 \nぜひ、お越しください！ \n  \n【日時】 \n令和8年3月29日（日）　午前11時～　小雨決行 \n【場所】 \n文殊仙寺　鐘楼門前広場 \n護摩木奉納で火渡りご参加いただけます。（授与品あり） \n【お問合せ】 \n0978-74-0820　文殊仙寺　国東市国東町大恩寺2432番地
URL:https://www.imiru-kunisaki.fun/corner/%e6%96%87%e6%ae%8a%e4%bb%99%e5%af%ba-%e6%98%a5%e5%ad%a3%e5%a4%a7%e7%a5%ad%e3%80%8c%e7%81%ab%e6%b8%a1%e3%82%8a%e3%80%8d/
LOCATION:文殊仙寺\, 大恩寺2432番地\, 国東市国東町\, 大分県\, 873-0646\, Japan
CATEGORIES:体験,国東町
END:VEVENT
BEGIN:VEVENT
DTSTART;TZID=Asia/Tokyo:20260405T110000
DTEND;TZID=Asia/Tokyo:20260405T170000
DTSTAMP:20260422T052447
CREATED:20260410T010837Z
LAST-MODIFIED:20260410T010901Z
UID:2821-1775386800-1775408400@www.imiru-kunisaki.fun
SUMMARY:つるがわ桜まつり
DESCRIPTION:「つるがわ桜まつり」が鶴川のきとわにて開催！ \n出店＆イベント盛りだくさんでお待ちしてます！\nぜひ、お越しください！ \n  \n\n\n日時\n2026年4月6日(日)\n11：00~19：00\n\n\n場所\n鶴川商店街周辺観光・交流拠点施設　きとわ\n（国東市国東町鶴川１３６５番地１）\n\n\n  \n\n11:00 〜\nブリ解体ショー\nブリ解体ショー後、ブリは1貫100円のお寿司にて振舞います\n11:30 〜\n尺八・お琴演奏\n11:50 〜\nがんばるキッズショー\n12:20 〜\n３B体操\n12:40 〜\n国東のカワタライブ\n13:10 〜\nけん玉教室・けん玉大会\n14:20 〜\nきとわ歌謡祭\n15:30 〜\nビンゴ大会\n今、人気のあのシールやあのカードをゲットするチャンス！\n・各店舗で500円ご購入ごとに、ビンゴカード引換券を1枚お渡しします\n・ビンゴカードは本部受付テントにて引き換えます\n\n  \n\n🍴 出店・販売\n\n\n\n・つるがわマッハ８\n・食彩 元屋\n\n\n・居酒屋 藤\n・ホルモン？松伴\n\n\n・ホルモンなお屋\n・食堂 米米\n\n\n・焼肉新ちゃん\n・モハズケバブ\n\n\n・焼鳥 こまち\n・林田かまぼこ\n\n\n・sankitei\n・HIJIRI\n\n\n・さとこうファーム\n・萱島酒造\n\n\n・南酒造\n・もみほぐし KICHI
URL:https://www.imiru-kunisaki.fun/corner/%e3%81%a4%e3%82%8b%e3%81%8c%e3%82%8f%e6%a1%9c%e3%81%be%e3%81%a4%e3%82%8a/
LOCATION:鶴川商店街周辺観光・交流拠点施設「きとわ」\, 鶴川１３６５番地１\, 国東市国東町\, 大分県\, 873-0503\, Japan
CATEGORIES:イベント,国東町
ATTACH;FMTTYPE=image/png:https://www.imiru-kunisaki.fun/wp-content/uploads/2026/04/アイキャッチ40.png
END:VEVENT
BEGIN:VEVENT
DTSTART;TZID=Asia/Tokyo:20260408T090000
DTEND;TZID=Asia/Tokyo:20260408T160000
DTSTAMP:20260422T052447
CREATED:20260402T164429Z
LAST-MODIFIED:20260402T164429Z
UID:2565-1775638800-1775664000@www.imiru-kunisaki.fun
SUMMARY:国東おだやか博①　国東半島に残る　  ミステリーな神社を巡る　プレミアムツアー
DESCRIPTION:教科書には載らない、ここだけの話。ガイドが導く、国東・古代史ミステリー散歩。 \n  \n【日時】 \n4月８日（水）　9:00-16:00 \n  \n【場所】 \n道の駅くにさき（国東市観光協会） \n  \n【参加費】 \n10\,000円 \n  \n【定員】 \n６名（場合によっては１０名までOK）（最小催行１名） \n  \n【持ち物】 \n歩きやすいスニーカーか運動靴、飲料 \n  \n【行程】 \n9:00　集合→車に分乗し、午前、午後とランチを挟んで半島内を巡ります→16:00　道の駅くにさき　終了 \n  \n【お申し込み・お問い合わせ】\n各種注意事項やお申し込み要項は国東市観光協会のホームページをご覧ください。 \n国東おだやか博2026　春プログラム（4~5月）開催 \n\nTELL:0978-73-0962\n受付時間　平日9:00-17:00
URL:https://www.imiru-kunisaki.fun/corner/odayaka_mystery/
LOCATION:道の駅くにさき\, 大分県国東市国東町小原２６６２−１\, 国東市\, 大分県\, 873-0511
CATEGORIES:イベント,おだやか博,国東町
ATTACH;FMTTYPE=image/png:https://www.imiru-kunisaki.fun/wp-content/uploads/2026/03/アイキャッチ39.png
END:VEVENT
END:VCALENDAR