BEGIN:VCALENDAR
VERSION:2.0
PRODID:-//いみ～る国東 - ECPv6.15.20//NONSGML v1.0//EN
CALSCALE:GREGORIAN
METHOD:PUBLISH
X-ORIGINAL-URL:https://www.imiru-kunisaki.fun
X-WR-CALDESC:いみ～る国東 のイベント
REFRESH-INTERVAL;VALUE=DURATION:PT1H
X-Robots-Tag:noindex
X-PUBLISHED-TTL:PT1H
BEGIN:VTIMEZONE
TZID:Asia/Tokyo
BEGIN:STANDARD
TZOFFSETFROM:+0900
TZOFFSETTO:+0900
TZNAME:JST
DTSTART:20240101T000000
END:STANDARD
END:VTIMEZONE
BEGIN:VEVENT
DTSTART;TZID=Asia/Tokyo:20250215T083000
DTEND;TZID=Asia/Tokyo:20250215T135000
DTSTAMP:20260423T030217
CREATED:20250209T041804Z
LAST-MODIFIED:20250216T044621Z
UID:443-1739608200-1739627400@www.imiru-kunisaki.fun
SUMMARY:成仏ピザトレイル　~早春のKコースを歩こう①　
DESCRIPTION:お申し込みは、こちらから＞＞＞ \n全長約7.5kmの国東半島峯道ロングトレイルの中でも、特に人気のあるコースを、トレイルクラブのガイドがご案内します。 \n神社仏閣4ヶ所を巡りながら、歴史と自然に触れるひとときを。 \n歩いたあとは、地元の方々が心を込めて作る、地元の食材を使った美味しいピザをご昼食にお召し上がりください。\n \n※傷害保険等は未加入です。個人でご加入ください。 \n【開催日時】\n2月15日（土）8:30~\n国東市役所集合バス出発（小雨決行） \n【参加料金】\n2000円（昼食ピザ、バス、トレイルガイド付き）※2月12日以降のキャンセルの場合はピザ代金を頂きます。 \n【集合場所】\n国東市役所（国東町鶴川149）※バスで送迎します \n【定員】\n40名 \n【コース】※行程約7.5キロ\n8:30 国東市役所（バス）→9:00 行入ダム→千の岩→行入寺→神宮寺→帝釈天→岩陰遺跡（現代アート）→成仏寺→12:30 成仏公民館→13:45 （予定）国東市役所 \n【申込締切】\n2月12日（水）※定員になり次第締め切り\n \n【お申込み・お問い合わせ】\n一般社団法人国東市観光協会\nTEL 0978-73-0962 (受付時間 9:00 ~ 17:00)
URL:https://www.imiru-kunisaki.fun/corner/2025-02-15/
LOCATION:国東市役所\, 鶴川１４９\, 国東市国東町\, 大分県\, 873-0503\, Japan
CATEGORIES:国東町
END:VEVENT
BEGIN:VEVENT
DTSTART;TZID=Asia/Tokyo:20250215T093000
DTEND;TZID=Asia/Tokyo:20250215T120000
DTSTAMP:20260423T030217
CREATED:20250209T074840Z
LAST-MODIFIED:20250209T074922Z
UID:496-1739611800-1739620800@www.imiru-kunisaki.fun
SUMMARY:第16回 国東町人権フェスティバル
DESCRIPTION:国東市では、誰もが安心して暮らせるまちを目指し、すべての人の人権が大切にされるよう取り組んでいます。その一環として、市内の4つの町ごとに「人権フェスティバル」を開催しています。 \n■人権作文の朗読（小学6年生〜中学2年生）\n■講演\n演題：「今日までそして明日から」\n講師：小国人権劇団「光座」代表　室原　正孝さん\n◎手話通訳あり\n◎託児スペースあり \n■人権作品展示\n期間：2月10日〜2月19日\n場所：アストくにさき 入口付近\n国東町人権フェスティバルチラシ【PDFファイル／983KB】 \n【開催日時】\n2月15日（土）\n開場9:00\n開始9:30〜　（12：00終了予定）\n\n【入場料】\n無料\n\n【お申込み・お問い合わせ】\n国東市教育委員会　社会教育課　人権教育・部落差別解消推進係\nTEL 0978-72-2121 　FAX 0978-72-4070
URL:https://www.imiru-kunisaki.fun/corner/%e7%ac%ac16%e5%9b%9e-%e5%9b%bd%e6%9d%b1%e7%94%ba%e4%ba%ba%e6%a8%a9%e3%83%95%e3%82%a7%e3%82%b9%e3%83%86%e3%82%a3%e3%83%90%e3%83%ab/
LOCATION:くにさき総合文化センター（アストくにさき）\, 鶴川160番地2\, 国東市国東町\, 大分県\, 873-0503\, Japan
CATEGORIES:国東町
END:VEVENT
END:VCALENDAR