BEGIN:VCALENDAR
VERSION:2.0
PRODID:-//いみ～る国東 - ECPv6.15.20//NONSGML v1.0//EN
CALSCALE:GREGORIAN
METHOD:PUBLISH
X-ORIGINAL-URL:https://www.imiru-kunisaki.fun
X-WR-CALDESC:いみ～る国東 のイベント
REFRESH-INTERVAL;VALUE=DURATION:PT1H
X-Robots-Tag:noindex
X-PUBLISHED-TTL:PT1H
BEGIN:VTIMEZONE
TZID:Asia/Tokyo
BEGIN:STANDARD
TZOFFSETFROM:+0900
TZOFFSETTO:+0900
TZNAME:JST
DTSTART:20240101T000000
END:STANDARD
END:VTIMEZONE
BEGIN:VEVENT
DTSTART;TZID=Asia/Tokyo:20250301T110000
DTEND;TZID=Asia/Tokyo:20250301T160000
DTSTAMP:20260423T011403
CREATED:20250210T044551Z
LAST-MODIFIED:20250210T064411Z
UID:541-1740826800-1740844800@www.imiru-kunisaki.fun
SUMMARY:Tsunaguマルシェ開催 〜マルシェと太鼓をつなぐ〜
DESCRIPTION:《Tsunagu marche vol.2》\nDRUM TAOの公演日に合わせて、Tsunaguマルシェが2年ぶりに帰ってきます！\n国東市内の飲食店を中心に、12店舗が集まって盛り上げます。美味しいものや素敵な出会いがたくさん待っていますよ♪ \n【開催日時】\n3月1日（土）11:00~16:00\n\n【場所】\nアストくにさき入口付近（くにさき総合文化センター）\n\n【SHOP LIST】\nsankitei　　　　  　  　クレープ・キンパetc.\n秘境の花屋　　　　  　ハンバーガーetc.\nポマーロ満月堂    　  　焼き菓子etc.\n神の田 　　　   　　  　豚まんetc.\n国見水産          　 　  　たこ唐揚げetc.\nさとこうファーム　  　 原木しいたけチップス\n角打ちとっぱい　　  　ドリンク\nアトリエ　ヨシザキ  　 PPハンドカゴバッグ\nnohana.de_21　　　 　お花雑貨etc.\nR.ronron　　　　　　   編み小物etc.\ntas+　　　　　　　　   ハンドメイドアクセサリー\nNaNaLa　　　　　　    雑貨\n\n\n【出店者情報はこちら】\nInstagram\nFacebook\n\n【お問い合わせ】\nNaNaLa\n国東市武蔵町古市292\nMAIL:zakka.nanala887@gmail.com
URL:https://www.imiru-kunisaki.fun/corner/2025-03-01_1/
LOCATION:アスト国東入口付近（くにさき総合文化センター）\, 鶴川160番地2\, 国東市国東町\, 大分県\, 873-0503\, Japan
CATEGORIES:国東町
ORGANIZER;CN="NaNaLa":MAILTO:zakka.nanala887@gmail.com
END:VEVENT
BEGIN:VEVENT
DTSTART;TZID=Asia/Tokyo:20250301T120000
DTEND;TZID=Asia/Tokyo:20250301T120000
DTSTAMP:20260423T011403
CREATED:20250210T052219Z
LAST-MODIFIED:20250211T105924Z
UID:548-1740830400-1740830400@www.imiru-kunisaki.fun
SUMMARY:DRUM TAO 2025「FUTURE」
DESCRIPTION:お申し込みは、こちらから＞＞＞（TAOオンライン）\n又は、TAOくにさき実行委員会　山田　TEL：080-9106-8854（16：00～20：00） \nDRUM TAOは、和太鼓を中心としたパフォーマンスで世界的に評価されるエンターテインメントグループです。\n圧巻の舞台演出と迫力ある音の響きを体感し、特別なひとときを楽しんでみてはいかがでしょうか？ \n【開催日時】\n3月1日（土）\n①開場12：00　開演12：30\n②開場15：30　開演16：00\n\n【料金】\n■S席(1F/2F前方)  6\,000円\n■A席(2F後方)　   5\,000円\n■車椅子席 　 　   6\,000円\n※4歳児未満入場不可\n※チケット代金は税込\n※当日500円UP\n※車椅子席をお求めの方はTAOくにさき実行委員までお問い合わせください。\n【場所】\nアストくにさき　アストホール\n\n【チケット取扱場所】\n■TAOオンライン\n■TAOくにさき実行委員会　山田\nTEL：080-9106-8854（16：00～20：00）\n\n【公演に関するお問合せ先】\nTAOくにさき実行委員会　山田 弘司\nTEL：080-9106-8854（16：00～20：00）
URL:https://www.imiru-kunisaki.fun/corner/2025-03-01_2/
LOCATION:くにさき総合文化センター（アストくにさき）\, 鶴川160番地2\, 国東市国東町\, 大分県\, 873-0503\, Japan
CATEGORIES:国東町
END:VEVENT
END:VCALENDAR