BEGIN:VCALENDAR
VERSION:2.0
PRODID:-//いみ～る国東 - ECPv6.15.20//NONSGML v1.0//EN
CALSCALE:GREGORIAN
METHOD:PUBLISH
X-ORIGINAL-URL:https://www.imiru-kunisaki.fun
X-WR-CALDESC:いみ～る国東 のイベント
REFRESH-INTERVAL;VALUE=DURATION:PT1H
X-Robots-Tag:noindex
X-PUBLISHED-TTL:PT1H
BEGIN:VTIMEZONE
TZID:Asia/Tokyo
BEGIN:STANDARD
TZOFFSETFROM:+0900
TZOFFSETTO:+0900
TZNAME:JST
DTSTART:20240101T000000
END:STANDARD
END:VTIMEZONE
BEGIN:VEVENT
DTSTART;TZID=Asia/Tokyo:20250309T100000
DTEND;TZID=Asia/Tokyo:20250309T140000
DTSTAMP:20260423T011402
CREATED:20250226T020415Z
LAST-MODIFIED:20250226T020451Z
UID:685-1741514400-1741528800@www.imiru-kunisaki.fun
SUMMARY:第10回 YOU&あいサンフェスタ
DESCRIPTION:障がいのある人もない人も、お互いを理解し合い、誰もが地域の大切な一員としてつながる――そんな温かな絆を育むイベントです。 \n昨年、コロナ禍を乗り越え、5年ぶりに日出町で開催されたこのイベント。今回は記念すべき第10回として、国東市で開催されます！ \n毎回大人気の「ふれあいマーケット」「ミッション・チャレンジ」「ステージイベント」に加え、10回記念のお楽しみ抽選会も♪ さらに、大分県庁職員吹奏楽団による音楽物語『窓ぎわのトットちゃん』や、本格的な音楽会もお楽しみいただけます。 \nまた、国東市出身の芸術家・中野マーク周作さんと一緒に楽しむアート体験、移動動物園、勾玉づくり体験、警察・消防署の皆さんとのふれあいコーナーなど、屋外イベントも充実！ \nご家族やお友だちと一緒に、楽しい一日を過ごしに来ませんか？ \n◯豚汁の無料配布有り（数に限りがあります）\n詳しくはこちら＞＞＞ \n【開催日時】\n3月9日（日）10:00~14:00 \n【開催場所】\n国東市役所周辺（国東町鶴川149番地） \n【イベント内容】\n大分県庁職員吹奏楽団による演奏\n中野マーク周作さんとの芸術体験「ネンドであそぼう！」\nふれあい動物園\n勾玉づくり体験\nふれあいマーケット、キッチンカー\n警察・消防署員＆緊急車両ふれあい体験\nさ吉くんふわふわ遊具\n日出支援学校作品展示\nお楽しみ抽選会 \n【お問い合わせ】\n国東市役所 福祉課\n〒873-0503 国東市国東町鶴川149番地\n（本庁舎1階）\n【認定審査係】…国東市国東町田深297−12 国東保健センター内　福祉・障がい者支援係\nTEL：0978-72-5164\nFAX：0978-72-5171
URL:https://www.imiru-kunisaki.fun/corner/2025-03-09_2/
LOCATION:国東市役所\, 鶴川１４９\, 国東市国東町\, 大分県\, 873-0503\, Japan
CATEGORIES:国東町
END:VEVENT
END:VCALENDAR