BEGIN:VCALENDAR
VERSION:2.0
PRODID:-//いみ～る国東 - ECPv6.15.20//NONSGML v1.0//EN
CALSCALE:GREGORIAN
METHOD:PUBLISH
X-WR-CALNAME:いみ～る国東
X-ORIGINAL-URL:https://www.imiru-kunisaki.fun
X-WR-CALDESC:いみ～る国東 のイベント
REFRESH-INTERVAL;VALUE=DURATION:PT1H
X-Robots-Tag:noindex
X-PUBLISHED-TTL:PT1H
BEGIN:VTIMEZONE
TZID:Asia/Tokyo
BEGIN:STANDARD
TZOFFSETFROM:+0900
TZOFFSETTO:+0900
TZNAME:JST
DTSTART:20240101T000000
END:STANDARD
END:VTIMEZONE
BEGIN:VEVENT
DTSTART;TZID=Asia/Tokyo:20251013T130000
DTEND;TZID=Asia/Tokyo:20251013T153000
DTSTAMP:20260422T124804
CREATED:20250925T010734Z
LAST-MODIFIED:20250925T130541Z
UID:2000-1760360400-1760369400@www.imiru-kunisaki.fun
SUMMARY:くにさき宇宙教室シンポジウム
DESCRIPTION:🌕✨ 月面開発と地球環境観測の最前線 ✨🌍 \n月での暮らし、衛星から見た地球の姿、気象や植物のふしぎなど…多彩な視点から 未来の地球と宇宙 を楽しく学べるイベントです 🚀🌱 \n専門家がやさしく、わかりやすく解説してくれるので、子どもから大人までワクワクしながら宇宙や自然科学にふれられます 🌌📚 \n知れば知るほど “宇宙と地球がもっと身近に” 感じられるはず！ぜひこの機会にご参加ください 🌟👨‍👩‍👧‍👦 \n詳しくはこちら＞＞＞ \n【開催日時】\n10月13日（月・祝）13:00〜15:30 \n【会場】\nアストくにさき アストホール \n【費用】\n無料 \n【イベント内容】\n君も宇宙の守り手に！～月面開発と地球環境観測の最前線～\n月や宇宙エンジニア、衛星などの宇宙に関すること、気象や環境、植物などの地球・生命の自然科学に関することなど、多彩なテーマで講演を行います。\n未来の宇宙や地球を考えるきっかけとなる内容となっています。 \n\n\nJGC日揮グローバル株式会社 深浦 希峰 氏\n「月面開発の最前線！～月の暮らしと宇宙エンジニアの役割～」\n国立研究開発法人 国立環境研究所 猪俣 敏 氏\n「地球観測衛星で温室効果ガスを監視する いぶきGWの紹介」\n気象庁 気象研究所 梶野 瑞王 氏\n「エアロゾルと雲の関係～地球を冷やす？暖める？」\n横浜市立大学大学院生命ナノシステム科学研究科 関本 奏子 氏\n「『香り』で知る植物のキモチ」\n\n【お問い合わせ】\n国東市政策企画課\nTEL：0798-72-5161
URL:https://www.imiru-kunisaki.fun/corner/2025-10-13-2/
LOCATION:アスト国東\, 鶴川160-2\, 国東町\, 大分県\, 873-0503\, Japan
CATEGORIES:イベント,国東町
ATTACH;FMTTYPE=image/jpeg:https://www.imiru-kunisaki.fun/wp-content/uploads/2025/09/kiminoutyuunomamoriteni2_eyecatch-800X500.jpg
END:VEVENT
END:VCALENDAR