BEGIN:VCALENDAR
VERSION:2.0
PRODID:-//いみ～る国東 - ECPv6.15.20//NONSGML v1.0//EN
CALSCALE:GREGORIAN
METHOD:PUBLISH
X-ORIGINAL-URL:https://www.imiru-kunisaki.fun
X-WR-CALDESC:いみ～る国東 のイベント
REFRESH-INTERVAL;VALUE=DURATION:PT1H
X-Robots-Tag:noindex
X-PUBLISHED-TTL:PT1H
BEGIN:VTIMEZONE
TZID:Asia/Tokyo
BEGIN:STANDARD
TZOFFSETFROM:+0900
TZOFFSETTO:+0900
TZNAME:JST
DTSTART:20240101T000000
END:STANDARD
END:VTIMEZONE
BEGIN:VEVENT
DTSTART;TZID=Asia/Tokyo:20251101T100000
DTEND;TZID=Asia/Tokyo:20251103T160000
DTSTAMP:20260422T110654
CREATED:20251015T044642Z
LAST-MODIFIED:20251020T051103Z
UID:2127-1761991200-1762185600@www.imiru-kunisaki.fun
SUMMARY:cozmel  作品展 in TSURUGAWAコーナ
DESCRIPTION:👜 cozmel 作品展 🕊️ \n日常にそっと彩りを添える cozmel の世界へようこそ。ひとつひとつ丁寧に仕立てられたバッグを、ゆっくりとご覧いただける3日間です。 \nお気に入りのひと品と出逢い、秋の国東で心やすらぐひとときをお過ごしください🍁 \n【開催日時】\n11月1日（土）〜 11月3日（月） 10:00~16:00\n\n【参加費】\n無料\n\n【場所】\n\nTSURUGAWAコーナ\n（国東市国東町鶴川620-1）\n\n【お問い合わせ】\nTSURUGAWAコーナ\nこちらからお問い合せください
URL:https://www.imiru-kunisaki.fun/corner/2025-11-1-3/
LOCATION:TSURUGAWAコーナ\, 鶴川620-1\, 国東市国東町\, 大分県\, 873-0503\, Japan
CATEGORIES:TURUGAWAコーナ,イベント,国東町
ATTACH;FMTTYPE=image/jpeg:https://www.imiru-kunisaki.fun/wp-content/uploads/2025/10/coamelsakuhinntenn_eyecatch-800X500.jpg
END:VEVENT
BEGIN:VEVENT
DTSTART;TZID=Asia/Tokyo:20251103T170000
DTEND;TZID=Asia/Tokyo:20251103T200000
DTSTAMP:20260422T110654
CREATED:20251015T045141Z
LAST-MODIFIED:20251021T022703Z
UID:2135-1762189200-1762200000@www.imiru-kunisaki.fun
SUMMARY:国東の杉と檜でつくるクリスマスリース in TSURUGAWAコーナ
DESCRIPTION:🎄国東の杉と檜でつくるクリスマスリース🌲✨ \n国東の森で育った杉や檜を使って、世界にひとつだけのリースを手づくりしませんか？🎀木の香りに包まれながら、ドライフラワーや木の実を飾って、自分だけのクリスマスリースを完成させましょう🎅🎁 \n自然のぬくもりを感じながら、心あたたまるひとときをお楽しみください❄️🕯️ \n講師：田上亜美子（resail factory) \n【開催日時】\n11月3日（月） 17:00~20:00\n\n【参加費用】\n1\,000円（材料費込み）\n\n【場所】\n\nTSURUGAWAコーナ\n（国東市国東町鶴川620-1）\n\n【お申込み期間】\n \n10/30(木)～11/3(月)\n※TSURUGAWAコーナにて直接お申込みいただいた方を優先させていただきます。 \n\n\n【お申し込み・お問い合わせ】\nTSURUGAWAコーナ\nこちらからお申し込み・お問い合せください
URL:https://www.imiru-kunisaki.fun/corner/2025-11-3/
LOCATION:TSURUGAWAコーナ\, 鶴川620-1\, 国東市国東町\, 大分県\, 873-0503\, Japan
CATEGORIES:TURUGAWAコーナ,イベント,体験,国東町,教室
ATTACH;FMTTYPE=image/jpeg:https://www.imiru-kunisaki.fun/wp-content/uploads/2025/10/kunisakinosugitohinokidetukurukurisumasutsurii_eyecatch-800X500.jpg
END:VEVENT
END:VCALENDAR