BEGIN:VCALENDAR
VERSION:2.0
PRODID:-//いみ～る国東 - ECPv6.15.20//NONSGML v1.0//EN
CALSCALE:GREGORIAN
METHOD:PUBLISH
X-ORIGINAL-URL:https://www.imiru-kunisaki.fun
X-WR-CALDESC:いみ～る国東 のイベント
REFRESH-INTERVAL;VALUE=DURATION:PT1H
X-Robots-Tag:noindex
X-PUBLISHED-TTL:PT1H
BEGIN:VTIMEZONE
TZID:Asia/Tokyo
BEGIN:STANDARD
TZOFFSETFROM:+0900
TZOFFSETTO:+0900
TZNAME:JST
DTSTART:20240101T000000
END:STANDARD
END:VTIMEZONE
BEGIN:VEVENT
DTSTART;TZID=Asia/Tokyo:20251206T093000
DTEND;TZID=Asia/Tokyo:20251206T120000
DTSTAMP:20260422T073955
CREATED:20251121T021525Z
LAST-MODIFIED:20251222T062923Z
UID:2271-1765013400-1765022400@www.imiru-kunisaki.fun
SUMMARY:心整う 坐禅と写経【国東おだやか博2025】
DESCRIPTION:九州総本山を拝する禅寺で、心をそっと静めるひとときを過ごしませんか？🍃歴史が息づく重要文化財の開山堂や仏堂に足を運べば、古の気配がやさしく迎えてくれます。 \n再建された坐禅堂では、凛とした空気の中で正統派の坐禅体験を。その後は、ゆったりと心を整えながら写経に向き合いましょう🖋️✨ \n静寂の中、自分と向き合う穏やかな時間をぜひ。🙏 \n【開催日時】\n12月6日（土）9:30~12:00\n\n【参加料金】\n4\,000円\n\n【場所】\n泉福寺\n（国東市国東町横手1913）\n\n【定員】\n各15名　※定員になり次第締切\n\n【大まかな行程】\n9:30開始→お話→坐禅→移動して写経→12:00終了\n\n【申込締切】\n12月2日（火）16:00　※定員になり次第締切\n\n【お申し込み・お問い合わせ】\n参加お申し込みはこちら＞＞＞\n\n一般社団法人国東市観光協会\nTEL 0978-73-0962 (受付時間 9:00 ~ 17:00)
URL:https://www.imiru-kunisaki.fun/corner/2025-12-6/
LOCATION:泉福寺\, 横手1913\, 国東市国東町\, 大分県\, 873-0524\, Japan
CATEGORIES:イベント,おだやか博,国東町
ATTACH;FMTTYPE=image/jpeg:https://www.imiru-kunisaki.fun/wp-content/uploads/2025/11/kokorototonouzazenntosyakyou_eyecatch-800X500.jpg
END:VEVENT
END:VCALENDAR