BEGIN:VCALENDAR
VERSION:2.0
PRODID:-//いみ～る国東 - ECPv6.15.20//NONSGML v1.0//EN
CALSCALE:GREGORIAN
METHOD:PUBLISH
X-ORIGINAL-URL:https://www.imiru-kunisaki.fun
X-WR-CALDESC:いみ～る国東 のイベント
REFRESH-INTERVAL;VALUE=DURATION:PT1H
X-Robots-Tag:noindex
X-PUBLISHED-TTL:PT1H
BEGIN:VTIMEZONE
TZID:Asia/Tokyo
BEGIN:STANDARD
TZOFFSETFROM:+0900
TZOFFSETTO:+0900
TZNAME:JST
DTSTART:20240101T000000
END:STANDARD
END:VTIMEZONE
BEGIN:VEVENT
DTSTART;TZID=Asia/Tokyo:20250315T090000
DTEND;TZID=Asia/Tokyo:20250315T143000
DTSTAMP:20260423T014449
CREATED:20250216T061320Z
LAST-MODIFIED:20250216T063004Z
UID:638-1742029200-1742049000@www.imiru-kunisaki.fun
SUMMARY:西方寺/ミツマタトレイル　~早春のKコースを歩こう②
DESCRIPTION:お申し込みはこちらから＞＞＞ \n国東半島峯道ロングトレイルの中でも人気のK-1コースを、トレイルガイドとともに歩きませんか？ 迫力ある「大不動岩屋」の絶景、そして春を彩るミツマタの群生地。可憐な黄色い花が一面に広がる景色は、まさに幻想的です。 \n歩く距離は約5km。心地よい自然の中で、ゆったりとした時間をお楽しみください。 \nご昼食は、ミツマタ祭りの会場でお好きなものをお求めいただくか、ご持参ください。 \n【開催日時】\n3月15日（土）9:00~\n国東市国見総合支所集合 バス出発（小雨決行） \n【参加料金】\n2000円（バス・トレイルガイド付き） \n【集合場所】\n国東市国見総合支所（国東市国見町伊美２３００番地１） \n【定員】\n40名 \n【コース】※行程約5キロ\n9:00 国見総合支所（バス）→9:30 尻付岩屋→大不動岩屋→阿弥陀越→ミツマタ群生地→窓の迫（ストーンブリッジ）→14:00 西方寺の里バス停（バス）→14:30（予定）国見総合支所 \n【申込締切】\n3/12　開催日の3日前　定員になり次第締め切り \n【お申込み・お問い合わせ】\n一般社団法人国東市観光協会\nTEL 0978-73-0962 (受付時間 9:00 ~ 17:00)
URL:https://www.imiru-kunisaki.fun/corner/2025-03-15/
LOCATION:国見総合支所\, 伊美2300番地1\, 国東市国見町\, 大分県\, 72-1401\, Japan
CATEGORIES:国見町
END:VEVENT
BEGIN:VEVENT
DTSTART;TZID=Asia/Tokyo:20250315T100000
DTEND;TZID=Asia/Tokyo:20250315T100000
DTSTAMP:20260423T014449
CREATED:20250306T072108Z
LAST-MODIFIED:20250306T082754Z
UID:749-1742032800-1742032800@www.imiru-kunisaki.fun
SUMMARY:文化芸能発表会  他（もちまき＆もちつき体験）
DESCRIPTION:国見文化協会と国見公民大学が主催する文化芸能発表会が開催されます！国見町で文化芸能活動をされている団体8組による成果発表が行われ、もちまきやもちつき体験など、そのほかの楽しいイベントも同日開催しています。地域の皆さんが集うこの素敵な機会、ぜひ足を運んでみてください！ \n詳しくはこちら＞＞＞ \n【開催日時】\n3月15日（日）10:00開演 \n【場所】\n国見生涯学習センターみんなんかんホール \n【料金】\n無料 \n【お問い合わせ】\n 国東市教育委員会社会教育課（国見）\n 電話番号：0978-82-1115
URL:https://www.imiru-kunisaki.fun/corner/2025-03-15_3/
LOCATION:国見みんなんかんホール\, 伊美２３０５−１\, 国東市国見町\, 大分県\, 872-1401\, Japan
CATEGORIES:イベント,国見町
END:VEVENT
END:VCALENDAR