BEGIN:VCALENDAR
VERSION:2.0
PRODID:-//いみ～る国東 - ECPv6.15.20//NONSGML v1.0//EN
CALSCALE:GREGORIAN
METHOD:PUBLISH
X-WR-CALNAME:いみ～る国東
X-ORIGINAL-URL:https://www.imiru-kunisaki.fun
X-WR-CALDESC:いみ～る国東 のイベント
REFRESH-INTERVAL;VALUE=DURATION:PT1H
X-Robots-Tag:noindex
X-PUBLISHED-TTL:PT1H
BEGIN:VTIMEZONE
TZID:Asia/Tokyo
BEGIN:STANDARD
TZOFFSETFROM:+0900
TZOFFSETTO:+0900
TZNAME:JST
DTSTART:20240101T000000
END:STANDARD
END:VTIMEZONE
BEGIN:VEVENT
DTSTART;TZID=Asia/Tokyo:20250510T083000
DTEND;TZID=Asia/Tokyo:20250510T130000
DTSTAMP:20260422T203940
CREATED:20250409T022540Z
LAST-MODIFIED:20250409T043730Z
UID:1102-1746865800-1746882000@www.imiru-kunisaki.fun
SUMMARY:【国東三山山開き】第1弾　千灯岳山開き（606m）
DESCRIPTION:国東三山の山開き―第1弾として「第8回 千灯山山開き」を開催。 \n春の訪れとともに、新緑がまぶしい国東の山々。神と仏が息づくこの山で、心をほどくトレイルの旅へ――。 \n信仰と自然が織りなす文珠山で、やさしい時間をお過ごしください。 \nどうぞ、国東の春を感じにお越しください。 \n詳しくはこちら＞＞＞ \n【開催日時】\n5月10日（土）8:30集合　9時出発 （約4時間） \n【参加料金】\n1\,000円（ガイド・記念品付き）\n※参加料は当日現地でお支払いください。\n※お弁当・飲み物は各自ご用意ください。\n※損害保険等は未加入ですので各自で加入してください。 \n【集合場所】\n大分県国東市国見町千灯不動茶屋 \n【定員】\n50名　※先着順 \n【コース】※約4時間\n8:30集合 国見町千灯不動茶屋→9:00出発→五辻不動尊→千灯岳山頂→不動茶屋 \n【必要な物】\n昼食、飲み物、帽子、登山靴（運動靴）、雨具 \n【申込期間】\n現地の部　登山会2日前まで \n【申込締切】\n定員になり次第締め切り \n【お申込み・お問い合わせ】\n一般社団法人国東市観光協会\nTEL 0978-73-0962 (受付時間 9:00 ~ 17:00　土・日・祝はお休み))
URL:https://www.imiru-kunisaki.fun/corner/2025-05-10-1/
LOCATION:千灯岳\, 国東市国見町\, 大分県\, Japan
CATEGORIES:イベント,国見町
ATTACH;FMTTYPE=image/jpeg:https://www.imiru-kunisaki.fun/wp-content/uploads/2025/04/kunisakiyamabiraki_eyecatch-800X500-1.jpg
END:VEVENT
END:VCALENDAR