BEGIN:VCALENDAR
VERSION:2.0
PRODID:-//いみ～る国東 - ECPv6.15.20//NONSGML v1.0//EN
CALSCALE:GREGORIAN
METHOD:PUBLISH
X-WR-CALNAME:いみ～る国東
X-ORIGINAL-URL:https://www.imiru-kunisaki.fun
X-WR-CALDESC:いみ～る国東 のイベント
REFRESH-INTERVAL;VALUE=DURATION:PT1H
X-Robots-Tag:noindex
X-PUBLISHED-TTL:PT1H
BEGIN:VTIMEZONE
TZID:Asia/Tokyo
BEGIN:STANDARD
TZOFFSETFROM:+0900
TZOFFSETTO:+0900
TZNAME:JST
DTSTART:20250101T000000
END:STANDARD
END:VTIMEZONE
BEGIN:VEVENT
DTSTART;TZID=Asia/Tokyo:20260315T210000
DTEND;TZID=Asia/Tokyo:20260315T220000
DTSTAMP:20260422T085201
CREATED:20260317T203808Z
LAST-MODIFIED:20260317T203808Z
UID:2447-1773608400-1773612000@www.imiru-kunisaki.fun
SUMMARY:オリオン大星雲観察会
DESCRIPTION:夜空に輝くオリオン座。その三つ星の下に、ぼんやりと光る不思議な雲があるのを知っていますか？ それは、今まさに新しい星たちが産声を上げている「宇宙のゆりかご」――オリオン大星雲です。 \n望遠鏡をのぞけば、そこには肉眼では見えない鳥が羽を広げたような神秘的な姿が浮かび上がります。冬の星座たちが西の空へ帰っていく前のこの季節、最後に一番美しい星の輝きを一緒に眺めてみませんか？ \n【開催日時】\n3月15日(日)　 21:00～22:00 \n【場所】\n梅園の里天文台 天球館（国東市安岐町富清2244） \n【定員】 \n8名　※当日先着順 \n【料金】\n観察料：大人500円・高校生:300円・小中学生200円\n※梅園の里 宿泊者様、団体（10名以上）は、お一人様100円引き \n◆年間パスポート：大人1500円・高校生900円・小中学生600円 \n【お問い合わせ】\n梅園の里天文台 天球館\nTEL:0978-97-2655\n開館時間：平日（月・水・木・金） 18:00～22:00　　土日祝・学童春夏冬休み 13:00〜22:00\n休館日：火曜日（祝祭日の場合は翌平日）
URL:https://www.imiru-kunisaki.fun/corner/%e3%82%aa%e3%83%aa%e3%82%aa%e3%83%b3%e5%a4%a7%e6%98%9f%e9%9b%b2%e8%a6%b3%e5%af%9f%e4%bc%9a/
LOCATION:梅園の里天文台 天球館\, 富清2244\, 国東市安岐町\, 大分県\, 873-0355\, Japan
CATEGORIES:イベント,安岐町
ATTACH;FMTTYPE=image/png:https://www.imiru-kunisaki.fun/wp-content/uploads/2026/02/アイキャッチ21.png
END:VEVENT
BEGIN:VEVENT
DTSTART;TZID=Asia/Tokyo:20260320T130000
DTEND;TZID=Asia/Tokyo:20260320T153000
DTSTAMP:20260422T085201
CREATED:20260317T211259Z
LAST-MODIFIED:20260317T212304Z
UID:2416-1774011600-1774020600@www.imiru-kunisaki.fun
SUMMARY:諸田山神社 御田植祭
DESCRIPTION:春分の日、国東市安岐町明治の諸田地区に、笑いと祈りがあふれる特別な一日が訪れます。\n諸田山神社御田植祭は、五穀豊穣と子孫繁栄を願い、昔から受け継がれてきた伝統行事。\n思わず笑ってしまうようなユニークな化粧と、どこか愛嬌のある動きに、会場は和やかな空気に包まれます。\n春のやわらかな陽気の中、地域の想いとともに楽しめるこのお祭り、ぜひ一度足を運んでみてはいかがでしょうか。\n※詳細は、こちらもご覧ください\n御田植祭を詳しく知る \n【日時】\n3月20日　13:00~ \n【場所】\n諸田山神社（国東市安岐町明治526番地） \n【行程】\n祭典　13:00→行列　14:00→的うち→神謡→鍬取り→代掻き→柄振り→種蒔き→投苗→田廻り→田植→ウナリ\n※時間は目安ですが、祭典からウナリまでおよそ2時間30分かかります。
URL:https://www.imiru-kunisaki.fun/corner/%e8%ab%b8%e7%94%b0%e5%b1%b1%e7%a5%9e%e7%a4%be-%e5%be%a1%e7%94%b0%e6%a4%8d%e7%a5%ad/
LOCATION:諸田山神社\, 明治526番地\, 国東市安岐町\, 大分県\, 873-0352\, Japan
CATEGORIES:イベント,安岐町
ATTACH;FMTTYPE=image/png:https://www.imiru-kunisaki.fun/wp-content/uploads/2026/02/アイキャッチテンプレートのコピー.png
END:VEVENT
BEGIN:VEVENT
DTSTART;TZID=Asia/Tokyo:20260328T210000
DTEND;TZID=Asia/Tokyo:20260328T220000
DTSTAMP:20260422T085201
CREATED:20260219T020706Z
LAST-MODIFIED:20260219T021047Z
UID:2452-1774731600-1774735200@www.imiru-kunisaki.fun
SUMMARY:お月さま撮影会
DESCRIPTION:カレンダーをめくるように、毎月のお月さまを写真に残してみませんか？ 3月28日の撮影会は、春の夜に浮かぶ「ちょっと太めの月」がターゲット📸 \n望遠鏡を通せば、肉眼では見えない月の「デコボコ」がくっきり！ 撮った写真はそのままSNSにアップしちゃいましょう。 カメラ仲間との情報交換や、ただ月を眺めて癒やされたい人も大歓迎です✨ \n【開催日時】\n3月28日 21:00-22:00 \n【場所】\n梅園の里天文台 天球館（国東市安岐町富清2244） \n【定員】 \n8名　※当日先着順 \n【料金】\n観察料：大人500円・高校生:300円・小中学生200円\n※梅園の里 宿泊者様、団体（10名以上）は、お一人様100円引き \n◆年間パスポート：大人1500円・高校生900円・小中学生600円 \n【お問い合わせ】\n梅園の里天文台 天球館\nTEL:0978-97-2655\n開館時間：平日（月・水・木・金） 18:00～22:00　　土日祝・学童春夏冬休み 13:00〜22:00\n休館日：火曜日（祝祭日の場合は翌平日）
URL:https://www.imiru-kunisaki.fun/corner/%e3%81%8a%e6%9c%88%e3%81%95%e3%81%be%e6%92%ae%e5%bd%b1%e4%bc%9a/
LOCATION:梅園の里天文台 天球館\, 富清2244\, 国東市安岐町\, 大分県\, 873-0355\, Japan
CATEGORIES:イベント,安岐町
ATTACH;FMTTYPE=image/png:https://www.imiru-kunisaki.fun/wp-content/uploads/2026/02/アイキャッチ22.png
END:VEVENT
BEGIN:VEVENT
DTSTART;TZID=Asia/Tokyo:20260329T100000
DTEND;TZID=Asia/Tokyo:20260329T150000
DTSTAMP:20260422T085201
CREATED:20260402T133905Z
LAST-MODIFIED:20260402T133905Z
UID:2645-1774778400-1774796400@www.imiru-kunisaki.fun
SUMMARY:第39回　安岐ダム桜まつり　
DESCRIPTION:国東に春を告げる「安岐ダム桜まつり」を今年も開催します！ ダム湖をぐるりと取り囲む約3\,000本の桜は、まさに圧巻。桜のトンネルを歩いたり、湖畔に腰を下ろしてお弁当を広げたり、楽しみ方は自由自在です。 \n当日は地元の美味しいものが集まる屋台や、家族で楽しめるイベントも盛りだくさん。春の風に吹かれながら、国東自慢の桜景色を心ゆくまでお楽しみください。 \n\n  \n\n【開催日時】 \n2026年3月29日（日）10：00～15：00（雨天中止） \n  \n【場所】 \n安岐ダムいこいの広場（大分県国東市安岐町矢川） \n【ステージプログラム】 \n11:00 開会式・餅まき \n12:00 カラオケ、舞踊他 ※CDをご持参ください \n12:45 上坂ゆみえ ミニ歌謡ショー \n13:00 富永神楽 \n13:50 もちまき・閉会式 \n14:10 ビンゴ大会 \n  \n【お申込み・お問い合わせ】 \n主　催：朝来地区活性化推進協議会 \n連絡先：稙田　武郎　TEL 080-2721-6778\n小野　肥康　TEL 090-7987-7533 \n後　援：国東市・国東市観光協会・大分合同新聞社・大分ケーブルテレビテレコム株式会社
URL:https://www.imiru-kunisaki.fun/corner/%e7%ac%ac39%e5%9b%9e%e3%80%80%e5%ae%89%e5%b2%90%e3%83%80%e3%83%a0%e6%a1%9c%e3%81%be%e3%81%a4%e3%82%8a%e3%80%80/
LOCATION:安岐ダムいこいの広場\, 矢川\, 国東市安岐町\, 大分県\, 873-0353\, Japan
CATEGORIES:イベント,安岐町
ATTACH;FMTTYPE=image/png:https://www.imiru-kunisaki.fun/wp-content/uploads/2026/03/アイキャッチ31.png
END:VEVENT
END:VCALENDAR