BEGIN:VCALENDAR
VERSION:2.0
PRODID:-//いみ～る国東 - ECPv6.15.20//NONSGML v1.0//EN
CALSCALE:GREGORIAN
METHOD:PUBLISH
X-ORIGINAL-URL:https://www.imiru-kunisaki.fun
X-WR-CALDESC:いみ～る国東 のイベント
REFRESH-INTERVAL;VALUE=DURATION:PT1H
X-Robots-Tag:noindex
X-PUBLISHED-TTL:PT1H
BEGIN:VTIMEZONE
TZID:Asia/Tokyo
BEGIN:STANDARD
TZOFFSETFROM:+0900
TZOFFSETTO:+0900
TZNAME:JST
DTSTART:20240101T000000
END:STANDARD
END:VTIMEZONE
BEGIN:VEVENT
DTSTART;TZID=Asia/Tokyo:20251019T100000
DTEND;TZID=Asia/Tokyo:20251019T160000
DTSTAMP:20260422T135517
CREATED:20250901T041605Z
LAST-MODIFIED:20250902T024943Z
UID:1788-1760868000-1760889600@www.imiru-kunisaki.fun
SUMMARY:あそび防災プロジェクト開催
DESCRIPTION:🌱 あそび防災プロジェクト in 浄泉寺 🌱 \n遊びながら楽しく体験できる「防災学びのひととき」をご用意しました。子どもから大人まで、家族みんなで楽しみながら学べるプログラムです。 \nいざという時に備えて、自分や大切な人を守る力（自助）を育み、地域みんなで支え合う心（共助）を感じてみませんか？✨ \n当日は、防災について学べる・体験できるブースがたくさん！ゲーム感覚でチャレンジしたり、実際に体を動かしたりしながら、防災の大切さを“楽しく”学ぶことができます 🚒⛑️ \nぜひ、ご家族・お友達と一緒に浄泉寺へ遊びに来てください。未来を守る学びと、笑顔あふれる一日をお届けします😊 \n詳しくはこちら＞＞＞ \n【開催日時】\n10月19日（日）10:00~16:00　　※雨天決行 \n【場所】\n第１会場　浄泉寺（安岐町下山口）\n第２会場 兼 駐車場　南安岐地区公民館\n※来場者駐車場は南安岐地区公民館グラウンドをご利用ください。 \n【参加費】\n無料　※事前申込不要 \n【実施内容】\n1.防災チャンバラ合戦（受付：9月1日から） \n片手にスポンジ製の刀を持ち、もう片方の腕についた「命」と呼ばれるボールを落とし合う大人数参加型のイベントです。普通のチャンバラにはない防災・避難要素を盛り込んだ内容を体験することができます。 \n・午前の部: 10時30分～11時30分\n・午後の部： 13時30分～14時30分 \n年齢不問 各50名定員（事前申込が必要です。）\n\n防災チャンバラ申込みフォーム（9月1日から） \n2.防災ヒーロー入団試験\n防災ヒーロー入団試験は子どもでも参加可能な防災アクティビティです。楽しく体と頭を動かしながら防災を学び、親子で一緒に「もしも」を考えます。災害時に役立つ5つの防災体験（ミッション）をクリアして、防災ヒーローになろう！体験者には「防災ヒーロー缶バッジ」を贈呈します。 \n3.防災学習・体験ブース\n国東市福祉協議会がミニ災害ボランティアセンターを仮設しています。ボランティア活動を実際に体験し、復旧活動に挑戦してみませんか？ \n4.避難所生活体験ブース\n南安岐地区公民館で避難所の防災倉庫にある備品を使用した避難所生活を体験できます。 \n5.炊き出し訓練・配給\n女性消防団らによる炊き出し訓練を兼ねて来場者に「豚汁」の無料配布も行う予定です。（先着300食） \n6.その他\n地震の揺れを実体験できる「ユレルンダー」やモバイルファーマシー（災害対策医薬品供給車）など、災害支援車両の展示も実施します。ほかにも、楽しく防災について学習・体験ができるブースが盛りだくさんです。 \n【お問い合わせ】\n浄泉寺（住職：中野）\n国東市安岐町下山口1159\nTEL：0978-67-0291
URL:https://www.imiru-kunisaki.fun/corner/2025-10-19-2/
LOCATION:浄泉寺\, 下山口1159\, 国東市安岐町\, 大分県\, 873-0222\, Japan
CATEGORIES:イベント,安岐町
ATTACH;FMTTYPE=image/jpeg:https://www.imiru-kunisaki.fun/wp-content/uploads/2025/09/asobibousaipurojyekuto_eyecatch-800X500.jpg
END:VEVENT
END:VCALENDAR