BEGIN:VCALENDAR
VERSION:2.0
PRODID:-//いみ～る国東 - ECPv6.15.20//NONSGML v1.0//EN
CALSCALE:GREGORIAN
METHOD:PUBLISH
X-WR-CALNAME:いみ～る国東
X-ORIGINAL-URL:https://www.imiru-kunisaki.fun
X-WR-CALDESC:いみ～る国東 のイベント
REFRESH-INTERVAL;VALUE=DURATION:PT1H
X-Robots-Tag:noindex
X-PUBLISHED-TTL:PT1H
BEGIN:VTIMEZONE
TZID:Asia/Tokyo
BEGIN:STANDARD
TZOFFSETFROM:+0900
TZOFFSETTO:+0900
TZNAME:JST
DTSTART:20240101T000000
END:STANDARD
END:VTIMEZONE
BEGIN:VEVENT
DTSTART;TZID=Asia/Tokyo:20251026T100000
DTEND;TZID=Asia/Tokyo:20251026T150000
DTSTAMP:20260422T135445
CREATED:20251020T032049Z
LAST-MODIFIED:20251020T034043Z
UID:2154-1761472800-1761490800@www.imiru-kunisaki.fun
SUMMARY:大分空港で「空の日」イベント開催！
DESCRIPTION:✈️空港探検やホーバークラフト見学、トリックアート展など、ワクワクがいっぱいの楽しいイベントが盛りだくさん！ご家族やお友達と一緒に、ぜひ遊びに来てください🎶 \nイベントの詳細や無料駐車場のご案内はこちら＞＞＞🌤️ \n※一部のプログラムは事前応募制、または先着順となります。※天候などの理由により、内容が変更・中止となる場合があります。※無料特設駐車場もご用意していますが、数に限りがありますので🚗💨 ご来場の際は、できるだけ公共交通機関のご利用をおすすめします🚌✨ \n【開催日時】\n10月26日（日）10：00〜15:00 \n【場所】\n大分空港内特設会場 \n【無料特設駐車場】\n安岐町体育館、大分キヤノン株式会社安岐事業所\n（利用時間9時00分～17時00分）\n※無料特設駐車場から大分空港間はシャトルバスを運行します（30分間隔・無料） \n【お問い合わせ】\n国東市政策企画課\nTEL 0978-72-5161
URL:https://www.imiru-kunisaki.fun/corner/2025-10-26-2/
LOCATION:大分空港内特設会場\, 下原13\, 国東市安岐町\, 大分県\, 873-0231\, Japan
CATEGORIES:イベント,安岐町
ATTACH;FMTTYPE=image/jpeg:https://www.imiru-kunisaki.fun/wp-content/uploads/2025/10/oitakukousoranohi_eyecatch-800X500.jpg
END:VEVENT
END:VCALENDAR