BEGIN:VCALENDAR
VERSION:2.0
PRODID:-//いみ～る国東 - ECPv6.15.20//NONSGML v1.0//EN
CALSCALE:GREGORIAN
METHOD:PUBLISH
X-WR-CALNAME:いみ～る国東
X-ORIGINAL-URL:https://www.imiru-kunisaki.fun
X-WR-CALDESC:いみ～る国東 のイベント
REFRESH-INTERVAL;VALUE=DURATION:PT1H
X-Robots-Tag:noindex
X-PUBLISHED-TTL:PT1H
BEGIN:VTIMEZONE
TZID:Asia/Tokyo
BEGIN:STANDARD
TZOFFSETFROM:+0900
TZOFFSETTO:+0900
TZNAME:JST
DTSTART:20240101T000000
END:STANDARD
END:VTIMEZONE
BEGIN:VEVENT
DTSTART;TZID=Asia/Tokyo:20250705T210000
DTEND;TZID=Asia/Tokyo:20250705T220000
DTSTAMP:20260422T171823
CREATED:20250504T040627Z
LAST-MODIFIED:20250504T041321Z
UID:1240-1751749200-1751752800@www.imiru-kunisaki.fun
SUMMARY:お月さま撮影会【天球館】
DESCRIPTION:梅園の里天文台 天球館で毎月開かれる、お月さま撮影会。澄んだ夜空に輝く美しい月を、一緒にカメラに収めませんか？初心者の方も大歓迎。天文台の特別な設備を使って、いつもとは違う夜を楽しみましょう。定員は8名、当日先着順ですので、参加をご希望の方はお早めにお越しください。 \n【開催日時】\n7月5日（土）21:00~22:00 \n【場所】\n梅園の里天文台 天球館（国東市安岐町富清2244） \n【定員】\n8名　※当日先着順 \n【料金】\n観察料：大人500円・高校生:300円・小中学生200円\n※梅園の里 宿泊者様、団体（10名以上）は、お一人様100円引き \n◆年間パスポート：大人1500円・高校生900円・小中学生600円 \n【お問い合わせ】\n梅園の里天文台 天球館\nTEL:0978-97-2655\n開館時間：平日（月・水・木・金） 18:00～22:00　　土日祝・学童春夏冬休み 13:00〜22:00\n休館日：火曜日（祝祭日の場合は翌平日）
URL:https://www.imiru-kunisaki.fun/corner/2025-07-05/
LOCATION:梅園の里天文台 天球館\, 富清2244\, 国東市安岐町\, 大分県\, 873-0355\, Japan
CATEGORIES:イベント,安岐町
ATTACH;FMTTYPE=image/jpeg:https://www.imiru-kunisaki.fun/wp-content/uploads/2025/05/otsukisamasatsueikai_eyecatch-800X500-4.jpg
END:VEVENT
BEGIN:VEVENT
DTSTART;TZID=Asia/Tokyo:20250713T210000
DTEND;TZID=Asia/Tokyo:20250713T220000
DTSTAMP:20260422T171823
CREATED:20250504T043442Z
LAST-MODIFIED:20250504T043442Z
UID:1254-1752440400-1752444000@www.imiru-kunisaki.fun
SUMMARY:M57リング星雲撮影会【天球館】
DESCRIPTION:星々がきらめく夏の夜、はるか彼方に広がる神秘の天体・M57リング星雲を一緒に撮影してみませんか？天球館では、望遠鏡を使った特別な撮影会を開催します。ドーナツ状の美しい姿で知られるこの惑星状星雲を、自分のカメラで捉える貴重なチャンスです。星空撮影が初めての方も大歓迎。星の解説や撮影サポートも行いますので、どなたでも安心してご参加いただけます。宇宙の不思議に触れながら、心に残る一枚を撮影してみましょう。 \n【開催日時】\n7月13日（日）21:00~22:00 \n【場所】\n梅園の里天文台 天球館（国東市安岐町富清2244） \n【定員】\n8名　※当日先着順 \n【料金】\n観察料：大人500円・高校生:300円・小中学生200円\n※梅園の里 宿泊者様、団体（10名以上）は、お一人様100円引き \n◆年間パスポート：大人1500円・高校生900円・小中学生600円 \n【お問い合わせ】\n梅園の里天文台 天球館\nTEL:0978-97-2655\n開館時間：平日（月・水・木・金） 18:00～22:00　　土日祝・学童春夏冬休み 13:00〜22:00\n休館日：火曜日（祝祭日の場合は翌平日）
URL:https://www.imiru-kunisaki.fun/corner/2025-07-13/
LOCATION:梅園の里天文台 天球館\, 富清2244\, 国東市安岐町\, 大分県\, 873-0355\, Japan
CATEGORIES:イベント,安岐町
ATTACH;FMTTYPE=image/jpeg:https://www.imiru-kunisaki.fun/wp-content/uploads/2025/05/m57_eyecatch-800X500-1.jpg
END:VEVENT
BEGIN:VEVENT
DTSTART;TZID=Asia/Tokyo:20250719T100000
DTEND;TZID=Asia/Tokyo:20250719T160000
DTSTAMP:20260422T171823
CREATED:20250711T020005Z
LAST-MODIFIED:20250714T032802Z
UID:1550-1752919200-1752940800@www.imiru-kunisaki.fun
SUMMARY:将棋×とっぱい イベント
DESCRIPTION:🎉 国東が誇る焼酎「とっぱい」と将棋の特別コラボイベント開催！ \n将棋ファン必見！伝説の対局――八将会 代表と藤井聡太七冠の宇佐神宮対局を振り返るトークショーを開催します！初心者の方も大歓迎！実際に指せる対局体験コーナーもあり、将棋の世界を身近に感じられるチャンスです。 \n🍱 美味しいお弁当とともに、🍶 国東が誇る本格焼酎「とっぱい」が飲み放題！（オリジナルグラス付き） \n暑さを吹き飛ばす楽しいひととき。夏のはじまりを、将棋と焼酎でちょっと特別に過ごしてみませんか？ \n詳しくはこちら＞＞＞ \n【開催日時】\n7月19日（土）10:00~16:00 \n【場所】\n南酒造角打ちとっぱい\n国東市安岐町下山口269−1 \n【参加料】\n3\,000円　※とっぱい飲み放題（オリジナルグラス付き） \n【お問い合わせ】\n南酒造\n国東市安岐町下山口269−1\nTEL:0978-67-0024
URL:https://www.imiru-kunisaki.fun/corner/2025-07-19-2/
LOCATION:南酒造角打ちとっぱい\, 下山口２６９−１\, 国東市安岐町\, 大分県\, 873-0222\, Japan
CATEGORIES:イベント,安岐町
ATTACH;FMTTYPE=image/jpeg:https://www.imiru-kunisaki.fun/wp-content/uploads/2025/07/shougi_eyecatch-800X500.jpg
END:VEVENT
BEGIN:VEVENT
DTSTART;TZID=Asia/Tokyo:20250720T210000
DTEND;TZID=Asia/Tokyo:20250720T213000
DTSTAMP:20260422T171823
CREATED:20250504T044611Z
LAST-MODIFIED:20250504T044630Z
UID:1259-1753045200-1753047000@www.imiru-kunisaki.fun
SUMMARY:夏の星座 実践教室【天球館】
DESCRIPTION:梅園の里天文台 天球館で夏の星座 実践教室が開催されます。\n夏の夜空を彩る美しい星々を一緒に観察し、星座の形や名前を学んでみませんか？\n夏の夜空に輝く星座を実際に観察しながら、星座の知識を深めます。星座の名前や特徴を知ることで、夜空が一層魅力的に感じられることでしょう。初めての方でも安心して参加できる内容ですので、この機会にぜひ星座観察の楽しさを体験してみてください。 \n【開催日時】\n7月20日（日）21:00~21:30 \n【場所】\n梅園の里天文台 天球館（国東市安岐町富清2244） \n【定員】\nなし　※応募不要 \n【料金】\n観覧料：大人500円・高校生:300円・小中学生200円\n※梅園の里 宿泊者様、団体（10名以上）は、お一人様100円引き \n◆年間パスポート：大人1500円・高校生900円・小中学生600円 \n【お問い合わせ】\n梅園の里天文台 天球館\nTEL:0978-97-2655\n開館時間：平日（月・水・木・金） 18:00～22:00　　土日祝・学童春夏冬休み 13:00〜22:00\n休館日：火曜日（祝祭日の場合は翌平日）
URL:https://www.imiru-kunisaki.fun/corner/2025-07-20/
LOCATION:梅園の里天文台 天球館\, 富清2244\, 国東市安岐町\, 大分県\, 873-0355\, Japan
CATEGORIES:イベント,安岐町
ATTACH;FMTTYPE=image/jpeg:https://www.imiru-kunisaki.fun/wp-content/uploads/2025/05/natsunosaiza_eyecatch-800X500-1.jpg
END:VEVENT
BEGIN:VEVENT
DTSTART;TZID=Asia/Tokyo:20250727T133000
DTEND;TZID=Asia/Tokyo:20250727T150000
DTSTAMP:20260422T171823
CREATED:20250504T050326Z
LAST-MODIFIED:20250504T050326Z
UID:1268-1753623000-1753628400@www.imiru-kunisaki.fun
SUMMARY:水ロケット工作と打ち上げ体験【天球館】
DESCRIPTION:梅園の里天文台 天球館で、水ロケット工作と打ち上げ体験を開催します！ペットボトルを使って、自分だけの水ロケットを作り、実際に空へ打ち上げてみませんか？水と空気の力で勢いよく飛ぶロケットの仕組みを学びながら、ものづくりの楽しさと科学の不思議を体験できます。事前予約制・先着順となっておりますので、お申し込みはお早めに！ \n【開催日時】\n7月27日（日）13:30~15:00 \n【場所】\n梅園の里天文台 天球館（国東市安岐町富清2244） \n【定員】\n16名　※事前予約制\nご予約は、開催の約1か月前にホームページでご案内し、ご案内日から先着順でお申し込みを受け付けます。 \n【料金】\n700円 \n【お問い合わせ】\n梅園の里天文台 天球館\nTEL:0978-97-2655\n開館時間：平日（月・水・木・金） 18:00～22:00　　土日祝・学童春夏冬休み 13:00〜22:00\n休館日：火曜日（祝祭日の場合は翌平日）
URL:https://www.imiru-kunisaki.fun/corner/2025-07-27/
LOCATION:梅園の里天文台 天球館\, 富清2244\, 国東市安岐町\, 大分県\, 873-0355\, Japan
CATEGORIES:イベント,安岐町
ATTACH;FMTTYPE=image/jpeg:https://www.imiru-kunisaki.fun/wp-content/uploads/2025/05/mizurokettokousaku_eyecatch-800X500-3.jpg
END:VEVENT
END:VCALENDAR