BEGIN:VCALENDAR
VERSION:2.0
PRODID:-//いみ～る国東 - ECPv6.15.20//NONSGML v1.0//EN
CALSCALE:GREGORIAN
METHOD:PUBLISH
X-WR-CALNAME:いみ～る国東
X-ORIGINAL-URL:https://www.imiru-kunisaki.fun
X-WR-CALDESC:いみ～る国東 のイベント
REFRESH-INTERVAL;VALUE=DURATION:PT1H
X-Robots-Tag:noindex
X-PUBLISHED-TTL:PT1H
BEGIN:VTIMEZONE
TZID:Asia/Tokyo
BEGIN:STANDARD
TZOFFSETFROM:+0900
TZOFFSETTO:+0900
TZNAME:JST
DTSTART:20240101T000000
END:STANDARD
END:VTIMEZONE
BEGIN:VEVENT
DTSTART;TZID=Asia/Tokyo:20251108T100000
DTEND;TZID=Asia/Tokyo:20251108T130000
DTSTAMP:20260422T103231
CREATED:20250930T052715Z
LAST-MODIFIED:20251001T235335Z
UID:2031-1762596000-1762606800@www.imiru-kunisaki.fun
SUMMARY:オリーブ園の休日Ⅳ【国東おだやか博2025】
DESCRIPTION:四国を望む園で、秋のオリーブ収穫体験🌿✨完熟した実は、工夫次第で新しい発見につながります！オリーブ栽培のコツや、実を使った加工方法（塩漬け）を、試食をまじえながら楽しくご紹介🥢 \n収穫した実（500g）は、そのままご自宅の食卓で味わえます🍴また、ご希望の方には「BOX LUNCH」（1\,200円・要申込）もご用意🍱ゆったりとした時間を過ごしに、ぜひお越しください🌸 \n【開催日時】\n11月8日（土）10:00~13:00\n\n【参加料金】\n2\,000円\n※ランチにトラットリアスティーレBOXLUNCH（1\,200円別途）\nご希望の方は参加申し込み時にご注文ください。\n\n【集合場所】\n安岐町山浦 橋上研修センター駐車場\n（国東市安岐町山浦1526）\n\n\n【定員】\n10名　※定員になり次第締切\n\n【持ち物】\nスニーカー、帽子、タオル、飲み物、筆記用具オリーブの実持帰り用の保冷バック\n\n【大まかな行程】\n10:00集合場所から園地に移動→開始・説明→完熟オリーブの加工方法紹介→完熟オリーブの加工方法紹介・試食→10:50オリーブ収穫・選別・計量、園地散策12:00～オリーブ園でのランチタイム　\n\n【申込締切】\n10月31日（金）　16:00　※定員になり次第締切\n\n【お申込み・お問い合わせ】\n参加お申込みはこちらから＞＞＞\n一般社団法人国東市観光協会\nTEL 0978-73-0962 (受付時間 9:00 ~ 17:00)
URL:https://www.imiru-kunisaki.fun/corner/2025-11-8/
LOCATION:橋上研修センター駐車場\, 山浦1526\, 国東市安岐町\, 大分県\, Japan
CATEGORIES:イベント,おだやか博,体験,安岐町
ATTACH;FMTTYPE=image/jpeg:https://www.imiru-kunisaki.fun/wp-content/uploads/2025/09/oriveennnokyuujitsu1_eyecatch-800X500.jpg
END:VEVENT
BEGIN:VEVENT
DTSTART;TZID=Asia/Tokyo:20251108T210000
DTEND;TZID=Asia/Tokyo:20251108T220000
DTSTAMP:20260422T103231
CREATED:20251023T035306Z
LAST-MODIFIED:20251023T035510Z
UID:2219-1762635600-1762639200@www.imiru-kunisaki.fun
SUMMARY:お月様撮影会【天球館】
DESCRIPTION:🌕【お月さま撮影会】＠梅園の里天文台 天球館 \n梅園の里天文台・天球館で毎月開催される人気イベント📸✨澄んだ夜空に浮かぶ美しいお月さまを、一緒にカメラに収めてみませんか？🌙 \n天文台ならではの特別な設備を使って、いつもとは少し違う夜のひとときを楽しめます🌌カメラ初心者の方も大歓迎！スタッフがやさしくサポートします📷💫 \n定員は8名、当日先着順となっていますので、参加をご希望の方はお早めにお越しください🌟 \n【開催日時】\n11月8日（土）21:00~22:00 \n【場所】\n梅園の里天文台 天球館（国東市安岐町富清2244） \n【定員】\n8名　※当日先着順 \n【料金】\n観察料：大人500円・高校生:300円・小中学生200円\n※梅園の里 宿泊者様、団体（10名以上）は、お一人様100円引き \n◆年間パスポート：大人1500円・高校生900円・小中学生600円 \n【お問い合わせ】\n梅園の里天文台 天球館\nTEL:0978-97-2655\n開館時間：平日（月・水・木・金） 18:00～22:00　　土日祝・学童春夏冬休み 13:00〜22:00\n休館日：火曜日（祝祭日の場合は翌平日）
URL:https://www.imiru-kunisaki.fun/corner/2025-11-8-1/
LOCATION:梅園の里天文台 天球館\, 富清2244\, 国東市安岐町\, 大分県\, 873-0355\, Japan
CATEGORIES:イベント,安岐町
ATTACH;FMTTYPE=image/jpeg:https://www.imiru-kunisaki.fun/wp-content/uploads/2025/10/otsukisamasatsueikai_eyecatch-800X500-8.jpg
END:VEVENT
BEGIN:VEVENT
DTSTART;TZID=Asia/Tokyo:20251122T210000
DTEND;TZID=Asia/Tokyo:20251122T213000
DTSTAMP:20260422T103231
CREATED:20251023T035804Z
LAST-MODIFIED:20251023T042250Z
UID:2223-1763845200-1763847000@www.imiru-kunisaki.fun
SUMMARY:秋の星座 実践教室【天球館】
DESCRIPTION:澄んだ秋の夜空に広がる、物語のような星座たち✨「秋の星座実践教室」では、星座の探し方から望遠鏡🔭の使い方まで、実際の夜空を見上げながら楽しく学べます。 \nペガススやアンドロメダ、秋を彩る星々を一緒に見つけてみませんか？🌟星空観察のプロがやさしくサポートするので、初めての方やお子さま連れのご家族も安心してご参加いただけます😊 \n秋の夜長に、星と過ごす特別なひとときを──🍁🌙 \n【開催日時】\n11月22日（土）21:00~21:30 \n【場所】\n梅園の里天文台 天球館（国東市安岐町富清2244） \n【定員】\nなし　※応募不要 \n【料金】\n観覧料：大人500円・高校生:300円・小中学生200円\n※梅園の里 宿泊者様、団体（10名以上）は、お一人様100円引き \n◆年間パスポート：大人1500円・高校生900円・小中学生600円 \n【お問い合わせ】\n梅園の里天文台 天球館\nTEL:0978-97-2655\n開館時間：平日（月・水・木・金） 18:00～22:00　　土日祝・学童春夏冬休み 13:00〜22:00\n休館日：火曜日（祝祭日の場合は翌平日）
URL:https://www.imiru-kunisaki.fun/corner/2025-11-22/
LOCATION:梅園の里天文台 天球館\, 富清2244\, 国東市安岐町\, 大分県\, 873-0355\, Japan
CATEGORIES:イベント,安岐町,教室
ATTACH;FMTTYPE=image/jpeg:https://www.imiru-kunisaki.fun/wp-content/uploads/2025/10/akinoseizajissennkyoushitsu2_eyecatch-800X500.jpg
END:VEVENT
BEGIN:VEVENT
DTSTART;TZID=Asia/Tokyo:20251124T210000
DTEND;TZID=Asia/Tokyo:20251124T220000
DTSTAMP:20260422T103231
CREATED:20251023T041553Z
LAST-MODIFIED:20251023T042222Z
UID:2227-1764018000-1764021600@www.imiru-kunisaki.fun
SUMMARY:アンドロメダ銀河撮影会【天球館】
DESCRIPTION:🌌【アンドロメダ銀河撮影会】 \n満天の星が輝く夜、遠い宇宙の彼方にある“アンドロメダ銀河”を撮影してみませんか？✨天文台の望遠鏡を使って、肉眼では見えない銀河の姿をカメラに収める特別な体験です📸🌠 \n天文スタッフが撮影のポイントをやさしくサポートしますので、初心者の方も安心してご参加いただけます🌙💫 \n宇宙を感じる静かな夜。あなたのカメラに、銀河のきらめきを残してみませんか？🌟 \n定員は8名、当日先着順となっていますので、参加をご希望の方はお早めにお越しください🚀 \n【開催日時】\n11月24日（月）21:00~22:00 \n【場所】\n梅園の里天文台 天球館（国東市安岐町富清2244） \n【定員】\n8名　※当日先着順 \n【料金】\n観察料：大人500円・高校生:300円・小中学生200円\n※梅園の里 宿泊者様、団体（10名以上）は、お一人様100円引き \n◆年間パスポート：大人1500円・高校生900円・小中学生600円 \n【お問い合わせ】\n梅園の里天文台 天球館\nTEL:0978-97-2655\n開館時間：平日（月・水・木・金） 18:00～22:00　　土日祝・学童春夏冬休み 13:00〜22:00\n休館日：火曜日（祝祭日の場合は翌平日）
URL:https://www.imiru-kunisaki.fun/corner/2025-11-24/
LOCATION:梅園の里天文台 天球館\, 富清2244\, 国東市安岐町\, 大分県\, 873-0355\, Japan
CATEGORIES:イベント,安岐町
ATTACH;FMTTYPE=image/jpeg:https://www.imiru-kunisaki.fun/wp-content/uploads/2025/10/andoromedaginngasatsueikai_eyecatch-800X500-8.jpg
END:VEVENT
BEGIN:VEVENT
DTSTART;TZID=Asia/Tokyo:20251127T202000
DTEND;TZID=Asia/Tokyo:20251127T212000
DTSTAMP:20260422T103231
CREATED:20251023T044614Z
LAST-MODIFIED:20251023T044859Z
UID:2233-1764274800-1764278400@www.imiru-kunisaki.fun
SUMMARY:月面X撮影会【天球館】
DESCRIPTION:月の表面に、一瞬だけ浮かび上がる「X」の文字。それは“月面X”と呼ばれる、限られたタイミングでしか見られない神秘の現象です。 \nそんな貴重な瞬間を、望遠鏡を使ってじっくり観察してみませんか？星空の専門家によるわかりやすい解説もあり、初めての方でも安心して楽しめます。 \n宇宙の不思議にふれる特別なひととき。夜空を見上げながら、月の魅力を再発見しましょう🌌 \n【開催日時】\n11月27日（木）20:20~21:20 \n【定員】\nなし　※申込不要 \n【場所】\n梅園の里天文台 天球館（国東市安岐町富清2244） \n【料金】\n観察料：大人500円・高校生:300円・小中学生200円\n※梅園の里 宿泊者様、団体（10名以上）は、お一人様100円引き \n◆年間パスポート：大人1500円・高校生900円・小中学生600円 \n【お問い合わせ】\n梅園の里天文台 天球館\nTEL:0978-97-2655\n開館時間：平日（月・水・木・金） 18:00～22:00　　土日祝・学童春夏冬休み 13:00〜22:00\n休館日：火曜日（祝祭日の場合は翌平日）
URL:https://www.imiru-kunisaki.fun/corner/2025-11-27-3/
LOCATION:梅園の里天文台 天球館\, 富清2244\, 国東市安岐町\, 大分県\, 873-0355\, Japan
CATEGORIES:イベント,安岐町
ATTACH;FMTTYPE=image/jpeg:https://www.imiru-kunisaki.fun/wp-content/uploads/2025/10/getsumennxsatsueikai3_eyecatch-800X500.jpg
END:VEVENT
END:VCALENDAR