BEGIN:VCALENDAR
VERSION:2.0
PRODID:-//いみ～る国東 - ECPv6.15.20//NONSGML v1.0//EN
CALSCALE:GREGORIAN
METHOD:PUBLISH
X-ORIGINAL-URL:https://www.imiru-kunisaki.fun
X-WR-CALDESC:いみ～る国東 のイベント
REFRESH-INTERVAL;VALUE=DURATION:PT1H
X-Robots-Tag:noindex
X-PUBLISHED-TTL:PT1H
BEGIN:VTIMEZONE
TZID:Asia/Tokyo
BEGIN:STANDARD
TZOFFSETFROM:+0900
TZOFFSETTO:+0900
TZNAME:JST
DTSTART:20240101T000000
END:STANDARD
END:VTIMEZONE
BEGIN:VEVENT
DTSTART;TZID=Asia/Tokyo:20251206T210000
DTEND;TZID=Asia/Tokyo:20251206T220000
DTSTAMP:20260422T084643
CREATED:20251121T034640Z
LAST-MODIFIED:20251121T034640Z
UID:2307-1765054800-1765058400@www.imiru-kunisaki.fun
SUMMARY:お月様撮影会【天球館】
DESCRIPTION:梅園の里天文台 天球館で毎月開かれる、お月さま撮影会。澄んだ夜空に輝く美しい月を、一緒にカメラに収めませんか？初心者の方も大歓迎。天文台の特別な設備を使って、いつもとは違う夜を楽しみましょう。定員は8名、当日先着順ですので、参加をご希望の方はお早めにお越しください。 \n【開催日時】\n12月6日（土）21:00~22:00 \n【場所】\n梅園の里天文台 天球館（国東市安岐町富清2244） \n【定員】\n8名　※当日先着順 \n【料金】\n観察料：大人500円・高校生:300円・小中学生200円\n※梅園の里 宿泊者様、団体（10名以上）は、お一人様100円引き \n◆年間パスポート：大人1500円・高校生900円・小中学生600円 \n【お問い合わせ】\n梅園の里天文台 天球館\nTEL:0978-97-2655\n開館時間：平日（月・水・木・金） 18:00～22:00　　土日祝・学童春夏冬休み 13:00〜22:00\n休館日：火曜日（祝祭日の場合は翌平日）
URL:https://www.imiru-kunisaki.fun/corner/2025-12-6-2/
LOCATION:梅園の里天文台 天球館\, 富清2244\, 国東市安岐町\, 大分県\, 873-0355\, Japan
CATEGORIES:イベント,安岐町
ATTACH;FMTTYPE=image/jpeg:https://www.imiru-kunisaki.fun/wp-content/uploads/2025/11/otsukisamasatsueikai12_eyecatch-800X500.jpg
END:VEVENT
BEGIN:VEVENT
DTSTART;TZID=Asia/Tokyo:20251207T130000
DTEND;TZID=Asia/Tokyo:20251207T150000
DTSTAMP:20260422T084643
CREATED:20251121T022344Z
LAST-MODIFIED:20251121T022344Z
UID:2276-1765112400-1765119600@www.imiru-kunisaki.fun
SUMMARY:私らしく 七島藺のしめ縄で初春を寿ぐ【国東おだやか博2025】
DESCRIPTION:国東半島でのみ受け継がれてきた、七島藺（しちとうい）を使ってオリジナルのしめ縄づくりを楽しんでみませんか？🌿✨ \n当日は、国東七島藺の生産者で作家の 田端育代さん、そして国東七島藺の認定工芸士である 佐藤ゆかりさん と 河野恵美さん がご一緒します。 \n七島藺にまつわるお話を聞きながら、和やかな雰囲気の中で手しごとの温かさを感じるしめ縄をつくりましょう😊🧵 \n新しい年を迎える準備に、心ほぐれるひとときをどうぞ🎍✨ \n【開催日時】\n12月7日（日）13:00~15:00\n\n【参加料金】\n4\,000円\n\n【場所】\n国東市安岐総合支所 地域総務課\n\n【定員】\n各20名　※定員になり次第締切\n\n【大まかな行程】\n13:00開始・説明→制作→15:00終了\n\n【申込締切】\n12月3日（水）16:00　※定員になり次第締切\n\n【お申し込み・お問い合わせ】\n参加お申し込みはこちら＞＞＞\n\n一般社団法人国東市観光協会\nTEL 0978-73-0962 (受付時間 9:00 ~ 17:00)
URL:https://www.imiru-kunisaki.fun/corner/2025-12-7-2/
LOCATION:国東市安岐総合支所 地域総務課\, 中園100 安岐総合支所\, 国東市安岐町\, 大分県\, 873-0203\, Japan
CATEGORIES:イベント,おだやか博,安岐町,教室
END:VEVENT
BEGIN:VEVENT
DTSTART;TZID=Asia/Tokyo:20251214T200000
DTEND;TZID=Asia/Tokyo:20251214T220000
DTSTAMP:20260422T084643
CREATED:20251121T035915Z
LAST-MODIFIED:20251222T070416Z
UID:2310-1765742400-1765749600@www.imiru-kunisaki.fun
SUMMARY:ふたご座流星群撮影会【天球館】
DESCRIPTION:冬の夜空を彩る✨ふたご座流星群撮影会📸一年の中でも特に多くの流星が見られる、ふたご座流星群。夜空を流れる無数の流れ星を、カメラに収めてみませんか？🌠 \n星空撮影が初めての方も大歓迎🔰撮影のコツやカメラ設定のポイントをスタッフが丁寧にサポートしますので、安心してご参加いただけます。 \n澄んだ空気の中、流星がきらめく感動の瞬間を体験しながら、特別な冬の夜を一緒に楽しみましょう❄️🌌思い出に残る一枚を撮りに、ぜひお越しください✨ \n【開催日時】\n12月14日（日）20:00~22:00 \n【定員】\nなし　※申込不要 \n【場所】\n梅園の里天文台 天球館（国東市安岐町富清2244） \n【料金】\n観察料：大人500円・高校生:300円・小中学生200円\n※梅園の里 宿泊者様、団体（10名以上）は、お一人様100円引き \n◆年間パスポート：大人1500円・高校生900円・小中学生600円 \n【お問い合わせ】\n梅園の里天文台 天球館\nTEL:0978-97-2655\n開館時間：平日（月・水・木・金） 18:00～22:00　　土日祝・学童春夏冬休み 13:00〜22:00\n休館日：火曜日（祝祭日の場合は翌平日）
URL:https://www.imiru-kunisaki.fun/corner/2025-12-14/
LOCATION:梅園の里天文台 天球館\, 富清2244\, 国東市安岐町\, 大分県\, 873-0355\, Japan
CATEGORIES:イベント,安岐町
ATTACH;FMTTYPE=image/jpeg:https://www.imiru-kunisaki.fun/wp-content/uploads/2025/11/futagozaryuuseigunnsatsueikai_eyecatch-800X500.jpg
END:VEVENT
BEGIN:VEVENT
DTSTART;TZID=Asia/Tokyo:20251220T130000
DTEND;TZID=Asia/Tokyo:20251220T160000
DTSTAMP:20260422T084643
CREATED:20251121T024252Z
LAST-MODIFIED:20251217T155741Z
UID:2283-1766235600-1766246400@www.imiru-kunisaki.fun
SUMMARY:季節を呼び込むオブジェ　国東七島藺　注連縄づくり【国東おだやか博2025】
DESCRIPTION:七島藺（しちとうい）作家・岩切千佳さんによる「注連縄づくり教室」を開催します🌿✨ \n七島藺は、古くから畳表の材料として重宝されてきた植物。今では国東だけで栽培されている、とても貴重な素材です。 \nそんな七島藺を使って、今年は自分だけの注連縄をつくってみませんか？お正月を、自然の香りとあたたかさでやさしく彩りましょう🎍💛 \n\n\n\n\n\n\n\n\n\n\n\n【開催日時】\n12月20日（土）13:00~16:00\n\n【参加料金】\n4\,000円\n\n【場所】\n七島藺工房ななつむぎ\n（国東市安岐町明治522）\n\n【定員】\n各10名　※定員になり次第締切\n\n【大まかな行程】\n13:00開始・説明→制作→お茶→16：00終了\n\n【申込締切】\n12月3日（水）16:00　※定員になり次第締切\n\n【お申し込み・お問い合わせ】\n参加お申し込みはこちら＞＞＞\n\n一般社団法人国東市観光協会\nTEL 0978-73-0962 (受付時間 9:00 ~ 17:00)
URL:https://www.imiru-kunisaki.fun/corner/2025-12-20/
LOCATION:七島藺工房ななつむぎ\, 明治５２２\, 国東市安岐町\, 大分県\, 873-0352\, Japan
CATEGORIES:イベント,おだやか博,安岐町,教室
ATTACH;FMTTYPE=image/jpeg:https://www.imiru-kunisaki.fun/wp-content/uploads/2025/11/kisetsuwoyobikomuobujye_eyecatch-800X500.jpg
END:VEVENT
BEGIN:VEVENT
DTSTART;TZID=Asia/Tokyo:20251228T133000
DTEND;TZID=Asia/Tokyo:20251228T150000
DTSTAMP:20260422T084643
CREATED:20251222T045424Z
LAST-MODIFIED:20251222T045424Z
UID:2361-1766928600-1766934000@www.imiru-kunisaki.fun
SUMMARY:蓄光星座タペストリー工作「冬の星座」【天球館】
DESCRIPTION:🌟【蓄光星座タペストリー工作『冬の星座』】 \n夜になると、星が光る！自分だけの「冬の星座」タペストリーを作ってみよう！ \nこの工作では、蓄光シートを使って夏の星座をデザインしたタペストリーを制作します。明るい場所で光をためて、暗いところでふんわり光る星座が浮かび上がります。 \n星や宇宙が好きな方、冬の思い出に残る作品を作りたい方にぴったりのワークショップです。 \n完成した作品はお部屋に飾って楽しめます✨ \n【開催日時】\n12月28日（日）13:30~15:00 \n【場所】\n梅園の里天文台 天球館（国東市安岐町富清2244） \n【定員】\n16名　※事前予約制\nご予約は、開催の約1か月前にホームページでご案内し、ご案内日から先着順でお申し込みを受け付けます。 \n【料金】\n500円 \n【お問い合わせ】\n梅園の里天文台 天球館\nTEL:0978-97-2655\n開館時間：平日（月・水・木・金） 18:00～22:00　　土日祝・学童春夏冬休み 13:00〜22:00\n休館日：火曜日（祝祭日の場合は翌平日）
URL:https://www.imiru-kunisaki.fun/corner/2025-12-28/
LOCATION:梅園の里天文台 天球館\, 富清2244\, 国東市安岐町\, 大分県\, 873-0355\, Japan
CATEGORIES:イベント,安岐町,教室
ATTACH;FMTTYPE=image/jpeg:https://www.imiru-kunisaki.fun/wp-content/uploads/2025/12/chikukouseizatapesutorikousaku-800X500.jpg
END:VEVENT
END:VCALENDAR