BEGIN:VCALENDAR
VERSION:2.0
PRODID:-//いみ～る国東 - ECPv6.15.20//NONSGML v1.0//EN
CALSCALE:GREGORIAN
METHOD:PUBLISH
X-WR-CALNAME:いみ～る国東
X-ORIGINAL-URL:https://www.imiru-kunisaki.fun
X-WR-CALDESC:いみ～る国東 のイベント
REFRESH-INTERVAL;VALUE=DURATION:PT1H
X-Robots-Tag:noindex
X-PUBLISHED-TTL:PT1H
BEGIN:VTIMEZONE
TZID:Asia/Tokyo
BEGIN:STANDARD
TZOFFSETFROM:+0900
TZOFFSETTO:+0900
TZNAME:JST
DTSTART:20240101T000000
END:STANDARD
END:VTIMEZONE
BEGIN:VEVENT
DTSTART;TZID=Asia/Tokyo:20250519T133000
DTEND;TZID=Asia/Tokyo:20250519T150000
DTSTAMP:20260423T070148
CREATED:20250508T154051Z
LAST-MODIFIED:20250509T033325Z
UID:1298-1747661400-1747666800@www.imiru-kunisaki.fun
SUMMARY:「さ吉くんで元気！体操普及リーダーフォローアップ教室」
DESCRIPTION:これまで「体操普及リーダー向け」として開催していた「フォローアップ教室」が、今年度からどなたでも参加できる公開講座として生まれ変わります！ \n筋力アップの体操や、みんなで楽しめるレクリエーションなど、健康づくりに役立つ内容をぎゅっと詰め込んだ教室を、年6回開催予定です。 \n「いつまでも元気に過ごしたい」「地域をもっと明るくしたい」——そんな思いをお持ちのあなたにぴったりの講座です。 \n体を動かして、笑って、リフレッシュ♪ご家族やお友達を誘って、ぜひ気軽にご参加ください！ \n第1弾！『音楽に合わせて動けばみんな元気』 \n詳しくはこちら＞＞＞ \n【開催日時】\n5月19日（月） 13:30~15:00 \n【場所】\nアストくにさき アグリホール​ \n【講師】\n講師 ：末宗 薫氏、久納加奈子氏 （サウンドポップミュージック音楽教室） \n【参加費】\n無料　※事前申し込みが必要です。 \n【服装・持ち物】\n​運動のできる服装、水分補給の準備をお願いします。 \n​【お問い合わせ・お申し込み先】\n国東市社会福祉協議会 地域共生課 週一元気・サロン係\n電話番号：0978-67-1283​
URL:https://www.imiru-kunisaki.fun/corner/2025-05-19/
LOCATION:アスト国東\, 鶴川160-2\, 国東町\, 大分県\, 873-0503\, Japan
CATEGORIES:国東町,教室
ATTACH;FMTTYPE=image/jpeg:https://www.imiru-kunisaki.fun/wp-content/uploads/2025/05/sakichikunndegennki1_eyecatch-800X500-1.jpg
END:VEVENT
END:VCALENDAR