BEGIN:VCALENDAR
VERSION:2.0
PRODID:-//いみ～る国東 - ECPv6.15.20//NONSGML v1.0//EN
CALSCALE:GREGORIAN
METHOD:PUBLISH
X-ORIGINAL-URL:https://www.imiru-kunisaki.fun
X-WR-CALDESC:いみ～る国東 のイベント
REFRESH-INTERVAL;VALUE=DURATION:PT1H
X-Robots-Tag:noindex
X-PUBLISHED-TTL:PT1H
BEGIN:VTIMEZONE
TZID:Asia/Tokyo
BEGIN:STANDARD
TZOFFSETFROM:+0900
TZOFFSETTO:+0900
TZNAME:JST
DTSTART:20250101T000000
END:STANDARD
END:VTIMEZONE
BEGIN:VEVENT
DTSTART;TZID=Asia/Tokyo:20260116T103000
DTEND;TZID=Asia/Tokyo:20260116T113000
DTSTAMP:20260422T103345
CREATED:20251222T015543Z
LAST-MODIFIED:20251222T015543Z
UID:2342-1768559400-1768563000@www.imiru-kunisaki.fun
SUMMARY:離乳食教室
DESCRIPTION:「離乳食っていつから始めたらいいの？」「どんな風に進めていけばいいの？」そんなお悩みはありませんか？離乳食の基本や進め方についてわかりやすくお話しします♪ ちょっとしたコツを知るだけで、ママやパパの負担もぐっと軽くなりますよ！お気軽にご参加くださいね。\n※日程や内容は急に変更になることがあります。あらかじめご了承ください。 \n≪対象≫ おおむね生後3か月～1歳ごろまでのお子さんがいる、ご家族 \n≪内容≫ 離乳食の基本や進め方のお話に加えて、離乳食体験（大人の食事からの取り分けメニュー試食）\n※事前申込必要 \nR7年度　離乳食教室 \n【開催日時】\n1月16日（金）10:30~11:30 \n【場所】\n武蔵保健福祉センター（和室）\n※参加者の状況により会場が変更になることがございます。 \n【参加料金】\n無料 \n【持ち物】\n・赤ちゃんのお出かけセット（お気に入りのおもちゃ、着替えやオムツ等）\n・いつも使っているスプーン（離乳食を開始している方）\n・授乳の準備、ママの飲み物、バスタオル、母子手帳 \n【予約方法】\n電話もしくは、母子手帳アプリでのWeb予約\n※母子手帳アプリ『母子モ』→『地域の子育て情報』→『子育てイベント』 \n【お申込み・お問い合わせ】\n国東市役所 子育て支援課（国東市こども家庭センター）\n大分県国東市国東町鶴川149番地\nTEL 0978-72-5114\n平日8:30～17:00 （土日・祝祭日・年末年始を除く）
URL:https://www.imiru-kunisaki.fun/corner/2026-01-16/
LOCATION:武蔵保健福祉センター\, 古市１０８６−１\, 国東市武蔵町\, 大分県\, 873-0412\, Japan
CATEGORIES:イベント,子育て,教室,武蔵町
ATTACH;FMTTYPE=image/jpeg:https://www.imiru-kunisaki.fun/wp-content/uploads/2025/12/rinyuushokukyoushitsu-01-800X500.r.jpg
END:VEVENT
BEGIN:VEVENT
DTSTART;TZID=Asia/Tokyo:20260117T210000
DTEND;TZID=Asia/Tokyo:20260117T213000
DTSTAMP:20260422T103345
CREATED:20251222T063522Z
LAST-MODIFIED:20251222T063522Z
UID:2367-1768683600-1768685400@www.imiru-kunisaki.fun
SUMMARY:冬の星座 実践教室【天球館】
DESCRIPTION:澄みきった冬の夜空にきらめく、物語のような星座たち✨❄️🌌 **「冬の星座実践教室」**では、星座の探し方から望遠鏡🔭の使い方まで、実際の夜空を見上げながら楽しく学べます。 \nオリオン座やおうし座、ふたご座など、冬ならではの明るく美しい星々を一緒に見つけてみませんか？🌟星空観察のプロがやさしくサポートするので、初めての方やお子さま連れのご家族も安心してご参加いただけます😊 \n寒い季節だからこそ出会える、❄️✨星たちの輝きとともに過ごす特別なひとときを──🌙 \n【開催日時】\n1月17日（土）21:00~21:30 \n【場所】\n梅園の里天文台 天球館（国東市安岐町富清2244） \n【定員】\nなし　※応募不要 \n【料金】\n観覧料：大人500円・高校生:300円・小中学生200円\n※梅園の里 宿泊者様、団体（10名以上）は、お一人様100円引き \n◆年間パスポート：大人1500円・高校生900円・小中学生600円 \n【お問い合わせ】\n梅園の里天文台 天球館\nTEL:0978-97-2655\n開館時間：平日（月・水・木・金） 18:00～22:00　　土日祝・学童春夏冬休み 13:00〜22:00\n休館日：火曜日（祝祭日の場合は翌平日）
URL:https://www.imiru-kunisaki.fun/corner/2026-1-17/
LOCATION:梅園の里天文台 天球館\, 富清2244\, 国東市安岐町\, 大分県\, 873-0355\, Japan
CATEGORIES:イベント,安岐町,教室
ATTACH;FMTTYPE=image/jpeg:https://www.imiru-kunisaki.fun/wp-content/uploads/2025/12/fuyunoseizajissennkyoushitsu-800X500.jpg
END:VEVENT
BEGIN:VEVENT
DTSTART;TZID=Asia/Tokyo:20260122T100000
DTEND;TZID=Asia/Tokyo:20260122T120000
DTSTAMP:20260422T103345
CREATED:20251222T015218Z
LAST-MODIFIED:20251222T015258Z
UID:2337-1769076000-1769083200@www.imiru-kunisaki.fun
SUMMARY:令和7年度 プレママ・プレパパ教室
DESCRIPTION:もうすぐ赤ちゃんを迎えるプレママ・プレパパの皆さん、助産師と一緒に「自分らしいお産」について考えてみませんか？ \n出産への不安を和らげるだけでなく、同じ気持ちを持つ仲間と出会える機会にもなりますよ。\nぜひ、お気軽にご参加ください！ \n〈期間・開催日〉\n令和7年4月から令和8年3月\n※詳しい日程はこちらのサイトでご確認ください。令和7年度プレママ・プレパパ教室 \n〈対象者〉\n妊娠20週頃から出産までの妊婦さんとその夫・パートナー（ご家族の参加は要相談）\n※おひとりでの参加も大歓迎です！\n〈テーマ〉\n助産師と考える「アフターバースプラン」\n※事前申込必要 \n\n【開催日時】\n1月22日（木）10:00~12:00 ※トイレ休憩あり \n【場所】\n武蔵保健福祉センター ボランティア室\n※都合により変更となる場合がございます。 \n【参加料金】\n無料 \n【持ち物】\n母子健康手帳、筆記用具、飲み物 \n【予約方法】\n電話もしくは、母子手帳アプリでのWeb予約\n※母子手帳アプリ『母子モ』→『地域の子育て情報』→『子育てイベント』 \n【その他】\n託児が必要な方は、ご相談ください。 \n【お申込み・お問い合わせ】\n国東市役所 子育て支援課 （国東市こども家庭センター）\n大分県国東市国東町鶴川149番地\nTEL 0978-72-5114\n平日8:30～17:00 （土日・祝祭日・年末年始を除く）
URL:https://www.imiru-kunisaki.fun/corner/2026-01-22/
LOCATION:武蔵保健福祉センター\, 古市１０８６−１\, 国東市武蔵町\, 大分県\, 873-0412\, Japan
CATEGORIES:イベント,教室,武蔵町
ATTACH;FMTTYPE=image/jpeg:https://www.imiru-kunisaki.fun/wp-content/uploads/2025/12/puremamapurepapakyoushitsu-_eyecatch-1-800X500.jpg
END:VEVENT
END:VCALENDAR