BEGIN:VCALENDAR
VERSION:2.0
PRODID:-//いみ～る国東 - ECPv6.15.20//NONSGML v1.0//EN
CALSCALE:GREGORIAN
METHOD:PUBLISH
X-WR-CALNAME:いみ～る国東
X-ORIGINAL-URL:https://www.imiru-kunisaki.fun
X-WR-CALDESC:いみ～る国東 のイベント
REFRESH-INTERVAL;VALUE=DURATION:PT1H
X-Robots-Tag:noindex
X-PUBLISHED-TTL:PT1H
BEGIN:VTIMEZONE
TZID:Asia/Tokyo
BEGIN:STANDARD
TZOFFSETFROM:+0900
TZOFFSETTO:+0900
TZNAME:JST
DTSTART:20240101T000000
END:STANDARD
END:VTIMEZONE
BEGIN:VEVENT
DTSTART;TZID=Asia/Tokyo:20260223T100000
DTEND;TZID=Asia/Tokyo:20260223T150000
DTSTAMP:20260422T104544
CREATED:20260220T204958Z
LAST-MODIFIED:20260220T204958Z
UID:2492-1771840800-1771858800@www.imiru-kunisaki.fun
SUMMARY:「AI×イラスト」で動く絵で表現してみよう！親子AIワークショップ
DESCRIPTION:「空飛ぶクジラが見たい！」「宇宙でサッカーをするネコは？」 頭の中にある自由なアイデアを、AI（人工知能）を使って本物のイラストにしてみませんか？ \nこのワークショップでは、AIの仕組みを楽しく学びながら、実際にタブレットやPCを使ってイラスト作りに挑戦します。絵を描くのが得意な子も、ちょっぴり苦手な子も大丈夫。AIに「どんな絵を描きたいか」を伝えるコツ（プロンプト）をマスターすれば、誰でも素敵なアーティストになれます！ \n【日時】 \n2月23日（月） \n第1部：10:00~12:00 \n第2部：13:00~15:00 \n【場所】 \n大分空港レセプションA \n【参加費】 \n無料 \n【募集人数】 \n10組（先着順）対象：小学生以下 \n【お問い合わせ】 \n担当：松村さおり \n090-1081-5907
URL:https://www.imiru-kunisaki.fun/corner/%e3%80%8caix%e3%82%a4%e3%83%a9%e3%82%b9%e3%83%88%e3%80%8d%e3%81%a7%e5%8b%95%e3%81%8f%e7%b5%b5%e3%81%a7%e8%a1%a8%e7%8f%be%e3%81%97%e3%81%a6%e3%81%bf%e3%82%88%e3%81%86%ef%bc%81%e8%a6%aa%e5%ad%90ai/
LOCATION:大分空港内特設会場\, 下原13\, 国東市安岐町\, 大分県\, 873-0231\, Japan
CATEGORIES:イベント,体験,子育て,安岐町,教育・学習,武蔵町
ATTACH;FMTTYPE=image/png:https://www.imiru-kunisaki.fun/wp-content/uploads/2026/02/アイキャッチ26.png
END:VEVENT
BEGIN:VEVENT
DTSTART;TZID=Asia/Tokyo:20250726T093000
DTEND;TZID=Asia/Tokyo:20250726T153000
DTSTAMP:20260422T104544
CREATED:20250708T161456Z
LAST-MODIFIED:20250714T050026Z
UID:1547-1753522200-1753543800@www.imiru-kunisaki.fun
SUMMARY:古代体験てんこもり！弥生アラカルト【勾玉づくり】
DESCRIPTION:弥生時代の暮らしやものづくりを楽しみながら体験できる、毎年人気のイベント「弥生アラカルト」。今年も土器づくりをはじめ、いろいろな体験が楽しめます♪\n体験内容は日によって異なり、大人の方だけの参加も大歓迎です。\n古代の知恵や技にふれながら、家族や友達と一緒に楽しい時間を過ごしてみませんか？ \n🏺 体験メニュー（※日程ごとに異なります）\n①土器づくり\n②デカ勾玉づくり／特殊勾玉づくり\n③草木染め体験／発掘体験\n④アンギン織り\n⑤古代狩猟体験／とんぼ玉づくり \n各メニューの開催日はこちら＞＞＞\n \n※作業を伴いますので、動きやすく汚れても良い服装でお越しください。みなさまのご参加をお待ちしています！ \n②\nデカ勾玉づくり：弥生のムラ史上、最大級のデカ 勾玉に挑戦！\n特殊勾玉づくり：獣型勾玉や子持ち勾玉を 作ってみよう！\n \n【開催日時】\n7月26日（土）\n⚫午前の部　デカ勾玉づくり　開始9時30分～終了予定12時00分\n⚫午後の部　特殊勾玉づくり　開始13時30分～終了予定15時30分 \n【場所】\n弥生のムラ　国東市歴史体験学習館 \n【参加料金】\nデカ勾玉づくり　500円\n特殊勾玉づくり　300円 \n【対象年齢】\n小学生以上　※小学生は保護者同伴 \n【定員】※完全予約制（先着順）\n各30名 \n【予約について】\n詳しくはこちら＞＞＞ \n【お申込み・お問い合わせ】\n弥生のムラ 国東市歴史体験学習館\nTEL：0978－72－2677\n（月曜日・祝日の翌日は休館）
URL:https://www.imiru-kunisaki.fun/corner/2025-07-26-2/
LOCATION:弥生のムラ　国東市歴史体験学習館\, 国東市国東町安国寺1639番地2\, 国東市\, 大分県\, 873-0504\, Japan
CATEGORIES:イベント,体験,国東町,教育・学習
ATTACH;FMTTYPE=image/jpeg:https://www.imiru-kunisaki.fun/wp-content/uploads/2025/07/yayoiarakaruto2025_eyecatch-800X500.jpg
END:VEVENT
BEGIN:VEVENT
DTSTART;TZID=Asia/Tokyo:20250628T090000
DTEND;TZID=Asia/Tokyo:20250928T170000
DTSTAMP:20260422T104544
CREATED:20250608T132603Z
LAST-MODIFIED:20250608T151826Z
UID:1418-1751101200-1759078800@www.imiru-kunisaki.fun
SUMMARY:国東市歴史体験学習館企画展「戦後80年から振り返る 重光葵と国東 ―平和への道―」
DESCRIPTION:戦争と平和のはざまで生きた一人の外交官──重光葵をたどる \n令和7年、日本は太平洋戦争の終結から80年という節目を迎えます。終戦の際、戦艦ミズーリ号の上で日本の降伏文書に署名した外交官・重光葵（まもる）氏。その遺骨は、ここ国東市安岐町山口の地に静かに眠っています。 \n近くには、弟・蔵（おさむ）氏らの協力により、重光氏の遺品や写真を展示する山渓偉人館が開かれ、彼の足跡を今に伝えています。 \n戦争に心を痛めながらも、時代のうねりの中で歩んだ外交官としての道。降伏文書調印後にはA級戦犯としての逮捕という過酷な運命も経験しました。しかしその一方で、”向陽”という名で書や似顔絵を数多く残した、芸術家としてのもう一つの顔も持ち合わせていました。 \n本企画では、重光葵氏の波乱に満ちた生涯とともに、戦時下のくにさきの人々の暮らしにも光を当て、過去と向き合う時間を皆さまと共有できればと願っています。 \n詳しくはこちら＞＞＞ \n【開催日時】\n6月28日（土）〜9月28日（日） \n【場所】\n弥生のムラ　国東市歴史体験学習館 1階 企画展示室 \n【入館料】\n一般200円・小中学生100円　※団体割引あり \n【開館時間】\n9:00-17:00　※入館は16:30まで \n【休館日】\n毎週月曜日（祝日除く）、祝日の翌日 \n【お問い合わせ】\n国東市社会教育課　文化財課\nTEL 0978-72-2677
URL:https://www.imiru-kunisaki.fun/corner/2025-06-28-09-28/
LOCATION:弥生のムラ　国東市歴史体験学習館\, 国東市国東町安国寺1639番地2\, 国東市\, 大分県\, 873-0504\, Japan
CATEGORIES:国東町,教育・学習
ATTACH;FMTTYPE=image/jpeg:https://www.imiru-kunisaki.fun/wp-content/uploads/2025/06/senngo80nenn_eyecatch-800X500.jpg
END:VEVENT
BEGIN:VEVENT
DTSTART;TZID=Asia/Tokyo:20250525T130000
DTEND;TZID=Asia/Tokyo:20250525T130000
DTSTAMP:20260422T104544
CREATED:20250418T124704Z
LAST-MODIFIED:20250418T140155Z
UID:1154-1748178000-1748178000@www.imiru-kunisaki.fun
SUMMARY:舞台「青春ポートレート」【豊府高校演劇部】
DESCRIPTION:舞台「青春ポートレート」 アストくにさきにて再演決定！ \n豊府高校演劇部が、全国高等学校演劇大会を目指して挑んだ舞台——第77回大分県高文連中央演劇祭で多くの心を打った「青春ポートレート」。あの感動が、アストくにさきでふたたび幕を開けます。 \nまっすぐで、ひたむきで、どこか懐かしい。高校生たちが全力で描いた“青春の瞬間（とき）”を、ぜひ劇場でご体感ください。 \nみなさまのご来場を、心よりお待ちしております。 \n詳しくはこちら＞＞＞ \n【開催日時】\n5月25日（日）13:00 開演（12:30 開場） \n【会場】\n国東総合文化センター（アストくにさき）アストホール \n【料金】\n無料（※整理券が必要です。）\n整理券配布は、下記プレイガイドにて配布を開始します。 \n【プレイガイド】\n涛音寮、道の駅くにみ、藤原酒店、福田書店、国広書店、道の駅くにさき（サイクリングターミナル内）、たかはし薬局、とくべ、デイリーストア安岐たかはし、ふるさと市場Ｒ213、吉松楽器店（杵築市）、みんなんかん、くにさき総合文化センター（アストくにさき）、武蔵中央公民館、安岐中央公民館 \n【お問い合わせ】\n国東市 社会教育課\n大分県国東市国東町鶴川160番地2 アストくにさき1階\nTEL 0978-72-2121
URL:https://www.imiru-kunisaki.fun/corner/2025-05-25_2/
LOCATION:アスト国東\, 鶴川160-2\, 国東町\, 大分県\, 873-0503\, Japan
CATEGORIES:国東町,教育・学習
ATTACH;FMTTYPE=image/jpeg:https://www.imiru-kunisaki.fun/wp-content/uploads/2025/04/seisyunnportrait_eyecatch-800X500-1.jpg
ORGANIZER;CN="%E5%A4%A7%E5%88%86%E7%9C%8C%E7%AB%8B%E8%B1%8A%E5%BA%9C%E9%AB%98%E7%AD%89%E5%AD%A6%E6%A0%A1 %E6%BC%94%E5%8A%87%E9%83%A8":MAILTO:a32290@oen.ed.jp
END:VEVENT
BEGIN:VEVENT
DTSTART;TZID=Asia/Tokyo:20250505T133000
DTEND;TZID=Asia/Tokyo:20250505T150000
DTSTAMP:20260422T104544
CREATED:20250326T142423Z
LAST-MODIFIED:20250407T033330Z
UID:949-1746451800-1746457200@www.imiru-kunisaki.fun
SUMMARY:水ロケット工作と打ち上げ体験【天球館】
DESCRIPTION:梅園の里天文台 天球館で、水ロケット工作と打ち上げ体験を開催します！ペットボトルを使って、自分だけの水ロケットを作り、実際に空へ打ち上げてみませんか？水と空気の力で勢いよく飛ぶロケットの仕組みを学びながら、ものづくりの楽しさと科学の不思議を体験できます。事前予約制・先着順となっておりますので、お申し込みはお早めに！ \n【開催日時】\n5月5日（月）13:30~15:00 \n【場所】\n梅園の里天文台 天球館（国東市安岐町富清2244） \n【定員】\n16名　※事前予約制\nご予約は、開催の約1か月前にホームページでご案内し、ご案内日から先着順でお申し込みを受け付けます。 \n【料金】\n700円 \n【お問い合わせ】\n梅園の里天文台 天球館\nTEL:0978-97-2655\n開館時間：平日（月・水・木・金） 18:00～22:00　　土日祝・学童春夏冬休み 13:00〜22:00\n休館日：火曜日（祝祭日の場合は翌平日）
URL:https://www.imiru-kunisaki.fun/corner/2025-05-05-1/
LOCATION:梅園の里天文台 天球館\, 富清2244\, 国東市安岐町\, 大分県\, 873-0355\, Japan
CATEGORIES:イベント,安岐町,教育・学習
ATTACH;FMTTYPE=image/jpeg:https://www.imiru-kunisaki.fun/wp-content/uploads/2025/03/mizurokettokousaku_eyecatch-800X500-1.jpg
END:VEVENT
BEGIN:VEVENT
DTSTART;TZID=Asia/Tokyo:20250503T133000
DTEND;TZID=Asia/Tokyo:20250503T143000
DTSTAMP:20260422T104544
CREATED:20250326T140740Z
LAST-MODIFIED:20250407T033400Z
UID:931-1746279000-1746282600@www.imiru-kunisaki.fun
SUMMARY:光るLED星座パネル工作【天球館】
DESCRIPTION:梅園の里天文台 天球館で、光るLED星座パネル工作のワークショップが開催されます。夜空に輝く星座を、自分の手で作ってみませんか？LEDを使って星座を美しく光らせることで、オリジナルの星座パネルが完成します。お部屋のインテリアにもぴったりで、星空の魅力をいつでも楽しめます。ものづくりや星が好きな方におすすめのワークショップです。事前予約制・先着順となっておりますので、お申し込みはお早めに！ \n【開催日時】\n5月3日（土）13:30~14:30 \n【場所】\n梅園の里天文台 天球館（国東市安岐町富清2244） \n【定員】\n16名　※事前予約制\nご予約は、開催の約1か月前にホームページでご案内し、ご案内日から先着順でお申し込みを受け付けます。 \n【料金】\n800円 \n【お問い合わせ】\n梅園の里天文台 天球館\nTEL:0978-97-2655\n開館時間：平日（月・水・木・金） 18:00～22:00　　土日祝・学童春夏冬休み 13:00〜22:00\n休館日：火曜日（祝祭日の場合は翌平日）
URL:https://www.imiru-kunisaki.fun/corner/2025-05-03-1/
LOCATION:梅園の里天文台 天球館\, 富清2244\, 国東市安岐町\, 大分県\, 873-0355\, Japan
CATEGORIES:イベント,安岐町,教育・学習
ATTACH;FMTTYPE=image/jpeg:https://www.imiru-kunisaki.fun/wp-content/uploads/2025/03/hikaruledseiza_eyecatch-800X500-2.jpg
END:VEVENT
BEGIN:VEVENT
DTSTART;TZID=Asia/Tokyo:20250426T210000
DTEND;TZID=Asia/Tokyo:20250426T213000
DTSTAMP:20260422T104544
CREATED:20250326T132432Z
LAST-MODIFIED:20250418T130054Z
UID:910-1745701200-1745703000@www.imiru-kunisaki.fun
SUMMARY:春の星座 実践教室【天球館】
DESCRIPTION:梅園の里天文台 天球館で春の星座 実践教室が開催されます。\n春の夜空を彩る美しい星々を一緒に観察し、星座の形や名前を学んでみませんか？春の夜空に輝く星座を実際に観察しながら、星座の知識を深めます。星座の名前や特徴を知ることで、夜空が一層魅力的に感じられることでしょう。初めての方でも安心して参加できる内容ですので、この機会にぜひ星座観察の楽しさを体験してみてください。 \n【開催日時】\n4月26日（土）21:00~21:30 \n【場所】\n梅園の里天文台 天球館（国東市安岐町富清2244） \n【定員】\nなし　※応募不要 \n【料金】\n観覧料：大人500円・高校生:300円・小中学生200円\n※梅園の里 宿泊者様、団体（10名以上）は、お一人様100円引き \n◆年間パスポート：大人1500円・高校生900円・小中学生600円 \n【お問い合わせ】\n梅園の里天文台 天球館\nTEL:0978-97-2655\n開館時間：平日（月・水・木・金） 18:00～22:00　　土日祝・学童春夏冬休み 13:00〜22:00\n休館日：火曜日（祝祭日の場合は翌平日）
URL:https://www.imiru-kunisaki.fun/corner/2025-04-26/
LOCATION:梅園の里天文台 天球館\, 富清2244\, 国東市安岐町\, 大分県\, 873-0355\, Japan
CATEGORIES:安岐町,教育・学習
ATTACH;FMTTYPE=image/png:https://www.imiru-kunisaki.fun/wp-content/uploads/2025/03/harunosaizajissennkyoushitsu_eyecatch-800X500-1.png
END:VEVENT
BEGIN:VEVENT
DTSTART;TZID=Asia/Tokyo:20250419T100000
DTEND;TZID=Asia/Tokyo:20250419T123000
DTSTAMP:20260422T104544
CREATED:20250405T094345Z
LAST-MODIFIED:20250407T074101Z
UID:1058-1745056800-1745065800@www.imiru-kunisaki.fun
SUMMARY:親子写真教室＆田深フォトウォーク【たぶか軒先市コラボ企画同時開催】
DESCRIPTION:たぶか軒先市とのコラボ企画！田深縦町通り商店街で、親子で楽しめる「写真教室＆フォトウォーク」が開催されます。一眼レフカメラの使い方をやさしく学びながら、どこか懐かしいレトロな商店街や、にぎやかなイベントの風景を撮影してみませんか？ \n当日は無料でカメラの貸し出しもありますので、手ぶらでの参加も大歓迎。お申し込みは先着順となっておりますので、どうぞお早めに！ \n詳しくはこちら＞＞＞ \n【開催日時】\n4月19日（土）10:00~12:30 \n【場所】\n田深縦町商店街　旧西村化粧品店（夷宮の隣）\n（国東市国東町田深）\n \n【募集定員】\n小中学生と保護者10組（20名前後）※先着順 \n【参加費】\n無料（当日カメラを無料貸出しします） \n【お問い合わせ】\n田深商店街活性化プロジェクト推進委員会\nTEL：0978-72-0141（松尾米穀店） \n【協力】\n大分キャノン株式会社
URL:https://www.imiru-kunisaki.fun/corner/2025-04-19-2/
LOCATION:田深縦町通り商店街\, 田深\, 国東市国東町\, 大分県\, Japan
CATEGORIES:イベント,国東町,教育・学習
ATTACH;FMTTYPE=image/jpeg:https://www.imiru-kunisaki.fun/wp-content/uploads/2025/04/oyakosyashinnkyoushitsu_eyecatch-800X500-1.jpg
END:VEVENT
END:VCALENDAR