BEGIN:VCALENDAR
VERSION:2.0
PRODID:-//いみ～る国東 - ECPv6.15.20//NONSGML v1.0//EN
CALSCALE:GREGORIAN
METHOD:PUBLISH
X-ORIGINAL-URL:https://www.imiru-kunisaki.fun
X-WR-CALDESC:いみ～る国東 のイベント
REFRESH-INTERVAL;VALUE=DURATION:PT1H
X-Robots-Tag:noindex
X-PUBLISHED-TTL:PT1H
BEGIN:VTIMEZONE
TZID:Asia/Tokyo
BEGIN:STANDARD
TZOFFSETFROM:+0900
TZOFFSETTO:+0900
TZNAME:JST
DTSTART:20250101T000000
END:STANDARD
END:VTIMEZONE
BEGIN:VEVENT
DTSTART;TZID=Asia/Tokyo:20260307T083000
DTEND;TZID=Asia/Tokyo:20260307T180000
DTSTAMP:20260423T070929
CREATED:20260220T205409Z
LAST-MODIFIED:20260220T210932Z
UID:2396-1772872200-1772906400@www.imiru-kunisaki.fun
SUMMARY:ほろ酔いいい気分！？旅～老舗酒蔵三蔵とお酒にまつわる説法
DESCRIPTION:国東を愉しむおススメ旅　\n国東半島の老舗の酒蔵三蔵を巡り、　それぞれの味を堪能していただきます。　 \nが、　ここは仏の里国東。六郷満山の中で最古のお寺である瑠璃光寺さんで　住職の楽しい講話を聞きましょう。　 \n※先着40名です \n\n\n【出発日】 \n2026年３月７日（土） \n\n\n【旅行行程】 \n大分駅　8：30　→　別府駅　９:００　→　杵築駅　9：40　→　中野酒造「知恵美人」　9：50～10：25　→　萱島酒造「西の関」10:55～11:50　→　昼食　12：25～13：25　→　瑠璃光寺（極楽・地獄説法）14:05～15:00　→　南酒造「とっぱい」　15:15～15:55　→　大分の空むさし（休憩）16:05～16:25　→　杵築駅　16:50　→　別府駅　17:30　→　大分駅　18:00 \n\n\n【旅行代金】 \n12\,900円 \n\n\n【旅行企画業者】 \n国東市観光協会 \n\n\n【企画旅行業者住所】 \n〒873-0511\n大分県国東市国東町小原2662番地1\n国東市サイクリングターミナル内 \n\n\n【旅行業登録番号】 \n大分県知事登録旅行業第2-214 \n\n\n【お申込み先電話番号】 \n0978-73-0962 \n\n\n【旅行日数】 \n日帰り \n\n\n【最少催行人員】 \n20名 \n\n\n【運送機関の種類】 \n（株）大分べっぷ温泉バス　（予定） \n\n\n【食事回数】 \n昼食1回 \n\n\n【添乗員の同行】 \n有り \n\n【旅程管理者】\n\n【総合旅行業務取扱管理者】 \n高瀬　道信 \n\n\n【旅行代金に含まれるもの】 \n行程に明示した運送機関運賃、料金、昼食代、ガイド料、消費税、その他諸経費。 \n\n\n【旅行代金に含まれないもの】 \n上記以外
URL:https://www.imiru-kunisaki.fun/corner/%e3%81%bb%e3%82%8d%e9%85%94%e3%81%84%e3%81%84%e3%81%84%e6%b0%97%e5%88%86%ef%bc%81%ef%bc%9f%e6%97%85%ef%bd%9e%e8%80%81%e8%88%97%e9%85%92%e8%94%b5%e4%b8%89%e8%94%b5%e3%81%a8%e3%81%8a%e9%85%92%e3%81%ab/
LOCATION:瑠璃光寺\, 大分県国東市安岐町糸永１３３９\, 国東市\, 大分県\, 873-0511\, Japan
CATEGORIES:イベント,安岐町,旅
ATTACH;FMTTYPE=image/png:https://www.imiru-kunisaki.fun/wp-content/uploads/2026/02/アイキャッチ15.png
END:VEVENT
BEGIN:VEVENT
DTSTART;TZID=Asia/Tokyo:20260315T080000
DTEND;TZID=Asia/Tokyo:20260315T173000
DTSTAMP:20260423T070929
CREATED:20260225T182059Z
LAST-MODIFIED:20260225T182059Z
UID:2462-1773561600-1773595800@www.imiru-kunisaki.fun
SUMMARY:鬼と仏が行き来する里を訪ねて　心と身体が整う旅　～地元食材を使用した精進料理の弁当を味わう
DESCRIPTION:国東を愉しむおススメ旅　\nその昔　厳しい修行の場であった国東の山々、そして寺院。　峯入りの道の一部を歩いたり、　坐禅を体験したり、　静かに佇むその場所で　心穏やかに過ごしませんか?　お食事には、国東産の食材で手作りにこだわった精進料理弁当をご用意しています。　\n※当日は　坐禅体験や山歩きありますので、　坐禅しやすい、歩きやすい服装、スニーカーかトレッキングシューズなど歩きやすい靴でおいでください。 \n  \n\n【出発日】 \n2026年３月15日（日） \n\n\n【旅行行程】 \n大分駅　8：00　→　別府駅　8:30　→　相原PA（休憩）9:15～9:25　→杵築IC　9：40　→　大分空港　10:10　岩戸寺（修正鬼会のビデオ鑑賞後峯入りコースの一部を歩きます）11：00～　　大聖寺（精進料理の弁当）　長慶寺（坐禅又は数珠繰体験）　～14:30　→　大分空港　15：10　→　杵築IC　15:30　→　シーガーデンひじ　15:55～16:20　→　別府駅　16:45　→　大分駅　17：20 \n\n\n【旅行代金】 \nバス利用　12\,600円　現地集合　7\,500円 \n\n\n【旅行企画業者】 \n国東市観光協会 \n\n\n【企画旅行業者住所】\n〒873-0511\n大分県国東市国東町小原2662番地1\n国東市サイクリングターミナル内 \n\n\n【旅行業登録番号】 \n大分県知事登録旅行業第2-214 \n\n\n【お申込み先電話番号】 \n0978-73-0962 \n\n\n【旅行日数】 \n日帰り \n\n\n【最少催行人員】 \n20 \n\n\n【運送機関の種類】 \n（株）大分べっぷ温泉バス　（予定） \n\n\n【食事回数】 \n昼食1回 \n\n\n【添乗員の同行】 \n有り \n\n【旅程管理者】\n\n【総合旅行業務取扱管理者】 \n高瀬　道信 \n\n\n【旅行代金に含まれるもの】 \n行程に明示した運送機関運賃、料金、昼食代、ガイド料、消費税、その他諸経費。 \n\n\n【旅行代金に含まれないもの】 \n上記以外 \n\n【その他】
URL:https://www.imiru-kunisaki.fun/corner/%e9%ac%bc%e3%81%a8%e4%bb%8f%e3%81%8c%e8%a1%8c%e3%81%8d%e6%9d%a5%e3%81%99%e3%82%8b%e9%87%8c%e3%82%92%e8%a8%aa%e3%81%ad%e3%81%a6%e3%80%80%e5%bf%83%e3%81%a8%e8%ba%ab%e4%bd%93%e3%81%8c%e6%95%b4%e3%81%86/
LOCATION:国東半島のお寺\, 国東市\, 大分県\, Japan
CATEGORIES:イベント,体験,国東半島,旅
ATTACH;FMTTYPE=image/png:https://www.imiru-kunisaki.fun/wp-content/uploads/2026/02/アイキャッチ24.png
END:VEVENT
END:VCALENDAR