BEGIN:VCALENDAR
VERSION:2.0
PRODID:-//いみ～る国東 - ECPv6.15.20//NONSGML v1.0//EN
CALSCALE:GREGORIAN
METHOD:PUBLISH
X-WR-CALNAME:いみ～る国東
X-ORIGINAL-URL:https://www.imiru-kunisaki.fun
X-WR-CALDESC:いみ～る国東 のイベント
REFRESH-INTERVAL;VALUE=DURATION:PT1H
X-Robots-Tag:noindex
X-PUBLISHED-TTL:PT1H
BEGIN:VTIMEZONE
TZID:Asia/Tokyo
BEGIN:STANDARD
TZOFFSETFROM:+0900
TZOFFSETTO:+0900
TZNAME:JST
DTSTART:20240101T000000
END:STANDARD
END:VTIMEZONE
BEGIN:VEVENT
DTSTART;TZID=Asia/Tokyo:20250323T100000
DTEND;TZID=Asia/Tokyo:20250323T140000
DTSTAMP:20260423T075810
CREATED:20250316T081825Z
LAST-MODIFIED:20250515T134112Z
UID:807-1742724000-1742738400@www.imiru-kunisaki.fun
SUMMARY:『こども子育て応援!! なっちゃんの家』に遊びに来ませんか？
DESCRIPTION:「なっちゃん」の家って？ \n「なっちゃんの家」は、0～18歳の子どもたちや保護者の方が、気軽に集まって楽しく交流できるあたたかい場所です。 \n地域の皆さんがスタッフとして工夫をこらし、毎回楽しいイベントを開催！ たくさんの笑顔があふれ、毎回150～200人もの方々が訪れています。 \n名前の由来は、武蔵児童館前にたたずむ少女像「なっちゃん」。まるでお友達の家に遊びに行くような気持ちで、どうぞ気軽に遊びに来てください！ \n《開催時期》\n毎月第4日曜日\n午前10時から午後2時まで \n詳しくはこちら＞＞＞ \n【開催日時】\n3月23日（日）10:00~14:00 \n【場所】\n武蔵児童館（国東市隣保館）\n国東市武蔵町古市1138番地1\n \n【参加料金】\n無料 \n【お問い合わせ】\n国東市役所 子育て支援課（国東市こども家庭センター）\n大分県国東市国東町鶴川149番地\nTEL 0978-72-5114\n平日8:30～17:00 （土日・祝祭日・年末年始を除く） \n 
URL:https://www.imiru-kunisaki.fun/corner/2025-03-23-3/
LOCATION:武蔵児童館（国東市隣保館）\, 古市1138番地1\, 国東市武蔵町\, 大分県\, 873-0412\, Japan
CATEGORIES:イベント,子育て,武蔵町
ATTACH;FMTTYPE=image/jpeg:https://www.imiru-kunisaki.fun/wp-content/uploads/2025/03/nacchannoie_eyecatch-800X500-1.jpg
END:VEVENT
BEGIN:VEVENT
DTSTART;TZID=Asia/Tokyo:20250323T094500
DTEND;TZID=Asia/Tokyo:20250323T120000
DTSTAMP:20260423T075810
CREATED:20250216T052257Z
LAST-MODIFIED:20250316T063222Z
UID:620-1742723100-1742731200@www.imiru-kunisaki.fun
SUMMARY:多肉植物　基本のきほん
DESCRIPTION:お申し込みはこちらから＞＞＞ \n国東の陽射しをたっぷり浴びて、元気に育った多肉植物たち。そんな愛らしい植物を寄せ植えしながら、基本のコツや育て方を楽しく学びませんか？ \n今回は、ミニチュアハウスをポイントにした箱庭風の寄せ植えづくりに挑戦。まるで小さな世界が広がるような、あなただけの小さな癒しの空間を作りましょう！ \n【開催日時】\n2025年3月23日（日）9:45~12:00 \n【参加料金】\n3500円 \n【集合場所】\n椿八幡神社 駐車場（武蔵町三井寺365） \n【定員】\n6名（最少催行2名） \n【持ち物】\nエプロン・飲み物 \n【行程】\n9：45椿八幡駐車場⇒ハウスに移動⇒寄せ植え体験⇒駐車場に移動⇒解散\n※ハウスにはトイレがありませんので集合前に済ませてください。 \n【申込締切】\n3月19日（水） \n【お申込み・お問い合わせ】\n一般社団法人国東市観光協会\nTEL 0978-73-0962 (受付時間 9:00 ~ 17:00)
URL:https://www.imiru-kunisaki.fun/corner/odayaka2025-03-23_1/
LOCATION:椿八幡神社\, 三井寺656\, 国東市武蔵町\, 大分県\, Japan
CATEGORIES:おだやか博,武蔵町
ATTACH;FMTTYPE=image/jpeg:https://www.imiru-kunisaki.fun/wp-content/uploads/2025/02/tanikusyokubutu_eyecatch-800X500-1.jpg
END:VEVENT
BEGIN:VEVENT
DTSTART;TZID=Asia/Tokyo:20250322T100000
DTEND;TZID=Asia/Tokyo:20250322T133000
DTSTAMP:20260423T075810
CREATED:20250318T042842Z
LAST-MODIFIED:20250515T134133Z
UID:817-1742637600-1742650200@www.imiru-kunisaki.fun
SUMMARY:秀渓まつり
DESCRIPTION:5年ぶりに、にぎやかで楽しい「秀渓まつり」が武蔵農村公園で開催されます！ \n御神楽をはじめ、さまざまなステージイベントが開催され、にぎやかな雰囲気に包まれます♪\nストラックアウトや射的で遊んだり、ふれあい動物コーナーでかわいい動物たちと触れ合ったり、子どもも大人も笑顔になれるコーナーもあります！ 大人気の「さ吉くんふわふわ」も登場します。\nさらに、おいしいグルメが楽しめるキッチンカーもやってくる！なんと綿菓子は無料‼️ \nそして、お楽しみの抽選会では、ダイソンの人気商品や高額ギフト券が当たるチャンスも✨ \nみんなで遊んで、笑って、思い出いっぱいのおまつりを楽しもう♪ \n詳しくはこちら＞＞＞ \n【開催日時】\n3月22日（土）10:00~13:30\n※抽選券は先着300名様　9:30〜11:30配布予定（一人一枚、なくなり次第終了） \n【場所】\n武蔵農村公園（武蔵総合支所・武蔵保健センター裏）通称：きのこ公園\n国東市武蔵町古市１２３１−１\n \n【参加料金】\n無料 \n【お問い合わせ・主催】\n社会福祉法人　秀渓会\nTEL 0978-69-0101
URL:https://www.imiru-kunisaki.fun/corner/2025-03-22/
LOCATION:武蔵農村公園\, 古市１２３１−１\, 国東市武蔵町\, 大分県\, 873-0412\, Japan
CATEGORIES:イベント,武蔵町
ATTACH;FMTTYPE=image/jpeg:https://www.imiru-kunisaki.fun/wp-content/uploads/2025/03/syuukeimatsuri_eyecatch-800X500-1-1.jpg
END:VEVENT
BEGIN:VEVENT
DTSTART;TZID=Asia/Tokyo:20250319T100000
DTEND;TZID=Asia/Tokyo:20250319T113000
DTSTAMP:20260423T075810
CREATED:20250217T125921Z
LAST-MODIFIED:20250515T134216Z
UID:657-1742378400-1742383800@www.imiru-kunisaki.fun
SUMMARY:にこにこ子育て広場
DESCRIPTION:育児の悩みや不安を気軽に相談したり、同じくらいの年齢のお子さんをもつママ同士で楽しく交流したりできる場です。\nリラックスした雰囲気の中で、おしゃべりしながら育児のヒントを見つけませんか？ぜひお気軽にご参加ください♪ \n≪対象≫ どの月齢の赤ちゃんでもOK！妊娠中の方もご参加いただけます。 \n≪内容≫ 保健師や栄養士によるお話、助産師さんと一緒に行うタッチケア、外部講師によるふれあい遊びや楽しい製作タイムなど、盛りだくさんの内容です！ \n日程等詳細については、以下のリンクにてご確認ください。\n開始時間は10時からです。\n※事前申込必要 \nR6年度 にこにこ子育て広場 \n【開催日時】\n3月19日（水）10:00~11:30 \n【場所】\n武蔵保健福祉センター \n【参加料金】\n無料 \n【持ち物】\n母子手帳、赤ちゃんのお出かけセット（お気に入りのおもちゃ､着替えやオムツなど）、授乳の準備、ママの飲み物、バスタオル（計測を希望する方）\n \n【お申込み・お問い合わせ】\n国東市役所 子育て支援課（国東市こども家庭センター）\n大分県国東市国東町鶴川149番地\nTEL 0978-72-5114\n平日8:30～17:00 （土日・祝祭日・年末年始を除く）
URL:https://www.imiru-kunisaki.fun/corner/2025-03-19/
LOCATION:武蔵保健福祉センター\, 古市１０８６−１\, 国東市武蔵町\, 大分県\, 873-0412\, Japan
CATEGORIES:子育て,武蔵町
ATTACH;FMTTYPE=image/jpeg:https://www.imiru-kunisaki.fun/wp-content/uploads/2025/02/kosodatehiroba_eyecatch-800X500-1.jpg
END:VEVENT
BEGIN:VEVENT
DTSTART;TZID=Asia/Tokyo:20250315T110000
DTEND;TZID=Asia/Tokyo:20250315T150000
DTSTAMP:20260423T075810
CREATED:20250216T043750Z
LAST-MODIFIED:20250216T062747Z
UID:593-1742036400-1742050800@www.imiru-kunisaki.fun
SUMMARY:歴史を感じる　写真教室
DESCRIPTION:お申し込みは、こちらから＞＞＞ \n武蔵町三井寺の椿八幡には、まるで時を超えて佇むかのような大クスノキがあります。樹齢1000年にも届こうとするその姿は、力強く、そしてどこか神秘的。そんな大クスノキの生命力を、ダイナミックに、いきいきと写真に収めてみませんか？ \nキヤノンのカメラを実際に手に取りながら、素敵な写真の撮り方を楽しく学べる特別な時間をご用意しました。カメラは貸し出しOK！インストラクターはプロのカメラマン。たくさんのボタンがついたカメラも、ポイントを押さえればぐっと使いやすくなります。スマホでは撮れない、一味違う一枚を一緒に撮影しましょう。 \nさらに、撮影した作品は後程展示会でお披露目。写真データはスマホに保存できますので、ご自身のスマホをお忘れなく。 \n歴史の風を感じながら、特別な瞬間をカメラに収めてみませんか？ \n【開催日時】\n3月15日（土）11:00~15:00 \n【参加料金】\n2000円（昼食代＋保険代） \n【集合場所】\n武蔵中央公民館（セントラルホール）（武蔵町古市1107番地1） \n【定員】\n20名（最少催行5名） \n【持ち物】\n動きやすい服装、お持ちのスマートフォン（カメラで撮影した写真のデータを取り込みます） \n【行程】\n11:00-11:30 講座①→11:30-11:40 移動（武蔵中央公民館→椿八幡神社）→11:40-12:30 昼食\n→12:30-13:30 実写→13:30-13:40 移動（椿八幡神社→武蔵中央公民館）\n13:40-14:20 講座②→14:20-15:00 写真鑑賞・アンケート記入・閉会 \n【申込締切】\n3月12日（水） \n【お申込み・お問い合わせ】\n一般社団法人国東市観光協会\nTEL 0978-73-0962 (受付時間 9:00 ~ 17:00)
URL:https://www.imiru-kunisaki.fun/corner/odayaka2025-03-15/
LOCATION:武蔵中央公民館\, 古市1107番地1\, 国東市武蔵町\, 大分県\, 873-0412\, Japan
CATEGORIES:おだやか博,武蔵町
END:VEVENT
BEGIN:VEVENT
DTSTART;TZID=Asia/Tokyo:20250314T100000
DTEND;TZID=Asia/Tokyo:20250314T110000
DTSTAMP:20260423T075810
CREATED:20250217T131026Z
LAST-MODIFIED:20250217T131026Z
UID:663-1741946400-1741950000@www.imiru-kunisaki.fun
SUMMARY:離乳食教室
DESCRIPTION:「離乳食っていつから始めたらいいの？」「どんな風に進めていけばいいの？」そんなお悩みはありませんか？離乳食の基本や進め方についてわかりやすくお話しします♪ ちょっとしたコツを知るだけで、ママやパパの負担もぐっと軽くなりますよ！お気軽にご参加くださいね。 \n≪対象≫ おおむね生後3か月～1歳ごろまでのお子さんがいる、ご家族 \n≪内容≫ 離乳食の基本や進め方のお話に加えて、実際に離乳食を体験する時間もあります！\n※事前申込必要 \nR6年度にこにこ子育て広場・離乳食教室 \n【開催日時】\n3月14日（金）10:00~11:00 \n【場所】\n武蔵保健福祉センター（和室） \n【参加料金】\n無料 \n【持ち物】\n赤ちゃんのお出掛けセット ※赤ちゃんの体重測定をしたい方はバスタオルを持ってきてください。 \n【お申込み・お問い合わせ】\n国東市役所 子育て支援課（国東市こども家庭センター）\n大分県国東市国東町鶴川149番地\nTEL 0978-72-5114\n平日8:30～17:00 （土日・祝祭日・年末年始を除く）
URL:https://www.imiru-kunisaki.fun/corner/2025-03-14/
LOCATION:武蔵保健福祉センター\, 古市１０８６−１\, 国東市武蔵町\, 大分県\, 873-0412\, Japan
CATEGORIES:子育て,武蔵町
END:VEVENT
BEGIN:VEVENT
DTSTART;TZID=Asia/Tokyo:20250309T100000
DTEND;TZID=Asia/Tokyo:20250309T120000
DTSTAMP:20260423T075810
CREATED:20250203T064150Z
LAST-MODIFIED:20250216T062807Z
UID:181-1741514400-1741521600@www.imiru-kunisaki.fun
SUMMARY:古きを訪ねて新しきを知る「鶴川探訪」~空也上人ゆかりの地を歩く～
DESCRIPTION:お申し込みは、こちらから＞＞＞ \n平安時代の高僧・空也上人が開基した興導寺を中心に、平安京を模した町づくりが行われ、数多くの歴史的遺構が残る国東市国東町鶴川。\nこの地をゆっくりと散策し、古の息吹を感じながら新たな発見を共に楽しみませんか。各名所では専門のガイドが見どころを丁寧にご案内いたします。\n昼食には、地元の新鮮な食材を使ったおにぎり弁当をご用意しております。\n歴史と自然が織りなす風景の中で、心豊かなひとときをお過ごしください。 \n【開催日時】\n3月9日（日）10:00~12:00 \n【参加料金】\n2500円（郷土食材おにぎりお弁当付き） \n【集合場所】\n鶴川商店街周辺観光・交流拠点施設（国東町鶴川1365番地1） \n【定員】\n10名（最少催行5名） \n【持ち物】\n歩きやすい服装・雨具 \n【行程】\n10:00　集合　約10ヶ所のポイントを専門のガイドが説明→12:00 昼食、解散 \n【申込締切】\n3月5日（水）17:00 \n【お申込み・お問い合わせ】\n一般社団法人国東市観光協会\nTEL 0978-73-0962 (受付時間 9:00 ~ 17:00)
URL:https://www.imiru-kunisaki.fun/corner/odayaka2025-03-09/
LOCATION:鶴川商店街周辺観光・交流拠点施設\, 鶴川1365-1\, 国東市国東町\, 大分県\, 873-0503\, Japan
CATEGORIES:おだやか博,武蔵町
ATTACH;FMTTYPE=image/jpeg:https://www.imiru-kunisaki.fun/wp-content/uploads/2025/02/tsurugawatanbou_eyecatch-800x500-1.jpg
END:VEVENT
BEGIN:VEVENT
DTSTART;TZID=Asia/Tokyo:20250307T100000
DTEND;TZID=Asia/Tokyo:20250307T120000
DTSTAMP:20260423T075810
CREATED:20250217T130557Z
LAST-MODIFIED:20250217T130557Z
UID:660-1741341600-1741348800@www.imiru-kunisaki.fun
SUMMARY:令和6年度 プレママ・プレパパ教室
DESCRIPTION:もうすぐ赤ちゃんを迎えるプレママ・プレパパの皆さん、助産師と一緒に「自分らしいお産」について考えてみませんか？ \n出産への不安を和らげるだけでなく、同じ気持ちを持つ仲間と出会える機会にもなりますよ。ぜひ、お気軽にご参加ください！\n令和6年度プレママ・プレパパ教室 \n〈期間・開催日〉\n令和6年4月から令和7年3月\n※詳しい日程はこちらのサイトでご確認ください。令和6年度プレママ・プレパパ教室 \n〈対象者〉\n妊娠20週頃から出産までの妊婦さんとそのご夫婦・パートナー（ご家族の参加はご相談ください）\n※おひとりでの参加も大歓迎です！\n〈テーマ〉\n助産師と考える「アフターバースプラン」\n※事前申込必要 \n※このプレママ・プレパパ教室は、出産・子育て応援金の面談を兼ねています。\n詳しくは「出産・子育て応援交付金」（国東市ホームページ）をご確認ください。 \n\n【開催日時】\n3月7日（金）10:00~12:00 ※トイレ休憩あり \n【場所】\n武蔵保健福祉センター ボランティア室\n※都合により変更となる場合がございます \n【参加料金】\n無料 \n【持ち物】\n母子健康手帳、筆記用具、飲み物 \n【予約方法】\n電話もしくは、母子手帳アプリでのWeb予約\n※母子手帳アプリ『母子モ』→『地域の子育て情報』→『子育てイベント』 \n【その他】\n託児が必要な方は、ご相談ください。 \n【お申込み・お問い合わせ】\n国東市役所 子育て支援課 （国東市こども家庭センター）\n大分県国東市国東町鶴川149番地\nTEL 0978-72-5114\n平日8:30～17:00 （土日・祝祭日・年末年始を除く）
URL:https://www.imiru-kunisaki.fun/corner/2025-03-07/
LOCATION:武蔵保健福祉センター\, 古市１０８６−１\, 国東市武蔵町\, 大分県\, 873-0412\, Japan
CATEGORIES:子育て,武蔵町
END:VEVENT
BEGIN:VEVENT
DTSTART;TZID=Asia/Tokyo:20250305T100000
DTEND;TZID=Asia/Tokyo:20250305T113000
DTSTAMP:20260423T075810
CREATED:20250217T125525Z
LAST-MODIFIED:20250217T130038Z
UID:654-1741168800-1741174200@www.imiru-kunisaki.fun
SUMMARY:にこにこ子育て広場
DESCRIPTION:育児の悩みや不安を気軽に相談したり、同じくらいの年齢のお子さんをもつママ同士で楽しく交流したりできる場です。\nリラックスした雰囲気の中で、おしゃべりしながら育児のヒントを見つけませんか？ぜひお気軽にご参加ください♪ \n≪対象≫ どの月齢の赤ちゃんでもOK！妊娠中の方もご参加いただけます。 \n≪内容≫ 保健師や栄養士によるお話、助産師さんと一緒に行うタッチケア、外部講師によるふれあい遊びや楽しい製作タイムなど、盛りだくさんの内容です！ \n日程等詳細については、以下のリンクにてご確認ください。\n開始時間は10時からです。\n※事前申込必要 \nR6年度 にこにこ子育て広場 \n【開催日時】\n3月5日（水）10:00~11:30 \n【場所】\n武蔵保健福祉センター \n【参加料金】\n無料 \n【持ち物】\n母子手帳、赤ちゃんのお出かけセット（お気に入りのおもちゃ､着替えやオムツなど）、授乳の準備、ママの飲み物、バスタオル（計測を希望する方）\n \n【お申込み・お問い合わせ】\n国東市役所 子育て支援課（国東市こども家庭センター）\n大分県国東市国東町鶴川149番地\nTEL 0978-72-5114\n平日8:30～17:00 （土日・祝祭日・年末年始を除く）
URL:https://www.imiru-kunisaki.fun/corner/2025-03-05/
LOCATION:武蔵保健福祉センター\, 古市１０８６−１\, 国東市武蔵町\, 大分県\, 873-0412\, Japan
CATEGORIES:子育て,武蔵町
END:VEVENT
BEGIN:VEVENT
DTSTART;TZID=Asia/Tokyo:20250302T103000
DTEND;TZID=Asia/Tokyo:20250302T113000
DTSTAMP:20260423T075810
CREATED:20250217T124620Z
LAST-MODIFIED:20250217T133535Z
UID:647-1740911400-1740915000@www.imiru-kunisaki.fun
SUMMARY:むさし日曜こども広場『さんさん』 イベント開催
DESCRIPTION:むさし日曜こども広場『さんさん』は、毎週日曜日に未就学のお子さんと保護者の方が、親子で楽しく過ごせるあたたかな場所です。\n『さんさん』では、楽しいイベントも開催します！今回は 『DANパネ団』 による 「パネルシアター＆タオルあそび」 をお届けします。ご興味のある方は、この機会にぜひお越しください！\nイベント詳細はこちら＞＞＞ \n【開催日時】\n3月2日（日）10:30~11:30 \n【場所】\nむさし日曜こども広場「さんさん」\n※国東市役所武蔵総合支所 武蔵保健福祉センター児童室内 \n【参加料金】\n無料 \n【持ち物】\nフェイスタオル（30x80cmくらいのサイズ）を1人1枚 \n【注意事項】\n※体調の悪い方の利用はお控えください。\n※児童室での食事はできません。ラウンジをご利用ください。 \n【お問い合わせ】\n国東市役所 子育て支援課（国東市こども家庭センター）\n大分県国東市国東町鶴川149番地\nTEL 0978-72-5114\n平日8:30～17:00 （土日・祝祭日・年末年始を除く）
URL:https://www.imiru-kunisaki.fun/corner/2025-03-02/
LOCATION:むさし日曜こども広場「さんさん」※国東市役所武蔵総合支所 武蔵保健福祉センター児童室内\, 古市1086-1\, 国東市武蔵町\, 大分県\, 873-0412\, Japan
CATEGORIES:武蔵町
END:VEVENT
BEGIN:VEVENT
DTSTART;TZID=Asia/Tokyo:20250228T100000
DTEND;TZID=Asia/Tokyo:20250228T123000
DTSTAMP:20260423T075810
CREATED:20250203T030643Z
LAST-MODIFIED:20250216T062640Z
UID:141-1740736800-1740745800@www.imiru-kunisaki.fun
SUMMARY:「味一ねぎ」と「むらさきもち麦」で美腸料理教室
DESCRIPTION:お申し込みは、こちらから＞＞＞\n \n食物繊維たっぷりの“むらさきもち麦”を使った料理教室が開催されます。美腸発酵フードアドバイザー・らいむ工房の佐藤朋美さんが、発酵食と腸活の魅力をご自身の経験を交えながら、腸から元気になる簡単＆美味しいレシピを教えてくれます。作ったお料理はみんなで試食！美味しく食べて、腸から健康に。一緒に“美腸習慣”を始めてみませんか？ \n【開催日時】\n2月28日（金）10:00~12:30\n\n【参加料金】\n3500円\n\n【集合場所】\n椿八幡神社 駐車場（武蔵町三井寺635）\n\n【定員】\n20名（最少催行7名）\n\n【持ち物】\nエプロン・三角巾\n\n【行程】\n10:00開始（椿八幡）→ネギハウスで収穫体験→移動　（武蔵中央公民館調理室）　調理・説明→試食12:30終了\n\n【申込締切】\n2月24日（月）17:00\n\n【お申込み・お問い合わせ】\n一般社団法人国東市観光協会\nTEL 0978-73-0962 (受付時間 9:00 ~ 17:00)
URL:https://www.imiru-kunisaki.fun/corner/odayaka2025-02-28/
LOCATION:椿八幡神社\, 三井寺656\, 国東市武蔵町\, 大分県\, Japan
CATEGORIES:おだやか博,武蔵町
ATTACH;FMTTYPE=image/jpeg:https://www.imiru-kunisaki.fun/wp-content/uploads/2025/02/bicho_eyecatch-800x500-1.jpg
END:VEVENT
BEGIN:VEVENT
DTSTART;TZID=Asia/Tokyo:20250223T100000
DTEND;TZID=Asia/Tokyo:20250223T140000
DTSTAMP:20260423T075810
CREATED:20250217T132344Z
LAST-MODIFIED:20250217T133648Z
UID:666-1740304800-1740319200@www.imiru-kunisaki.fun
SUMMARY:【2月23日】『なっちゃんの家』に遊びに来ませんか？
DESCRIPTION:「なっちゃん」の家って？ \n「なっちゃんの家」は、0～18歳の子どもたちや保護者の方が、気軽に集まって楽しく交流できるあたたかい場所です。 \n地域の皆さんがスタッフとして工夫をこらし、毎回楽しいイベントを開催！ たくさんの笑顔があふれ、毎回150～200人もの方々が訪れています。 \n名前の由来は、武蔵児童館前にたたずむ少女像「なっちゃん」。まるでお友達の家に遊びに行くような気持ちで、どうぞ気軽に遊びに来てください！ \n《開催時期》\n毎月第4日曜日\n午前10時から午後2時まで \n詳しくはこちら＞＞＞ \n【開催日時】\n2月23日（日）10:00~14:00 \n【場所】\n武蔵児童館（国東市隣保館）\n国東市武蔵町古市1138番地1 \n【参加料金】\n無料 \n【お問い合わせ】\n国東市役所 子育て支援課（国東市こども家庭センター）\n大分県国東市国東町鶴川149番地\nTEL 0978-72-5114\n平日8:30～17:00 （土日・祝祭日・年末年始を除く）
URL:https://www.imiru-kunisaki.fun/corner/2025-02-23/
LOCATION:武蔵児童館（国東市隣保館）\, 古市1138番地1\, 国東市武蔵町\, 大分県\, 873-0412\, Japan
CATEGORIES:子育て,武蔵町
END:VEVENT
BEGIN:VEVENT
DTSTART;TZID=Asia/Tokyo:20250221T100000
DTEND;TZID=Asia/Tokyo:20250221T110000
DTSTAMP:20260423T075810
CREATED:20250209T072036Z
LAST-MODIFIED:20250213T054926Z
UID:491-1740132000-1740135600@www.imiru-kunisaki.fun
SUMMARY:離乳食教室
DESCRIPTION:「離乳食っていつから始めたらいいの？」「どんな風に進めていけばいいの？」そんなお悩みはありませんか？離乳食の基本や進め方についてわかりやすくお話しします♪ ちょっとしたコツを知るだけで、ママやパパの負担もぐっと軽くなりますよ！お気軽にご参加くださいね。 \n≪対象≫ おおむね生後3か月～1歳ごろまでのお子さんがいる、ご家族 \n≪内容≫ 離乳食の基本や進め方のお話に加えて、実際に離乳食を体験する時間もあります！\n※事前申込必要 \nR6年度にこにこ子育て広場・離乳食教室 \n【開催日時】\n2月21日（金）10:00~11:00 \n【場所】\n武蔵保健福祉センター（和室） \n【参加料金】\n無料 \n【持ち物】\n赤ちゃんのお出掛けセット ※赤ちゃんの体重測定をしたい方はバスタオルを持ってきてください。 \n【お申込み・お問い合わせ】\n国東市役所 子育て支援課（国東市こども家庭センター）\n大分県国東市国東町鶴川149番地\nTEL 0978-72-5114\n平日8:30～17:00 （土日・祝祭日・年末年始を除く）
URL:https://www.imiru-kunisaki.fun/corner/2025-02-21/
LOCATION:武蔵保健福祉センター\, 古市１０８６−１\, 国東市武蔵町\, 大分県\, 873-0412\, Japan
CATEGORIES:子育て,武蔵町
ATTACH;FMTTYPE=image/jpeg:https://www.imiru-kunisaki.fun/wp-content/uploads/2025/02/rinyuusyoku_eyecatch-800x500-1.jpg
END:VEVENT
BEGIN:VEVENT
DTSTART;TZID=Asia/Tokyo:20250219T100000
DTEND;TZID=Asia/Tokyo:20250219T113000
DTSTAMP:20260423T075810
CREATED:20250209T070504Z
LAST-MODIFIED:20250210T004051Z
UID:479-1739959200-1739964600@www.imiru-kunisaki.fun
SUMMARY:にこにこ子育て広場
DESCRIPTION:育児の悩みや不安を気軽に相談したり、同じくらいの年齢のお子さんをもつママ同士で楽しく交流したりできる場です。\nリラックスした雰囲気の中で、おしゃべりしながら育児のヒントを見つけませんか？ぜひお気軽にご参加ください♪ \n≪対象≫ どの月齢の赤ちゃんでもOK！妊娠中の方もご参加いただけます。 \n≪内容≫ 保健師や栄養士によるお話、助産師さんと一緒に行うタッチケア、外部講師によるふれあい遊びや楽しい製作タイムなど、盛りだくさんの内容です！ \n日程等詳細については、以下のリンクにてご確認ください。\n開始時間は10時からです。\n※事前申込必要 \nR6年度 にこにこ子育て広場 \n【開催日時】\n2月19日（水）10:00~11:30 \n【場所】\n武蔵保健福祉センター \n【参加料金】\n無料 \n【持ち物】\n母子手帳、赤ちゃんのお出かけセット（お気に入りのおもちゃ､着替えやオムツなど）、授乳の準備、ママの飲み物、バスタオル（計測を希望する方）\n \n【お申込み・お問い合わせ】\n国東市役所 子育て支援課（国東市こども家庭センター）\n大分県国東市国東町鶴川149番地\nTEL 0978-72-5114\n平日8:30～17:00 （土日・祝祭日・年末年始を除く）
URL:https://www.imiru-kunisaki.fun/corner/2025-02-19/
LOCATION:武蔵保健福祉センター\, 古市１０８６−１\, 国東市武蔵町\, 大分県\, 873-0412\, Japan
CATEGORIES:子育て,武蔵町
END:VEVENT
BEGIN:VEVENT
DTSTART;TZID=Asia/Tokyo:20250214T100000
DTEND;TZID=Asia/Tokyo:20250214T120000
DTSTAMP:20260423T075810
CREATED:20250209T054954Z
LAST-MODIFIED:20250217T130210Z
UID:461-1739527200-1739534400@www.imiru-kunisaki.fun
SUMMARY:令和6年度 プレママ・プレパパ教室
DESCRIPTION:もうすぐ赤ちゃんを迎えるプレママ・プレパパの皆さん、助産師と一緒に「自分らしいお産」について考えてみませんか？ \n出産への不安を和らげるだけでなく、同じ気持ちを持つ仲間と出会える機会にもなりますよ。ぜひ、お気軽にご参加ください！\n令和6年度プレママ・プレパパ教室 \n〈期間・開催日〉\n令和6年4月から令和7年3月\n※詳しい日程はこちらのサイトでご確認ください。令和6年度プレママ・プレパパ教室 \n〈対象者〉\n妊娠20週頃から出産までの妊婦さんとそのご夫婦・パートナー（ご家族の参加はご相談ください）\n※おひとりでの参加も大歓迎です！\n〈テーマ〉\n助産師と考える「アフターバースプラン」\n※事前申込必要 \n※このプレママ・プレパパ教室は、出産・子育て応援金の面談を兼ねています。\n詳しくは「出産・子育て応援交付金」（国東市ホームページ）をご確認ください。 \n  \n\n【開催日時】\n2月14日（金）10:00~12:00 ※トイレ休憩あり \n【場所】\n武蔵保健福祉センター ボランティア室\n※都合により変更となる場合がございます \n【参加料金】\n無料 \n【持ち物】\n母子健康手帳、筆記用具、飲み物 \n【予約方法】\n電話もしくは、母子手帳アプリでのWeb予約\n※母子手帳アプリ『母子モ』→『地域の子育て情報』→『子育てイベント』 \n【その他】\n託児が必要な方は、ご相談ください。 \n【お申込み・お問い合わせ】\n国東市役所 子育て支援課 （国東市こども家庭センター）\n大分県国東市国東町鶴川149番地\nTEL 0978-72-5114\n平日8:30～17:00 （土日・祝祭日・年末年始を除く）
URL:https://www.imiru-kunisaki.fun/corner/2025-02-14/
LOCATION:武蔵保健福祉センター\, 古市１０８６−１\, 国東市武蔵町\, 大分県\, 873-0412\, Japan
CATEGORIES:子育て,武蔵町
END:VEVENT
BEGIN:VEVENT
DTSTART;TZID=Asia/Tokyo:20250214T090000
DTEND;TZID=Asia/Tokyo:20250216T140000
DTSTAMP:20260423T075810
CREATED:20250204T021616Z
LAST-MODIFIED:20250204T024721Z
UID:212-1739523600-1739714400@www.imiru-kunisaki.fun
SUMMARY:「むさしカルティバル2025」開催！
DESCRIPTION:今年も、武蔵町の文化活動やスポーツ活動の振興を目的とした「むさしカルティバル2025」が開催されます！\n地域の皆さんが創り上げる、魅力あふれるステージ発表や作品展示に加え、バザーやお茶席など、楽しいイベントが盛りだくさん。\n日頃の練習や活動の成果を間近で感じられるチャンスです！ぜひ足を運んで、皆さんの頑張りを応援してください！ \n【舞台発表】\n日時：2月16日（日）9:00～14:00（予定）\n会場：武蔵中央公民館 セントラルホール \n武蔵町文化協会の会員や、公民館講座・教室、スポーツ少年団などによる多彩なステージ発表をお楽しみください！ \n【作品展示】\n日時：2月14日（金）～2月16日（日）9:00～17:00\n　　　※ 最終日16日（日）は14:00まで\n会場：武蔵中央公民館 セントラルホール \n地域の皆さんが心を込めて制作した作品が勢ぞろい！温かみのあるアートや創作物をぜひご覧ください。 \n【その他の催し】\n2月16日(日)\n・女性団体連絡協議会によるバザー\n　（内容）カレーライス　350円\n　（時間）11:00～13:30 \n・茶道教室によるお茶席\n　（内容）抹茶・和菓子　300円\n　（時間）9:00～14:00 \n・お楽しみ抽選会\n　（時間）舞台発表終了後\n※来場者にはもれなく景品が当たります！） \n「むさしカルティバル2025」 は、地域の皆さんがつながる場でもあります。\nたくさんのご来場をお待ちしています！
URL:https://www.imiru-kunisaki.fun/corner/%e3%80%8c%e3%82%80%e3%81%95%e3%81%97%e3%82%ab%e3%83%ab%e3%83%86%e3%82%a3%e3%83%90%e3%83%ab2025%e3%80%8d%e9%96%8b%e5%82%ac%ef%bc%81/
LOCATION:武蔵中央公民館セントラルホール\, 古市1107番地1\, 国東市武蔵町\, 大分県\, 873-0412\, Japan
CATEGORIES:武蔵町
ATTACH;FMTTYPE=image/jpeg:https://www.imiru-kunisaki.fun/wp-content/uploads/2025/02/cultival_eyecatch-800x500-1.jpg
END:VEVENT
BEGIN:VEVENT
DTSTART;TZID=Asia/Tokyo:20250211T130000
DTEND;TZID=Asia/Tokyo:20250211T160000
DTSTAMP:20260423T075810
CREATED:20250201T015346Z
LAST-MODIFIED:20250216T063116Z
UID:112-1739278800-1739289600@www.imiru-kunisaki.fun
SUMMARY:糸紡ぎと機織り体験～テーブルセンターを織る～
DESCRIPTION:お申し込みは、こちらから＞＞＞ \n国東市出身の丹波布作家・清水くり子先生の特別なご案内で、綿から糸を紡ぎ、機織り機を使って一筋一筋に想いを込めた布を織り上げてみませんか？\n自然の恵みで染め上げた草木染の糸が、あなただけの美しいテーブルセンターへと生まれ変わります。\nこの体験は、国東市武蔵町にある電器屋さんの隠れ家的カフェ「じゃぁーち」で開催されます。\n温かな空間で、丹波布の魅力と手仕事の楽しさをぜひご堪能ください。 \n\n【開催日時】\n②2月11日（火・祝）13:00~16:00\n\n【参加料金】\n4000円\n\n【申込締切】\n①2月5日（水）　②2月6日（木）\n\n【お申込み・お問い合わせ】\n一般社団法人国東市観光協会\nTEL 0978-73-0962 (受付時間 9:00 ~ 17:00)
URL:https://www.imiru-kunisaki.fun/corner/odayaka2025-02-11/
LOCATION:電器屋さんのカフェ「じゃぁ～ち」\, 古市639番地\, 国東市武蔵町\, 大分県\, 873-0412\, Japan
CATEGORIES:おだやか博,武蔵町
ATTACH;FMTTYPE=image/jpeg:https://www.imiru-kunisaki.fun/wp-content/uploads/2025/02/ito0211_eyecatch-800x500-1.jpg
END:VEVENT
BEGIN:VEVENT
DTSTART;TZID=Asia/Tokyo:20250209T130000
DTEND;TZID=Asia/Tokyo:20250209T160000
DTSTAMP:20260423T075810
CREATED:20250201T015154Z
LAST-MODIFIED:20250216T063151Z
UID:110-1739106000-1739116800@www.imiru-kunisaki.fun
SUMMARY:糸紡ぎと機織り体験～テーブルセンターを織る～
DESCRIPTION:お申し込みは、こちらから＞＞＞ \n国東市出身の丹波布作家・清水くり子先生の特別なご案内で、綿から糸を紡ぎ、機織り機を使って一筋一筋に想いを込めた布を織り上げてみませんか？\n自然の恵みで染め上げた草木染の糸が、あなただけの美しいテーブルセンターへと生まれ変わります。\nこの貴重な体験は、国東市武蔵町にある電器屋さんの隠れ家的カフェ「じゃぁーち」で開催されます。\n温かな空間で、丹波布の魅力と手仕事の楽しさをぜひご堪能ください。 \n\n【開催日時】\n①2025年2月9日（日）13:00~16:00\n【参加料金】\n4000円\n\n【申込締切】\n①2月5日（水）　②2月6日（木）\n\n【お申込み・お問い合わせ】\n一般社団法人国東市観光協会\nTEL 0978-73-0962 (受付時間 9:00 ~ 17:00)
URL:https://www.imiru-kunisaki.fun/corner/odayaka2025-02-09_1/
LOCATION:電器屋さんのカフェ「じゃぁ～ち」\, 古市639番地\, 国東市武蔵町\, 大分県\, 873-0412\, Japan
CATEGORIES:おだやか博,武蔵町
ATTACH;FMTTYPE=image/jpeg:https://www.imiru-kunisaki.fun/wp-content/uploads/2025/02/ito0209_eyecatch-800x500-1.jpg
END:VEVENT
BEGIN:VEVENT
DTSTART;TZID=Asia/Tokyo:20250209T100000
DTEND;TZID=Asia/Tokyo:20250209T130000
DTSTAMP:20260423T075810
CREATED:20250204T032538Z
LAST-MODIFIED:20250216T063241Z
UID:223-1739095200-1739106000@www.imiru-kunisaki.fun
SUMMARY:からだ思いの味噌作り
DESCRIPTION:お申し込みは、こちらから＞＞＞\n \n「かね松」の屋号で親しまれる安永醸造。五代目・百恵さんと一緒に、麹や発酵のことを学びながら、麦味噌（2kg）を仕込んでみませんか？ ご自宅でゆっくり半年寝かせれば、旨みが増して美味しいお味噌に。手間ひまかける喜びを感じながら、心と体にうれしい時間を。仕込みのあとは、特製ランチでほっと一息つきましょう。 \n【開催日時】\n2月9日（日）10:00~13:00\n\n【参加料金】\n3500円\n\n【集合場所】\n武蔵中央公民館　調理室（武蔵町古市1107番地1）\n\n【定員】\n15名（最少催行5名）\n\n【持ち物】\nエプロン・三角巾（必要な方）\n\n【行程】\n10:00開始→工程の説明・熟成期間についての説明→味噌作り→11:30昼食→13:00終了\n\n【申込締切】\n2月5日（水）\n\n【お申込み・お問い合わせ】\n一般社団法人国東市観光協会\nTEL 0978-73-0962 (受付時間 9:00 ~ 17:00)
URL:https://www.imiru-kunisaki.fun/corner/odayaka2025-02-09_3/
LOCATION:武蔵中央公民館 調理室\, 古市1107番地1\, 国東市武蔵町\, 大分県\, 873-0412\, Japan
CATEGORIES:おだやか博,武蔵町
ATTACH;FMTTYPE=image/jpeg:https://www.imiru-kunisaki.fun/wp-content/uploads/2025/02/miso_eyecatch-800x500-1.jpg
END:VEVENT
END:VCALENDAR