BEGIN:VCALENDAR
VERSION:2.0
PRODID:-//いみ～る国東 - ECPv6.15.20//NONSGML v1.0//EN
CALSCALE:GREGORIAN
METHOD:PUBLISH
X-WR-CALNAME:いみ～る国東
X-ORIGINAL-URL:https://www.imiru-kunisaki.fun
X-WR-CALDESC:いみ～る国東 のイベント
REFRESH-INTERVAL;VALUE=DURATION:PT1H
X-Robots-Tag:noindex
X-PUBLISHED-TTL:PT1H
BEGIN:VTIMEZONE
TZID:Asia/Tokyo
BEGIN:STANDARD
TZOFFSETFROM:+0900
TZOFFSETTO:+0900
TZNAME:JST
DTSTART:20240101T000000
END:STANDARD
END:VTIMEZONE
BEGIN:VEVENT
DTSTART;TZID=Asia/Tokyo:20250405T100000
DTEND;TZID=Asia/Tokyo:20250405T160000
DTSTAMP:20260423T003800
CREATED:20250405T081744Z
LAST-MODIFIED:20250406T012101Z
UID:1030-1743847200-1743868800@www.imiru-kunisaki.fun
SUMMARY:634そらマルシェ【大分の空 むさし】　4/5・4/12開催
DESCRIPTION:大分空港そばの直売所「大分の空 むさし」で、634そらマルシェが開催されます！ふんわり春風に誘われて、人気のキッチンカーや心のこもったハンドメイド雑貨が出店♪会場のまわりには満開の桜が咲き誇り、お花見にもぴったり🌸空港桜坂の桜並木も、この季節だけの特別な美しさを見せてくれます。心はずむ春のおでかけに、そらマルシェへぜひお立ち寄りください。 \n【出店店舗一覧】\nBull\nおしゃべりなスプーン\nモハズケバブ\n美咲丸\nユーリカ\nEasy do TERRA \n【開催日時】\n4月5日（土）10:00~16:00\n \n【場所】\n大分の空 むさし\n（国東市武蔵町糸原３５５０） \n【お問い合わせ】\n大分の空 むさし\n大分県国東市武蔵町糸原３５５０\nTEL： 0978-69-0056
URL:https://www.imiru-kunisaki.fun/corner/2025-04-05-2/
LOCATION:大分の空 むさし\, 糸原３５５０\, 国東市武蔵町\, 大分県\, 873-0421\, Japan
CATEGORIES:イベント,武蔵町
ATTACH;FMTTYPE=image/jpeg:https://www.imiru-kunisaki.fun/wp-content/uploads/2025/04/634soramarche_eyecatch-800X500-2.jpg
END:VEVENT
END:VCALENDAR