BEGIN:VCALENDAR
VERSION:2.0
PRODID:-//いみ～る国東 - ECPv6.15.20//NONSGML v1.0//EN
CALSCALE:GREGORIAN
METHOD:PUBLISH
X-WR-CALNAME:いみ～る国東
X-ORIGINAL-URL:https://www.imiru-kunisaki.fun
X-WR-CALDESC:いみ～る国東 のイベント
REFRESH-INTERVAL;VALUE=DURATION:PT1H
X-Robots-Tag:noindex
X-PUBLISHED-TTL:PT1H
BEGIN:VTIMEZONE
TZID:Asia/Tokyo
BEGIN:STANDARD
TZOFFSETFROM:+0900
TZOFFSETTO:+0900
TZNAME:JST
DTSTART:20240101T000000
END:STANDARD
END:VTIMEZONE
BEGIN:VEVENT
DTSTART;TZID=Asia/Tokyo:20250727T100000
DTEND;TZID=Asia/Tokyo:20250727T100000
DTSTAMP:20260422T184928
CREATED:20250608T125620Z
LAST-MODIFIED:20250608T140246Z
UID:1407-1753610400-1753610400@www.imiru-kunisaki.fun
SUMMARY:【楽庭八幡社】吉弘楽 開催！
DESCRIPTION:太鼓の響きに祈りを込めて──「吉弘楽（よしひろがく）」 \n国東市武蔵町の「楽庭八幡社」に伝わる吉弘楽は、南北朝時代、領主・吉弘正賢公が戦の勝利や五穀豊穣を願って始めたとされる、由緒ある「太鼓踊り」です。虫害除けや豊作を祈るこの伝統芸能は、念仏踊りの流れを汲み、今では国の重要無形民俗文化財、そしてユネスコ無形文化遺産にも登録されています。 \n毎年7月の第4日曜日、古式ゆかしい兜や腰蓑をまとった49人の楽人が、太鼓・笛・鉦を打ち鳴らしながら、力強く、そしてどこか神聖な雰囲気の中で舞い踊ります。その壮麗な音と動きが、約1時間にわたって境内を包み込みます。 \n時代を超えて受け継がれてきた祈りのかたち──太鼓の一打に込められた願いを、ぜひその目で、耳で、感じてみてください。 \n詳しくはこちら＞＞＞ \n【開催日時】\n7月27日（日）10時と14時の2回行われます \n【場所】\n楽庭八幡社（国東市武蔵町吉広） \n【お問い合わせ】\n国東市教育委員会　文化財課\nTEL 0978-72-2677\nemail: bunkazai@city.kunisaki.lg.jp
URL:https://www.imiru-kunisaki.fun/corner/2025-07-27-2/
LOCATION:楽庭八幡社\, 吉広\, 国東市武蔵町\, 大分県\, 873-0415\, Japan
CATEGORIES:イベント,武蔵町
ATTACH;FMTTYPE=image/jpeg:https://www.imiru-kunisaki.fun/wp-content/uploads/2025/06/yoshihirogaku_eyecatch-800X500.jpg
END:VEVENT
END:VCALENDAR