BEGIN:VCALENDAR
VERSION:2.0
PRODID:-//いみ～る国東 - ECPv6.15.20//NONSGML v1.0//EN
CALSCALE:GREGORIAN
METHOD:PUBLISH
X-WR-CALNAME:いみ～る国東
X-ORIGINAL-URL:https://www.imiru-kunisaki.fun
X-WR-CALDESC:いみ～る国東 のイベント
REFRESH-INTERVAL;VALUE=DURATION:PT1H
X-Robots-Tag:noindex
X-PUBLISHED-TTL:PT1H
BEGIN:VTIMEZONE
TZID:Asia/Tokyo
BEGIN:STANDARD
TZOFFSETFROM:+0900
TZOFFSETTO:+0900
TZNAME:JST
DTSTART:20240101T000000
END:STANDARD
END:VTIMEZONE
BEGIN:VEVENT
DTSTART;TZID=Asia/Tokyo:20250728T133000
DTEND;TZID=Asia/Tokyo:20250728T150000
DTSTAMP:20260422T171812
CREATED:20250711T072059Z
LAST-MODIFIED:20250714T155506Z
UID:1580-1753709400-1753714800@www.imiru-kunisaki.fun
SUMMARY:こども絵手紙体験教室
DESCRIPTION:🎨 こども絵手紙体験教室 開催！国東市にお住まいの小学生を対象に、楽しい絵手紙体験教室を開催します。心を込めて描いた絵手紙は、大切な人に送ったり、夏休みの作品として提出したりと、思い出づくりにぴったり！はじめてのお子さまでも安心してご参加いただけます。お気軽にご参加ください！ \n講師：原野　彰子先生 \n【開催日時】\n7月28日（月）13:30~15:00 \n【場所】\n武蔵児童館（国東市隣保館内） \n【定員】\n15名　 \n【料金】\n無料 \n【対象】\n国東市にお住まいの小学生 \n【申込締切】\n7月22日（火）※定員になり次第、受付を終了します。 \n【お申込み・お問い合わせ】\n武蔵児童館\nTEL:0978-68-1722
URL:https://www.imiru-kunisaki.fun/corner/2025-07-28/
LOCATION:武蔵児童館(国東市隣保館内)\, 古市１１３８−１\, 国東市武蔵町\, 大分県\, 873-0412\, Japan
CATEGORIES:イベント,教室,武蔵町
ATTACH;FMTTYPE=image/jpeg:https://www.imiru-kunisaki.fun/wp-content/uploads/2025/07/kodomoetegamikyoushitsu_eyecatch-800X500.jpg
END:VEVENT
END:VCALENDAR