BEGIN:VCALENDAR
VERSION:2.0
PRODID:-//いみ～る国東 - ECPv6.15.20//NONSGML v1.0//EN
CALSCALE:GREGORIAN
METHOD:PUBLISH
X-ORIGINAL-URL:https://www.imiru-kunisaki.fun
X-WR-CALDESC:いみ～る国東 のイベント
REFRESH-INTERVAL;VALUE=DURATION:PT1H
X-Robots-Tag:noindex
X-PUBLISHED-TTL:PT1H
BEGIN:VTIMEZONE
TZID:Asia/Tokyo
BEGIN:STANDARD
TZOFFSETFROM:+0900
TZOFFSETTO:+0900
TZNAME:JST
DTSTART:20240101T000000
END:STANDARD
END:VTIMEZONE
BEGIN:VEVENT
DTSTART;TZID=Asia/Tokyo:20250510T100000
DTEND;TZID=Asia/Tokyo:20250510T140000
DTSTAMP:20260422T205358
CREATED:20250504T055526Z
LAST-MODIFIED:20250504T055526Z
UID:1275-1746871200-1746885600@www.imiru-kunisaki.fun
SUMMARY:武蔵楽交1学期
DESCRIPTION:第20回「武蔵楽交 一学期」が、旧武蔵東小学校グラウンドで開催されます！記念すべき第20回の開催を祝して、内容盛りだくさんのイベントです！ \n🎉 20回記念抽選会（先着200名様限定／空くじなし）20名様に当たる！🎪 ステージイベントでは🕺 ダンスや🐰 ゆるキャラPR（宇佐市から「うさからくん」ほか、楽しい仲間たちが登場！）🍴 出店は約30店舗！ グルメや雑貨など多彩なお店が勢ぞろい！ \nご家族・ご友人と一緒に、ぜひ楽しいひとときをお過ごしください。 \n\n詳しくはこちら＞＞＞ \n【開催日時】\n5月10日（日）10:00-14:00 \n【会場】\n旧武蔵東小学校グラウンド \n【お問い合わせ】\n武蔵活性化委員会\n代表：矢野　誠治　TEL：090-5475-0974
URL:https://www.imiru-kunisaki.fun/corner/2025%e2%88%9205%e2%88%9210/
LOCATION:旧武蔵東小学校グラウンド\, 古市711\, 国東市武蔵町\, 大分県\, Japan
CATEGORIES:イベント,武蔵町
ATTACH;FMTTYPE=image/jpeg:https://www.imiru-kunisaki.fun/wp-content/uploads/2025/05/musashigakko_eyecatch-800x500-2.jpg
END:VEVENT
BEGIN:VEVENT
DTSTART;TZID=Asia/Tokyo:20250515T100000
DTEND;TZID=Asia/Tokyo:20250515T120000
DTSTAMP:20260422T205358
CREATED:20250430T064210Z
LAST-MODIFIED:20250504T022249Z
UID:1198-1747303200-1747310400@www.imiru-kunisaki.fun
SUMMARY:令和7年度 プレママ・プレパパ教室
DESCRIPTION:もうすぐ赤ちゃんを迎えるプレママ・プレパパの皆さん、助産師と一緒に「自分らしいお産」について考えてみませんか？ \n出産への不安を和らげるだけでなく、同じ気持ちを持つ仲間と出会える機会にもなりますよ。\nぜひ、お気軽にご参加ください！\n令和7年度プレママ・プレパパ教室 \n〈期間・開催日〉\n令和7年4月から令和8年3月\n※詳しい日程はこちらのサイトでご確認ください。令和7年度プレママ・プレパパ教室 \n〈対象者〉\n妊娠20週頃から出産までの妊婦さんとその夫・パートナー（ご家族の参加は要相談）\n※おひとりでの参加も大歓迎です！\n〈テーマ〉\n助産師と考える「アフターバースプラン」\n※事前申込必要 \n※このプレママ・プレパパ教室は、『妊婦のための支援給付金』の面談を兼ねています。\n詳しくは「出産・子育て応援交付金」（国東市ホームページ）をご確認ください。 \n\n【開催日時】\n5月15日（木）10:00~12:00 ※トイレ休憩あり \n【場所】\n武蔵保健福祉センター ボランティア室\n※都合により変更となる場合がございます \n【参加料金】\n無料 \n【持ち物】\n母子健康手帳、筆記用具、飲み物 \n【予約方法】\n電話もしくは、母子手帳アプリでのWeb予約\n※母子手帳アプリ『母子モ』→『地域の子育て情報』→『子育てイベント』 \n【その他】\n託児が必要な方は、ご相談ください。 \n【お申込み・お問い合わせ】\n国東市役所 子育て支援課 （国東市こども家庭センター）\n大分県国東市国東町鶴川149番地\nTEL 0978-72-5114\n平日8:30～17:00 （土日・祝祭日・年末年始を除く）
URL:https://www.imiru-kunisaki.fun/corner/2025-05-15/
LOCATION:武蔵保健福祉センター\, 古市１０８６−１\, 国東市武蔵町\, 大分県\, 873-0412\, Japan
CATEGORIES:子育て,武蔵町
ATTACH;FMTTYPE=image/jpeg:https://www.imiru-kunisaki.fun/wp-content/uploads/2025/04/puremamapurepapakyoushitsu-800X500-1.jpg
END:VEVENT
BEGIN:VEVENT
DTSTART;TZID=Asia/Tokyo:20250523T103000
DTEND;TZID=Asia/Tokyo:20250523T113000
DTSTAMP:20260422T205358
CREATED:20250430T065029Z
LAST-MODIFIED:20250527T050819Z
UID:1202-1747996200-1747999800@www.imiru-kunisaki.fun
SUMMARY:離乳食教室
DESCRIPTION:「離乳食っていつから始めたらいいの？」「どんな風に進めていけばいいの？」そんなお悩みはありませんか？離乳食の基本や進め方についてわかりやすくお話しします♪ ちょっとしたコツを知るだけで、ママやパパの負担もぐっと軽くなりますよ！お気軽にご参加くださいね。 \n≪対象≫ おおむね生後3か月～1歳ごろまでのお子さんがいる、ご家族 \n≪内容≫ 離乳食の基本や進め方のお話に加えて、離乳食体験（大人の食事からの取り分けメニュー試食）\n※事前申込必要 \nR7年度にこにこ子育て広場・離乳食教室 \n【開催日時】\n5月23日（金）10:30~11:30 \n【場所】\n武蔵保健福祉センター（和室） \n【参加料金】\n無料 \n【持ち物】\n赤ちゃんのお出掛けセット ※赤ちゃんの体重測定をしたい方はバスタオルを持ってきてください。 \n【お申込み・お問い合わせ】\n国東市役所 子育て支援課（国東市こども家庭センター）\n大分県国東市国東町鶴川149番地\nTEL 0978-72-5114\n平日8:30～17:00 （土日・祝祭日・年末年始を除く）
URL:https://www.imiru-kunisaki.fun/corner/2025-05-23/
LOCATION:武蔵保健福祉センター\, 古市１０８６−１\, 国東市武蔵町\, 大分県\, 873-0412\, Japan
CATEGORIES:子育て,武蔵町
END:VEVENT
BEGIN:VEVENT
DTSTART;TZID=Asia/Tokyo:20250531T163000
DTEND;TZID=Asia/Tokyo:20250531T210000
DTSTAMP:20260422T205358
CREATED:20250515T124046Z
LAST-MODIFIED:20250524T035718Z
UID:1335-1748709000-1748725200@www.imiru-kunisaki.fun
SUMMARY:第28回 武蔵町ホタルまつり
DESCRIPTION:ホタルの光に癒される夜を――国東市武蔵町で「ホタルまつり」が開催されます！美味しい屋台グルメやにぎやかなステージイベントが盛りだくさん。 \nそして夜になると、あたり一面にホタルのやさしい光がふわりふわり。まるでイルミネーションのような幻想的な景色が広がります。 \nご家族やお友だちと、ぜひ遊びに来てくださいね！ \n※雨天の場合は6月1日（日）に延期となります。 \n※当日シャトルバス有り　詳細はこちらから＞＞＞ \n【開催日時】\n5月31日（土）\n16:30〜20:00　ホタル夜市\n17:00〜20:00　ステージイベント\n16:30〜19:00 ホタルの館施設見学\n20:00〜21:00 ホタル鑑賞 \n【開催場所】\n報恩寺公園周辺（国東市武蔵町麻田） \n【お問い合わせ・主催】\n武蔵町ホタルを育てる会　財前\nTEL：090-4342-2106
URL:https://www.imiru-kunisaki.fun/corner/2025-05-31/
LOCATION:報恩寺公園周辺\, 武蔵町麻田\, 国東市\, 大分県\, 873-0405\, Japan
CATEGORIES:イベント,武蔵町
ATTACH;FMTTYPE=image/jpeg:https://www.imiru-kunisaki.fun/wp-content/uploads/2025/05/musashimachihotarumatsuri_eyecatch-800X500-2.jpg
END:VEVENT
END:VCALENDAR