BEGIN:VCALENDAR
VERSION:2.0
PRODID:-//いみ～る国東 - ECPv6.15.20//NONSGML v1.0//EN
CALSCALE:GREGORIAN
METHOD:PUBLISH
X-ORIGINAL-URL:https://www.imiru-kunisaki.fun
X-WR-CALDESC:いみ～る国東 のイベント
REFRESH-INTERVAL;VALUE=DURATION:PT1H
X-Robots-Tag:noindex
X-PUBLISHED-TTL:PT1H
BEGIN:VTIMEZONE
TZID:Asia/Tokyo
BEGIN:STANDARD
TZOFFSETFROM:+0900
TZOFFSETTO:+0900
TZNAME:JST
DTSTART:20240101T000000
END:STANDARD
END:VTIMEZONE
BEGIN:VEVENT
DTSTART;TZID=Asia/Tokyo:20251103T090000
DTEND;TZID=Asia/Tokyo:20251103T120000
DTSTAMP:20260422T103223
CREATED:20250919T011951Z
LAST-MODIFIED:20250919T015949Z
UID:1984-1762160400-1762171200@www.imiru-kunisaki.fun
SUMMARY:うみのこえをきく日【第2回】
DESCRIPTION:🌊✨ うみのこえをきく日 ✨🌊 \n海に流れついたゴミを拾いながら、シーグラスや流木を見つける楽しみもある ビーチクリーン＆コーミング。海風を感じながら体も心もリフレッシュできる 笑いヨガなど。海の環境について学ぶひととき🌏。 \n海を感じ、笑い、学び、つながるやさしい時間を一緒に過ごしましょう🐚💙 \n第1回：10/13 (月・祝)\n第2回：11/3 (月・祝)\n第3回：11/23 (日・祝)\n※開催日によってプログラムが少し異なります。 \n詳しくはこちら＞＞＞ \n【開催日時】\n11月3日（月・祝）9：00〜12：00\n※一部少雨決行、台風や悪天候などの場合、やむを得ず中止となる場合がございます。 \n【会場】\n古市海水浴場\n（国東市武蔵町古市400-6） \n【プログラム】​\n第2回：11/3(月・祝)\n☆海のゴミについて知ろうPart2\n☆紙芝居Part1\n☆ビーチクリーン&ビーチコーミング\n☆ワークショップ \n【費用】\n無料　※申込みフォームよりお申込みください。 \n【主催・お問い合わせ】\n武蔵活性化委員会　代表：矢野\nTEL：090-5475-0974
URL:https://www.imiru-kunisaki.fun/corner/2025-11-3-1/
LOCATION:古市海水浴場\, 古市400-6\, 国東市武蔵町\, 大分県
CATEGORIES:イベント,武蔵町
ATTACH;FMTTYPE=image/jpeg:https://www.imiru-kunisaki.fun/wp-content/uploads/2025/09/uminokoewokikuhi_eyecatch-800X500.jpg
END:VEVENT
BEGIN:VEVENT
DTSTART;TZID=Asia/Tokyo:20251114T103000
DTEND;TZID=Asia/Tokyo:20251114T113000
DTSTAMP:20260422T103223
CREATED:20251020T034555Z
LAST-MODIFIED:20251020T042359Z
UID:2165-1763116200-1763119800@www.imiru-kunisaki.fun
SUMMARY:離乳食教室
DESCRIPTION:「離乳食っていつから始めたらいいの？」「どんな風に進めていけばいいの？」そんなお悩みはありませんか？離乳食の基本や進め方についてわかりやすくお話しします♪ ちょっとしたコツを知るだけで、ママやパパの負担もぐっと軽くなりますよ！お気軽にご参加くださいね。\n※日程や内容は急に変更になることがあります。あらかじめご了承ください。 \n≪対象≫ おおむね生後3か月～1歳ごろまでのお子さんがいる、ご家族 \n≪内容≫ 離乳食の基本や進め方のお話に加えて、離乳食体験（大人の食事からの取り分けメニュー試食）\n※事前申込必要 \nR7年度　離乳食教室 \n【開催日時】\n11月14日（金）10:30~11:30 \n【場所】\n武蔵保健福祉センター（和室）\n※参加者の状況により会場が変更になることがございます。 \n【参加料金】\n無料 \n【持ち物】\n・赤ちゃんのお出かけセット（お気に入りのおもちゃ、着替えやオムツ等）\n・いつも使っているスプーン（離乳食を開始している方）\n・授乳の準備、ママの飲み物、バスタオル、母子手帳 \n【予約方法】\n電話もしくは、母子手帳アプリでのWeb予約\n※母子手帳アプリ『母子モ』→『地域の子育て情報』→『子育てイベント』 \n【お申込み・お問い合わせ】\n国東市役所 子育て支援課（国東市こども家庭センター）\n大分県国東市国東町鶴川149番地\nTEL 0978-72-5114\n平日8:30～17:00 （土日・祝祭日・年末年始を除く）
URL:https://www.imiru-kunisaki.fun/corner/2025-11-14/
LOCATION:武蔵保健福祉センター\, 古市１０８６−１\, 国東市武蔵町\, 大分県\, 873-0412\, Japan
CATEGORIES:イベント,教室,武蔵町
ATTACH;FMTTYPE=image/jpeg:https://www.imiru-kunisaki.fun/wp-content/uploads/2025/10/11.r.jpg
END:VEVENT
BEGIN:VEVENT
DTSTART;TZID=Asia/Tokyo:20251120T100000
DTEND;TZID=Asia/Tokyo:20251120T120000
DTSTAMP:20260422T103223
CREATED:20251020T040005Z
LAST-MODIFIED:20251020T041426Z
UID:2171-1763632800-1763640000@www.imiru-kunisaki.fun
SUMMARY:令和7年度 プレママ・プレパパ教室
DESCRIPTION:もうすぐ赤ちゃんを迎えるプレママ・プレパパの皆さん、助産師と一緒に「自分らしいお産」について考えてみませんか？ \n出産への不安を和らげるだけでなく、同じ気持ちを持つ仲間と出会える機会にもなりますよ。\nぜひ、お気軽にご参加ください！ \n〈期間・開催日〉\n令和7年4月から令和8年3月\n※詳しい日程はこちらのサイトでご確認ください。令和7年度プレママ・プレパパ教室 \n〈対象者〉\n妊娠20週頃から出産までの妊婦さんとその夫・パートナー（ご家族の参加は要相談）\n※おひとりでの参加も大歓迎です！\n〈テーマ〉\n助産師と考える「アフターバースプラン」\n※事前申込必要 \n\n【開催日時】\n11月20日（木）10:00~12:00 ※トイレ休憩あり \n【場所】\n武蔵保健福祉センター ボランティア室\n※都合により変更となる場合がございます。 \n【参加料金】\n無料 \n【持ち物】\n母子健康手帳、筆記用具、飲み物 \n【予約方法】\n電話もしくは、母子手帳アプリでのWeb予約\n※母子手帳アプリ『母子モ』→『地域の子育て情報』→『子育てイベント』 \n【その他】\n託児が必要な方は、ご相談ください。 \n【お申込み・お問い合わせ】\n国東市役所 子育て支援課 （国東市こども家庭センター）\n大分県国東市国東町鶴川149番地\nTEL 0978-72-5114\n平日8:30～17:00 （土日・祝祭日・年末年始を除く）
URL:https://www.imiru-kunisaki.fun/corner/2025-11-20/
LOCATION:武蔵保健福祉センター\, 古市１０８６−１\, 国東市武蔵町\, 大分県\, 873-0412\, Japan
CATEGORIES:イベント,教室,武蔵町
ATTACH;FMTTYPE=image/jpeg:https://www.imiru-kunisaki.fun/wp-content/uploads/2025/10/11.jpg
END:VEVENT
BEGIN:VEVENT
DTSTART;TZID=Asia/Tokyo:20251123T090000
DTEND;TZID=Asia/Tokyo:20251123T120000
DTSTAMP:20260422T103223
CREATED:20250919T012427Z
LAST-MODIFIED:20250919T020304Z
UID:1988-1763888400-1763899200@www.imiru-kunisaki.fun
SUMMARY:うみのこえをきく日【第3回】
DESCRIPTION:🌊✨ うみのこえをきく日 ✨🌊 \n海に流れついたゴミを拾いながら、シーグラスや流木を見つける楽しみもある ビーチクリーン＆コーミング。海風を感じながら体も心もリフレッシュできる 笑いヨガなど。海の環境について学ぶひととき🌏。 \n海を感じ、笑い、学び、つながるやさしい時間を一緒に過ごしましょう🐚💙 \n第1回：10/13 (月・祝)\n第2回：11/3 (月・祝)\n第3回：11/23 (日・祝)\n※開催日によってプログラムが少し異なります。 \n詳しくはこちら＞＞＞ \n【開催日時】\n11月23日（日・祝）9：00〜12：00\n※一部少雨決行、台風や悪天候などの場合、やむを得ず中止となる場合がございます。 \n【会場】\n古市海水浴場\n（国東市武蔵町古市400-6） \n【プログラム】​\n第2回：11/23(日・祝)\n☆海のゴミについて知ろうPart3\n☆紙芝居Part2\n☆ビーチクリーン&ビーチコーミング\n☆ワークショップ \n【費用】\n無料　※申込みフォームよりお申込みください。 \n【主催・お問い合わせ】\n武蔵活性化委員会　代表：矢野\nTEL：090-5475-0974
URL:https://www.imiru-kunisaki.fun/corner/2025-11-23/
LOCATION:古市海水浴場\, 古市400-6\, 国東市武蔵町\, 大分県
CATEGORIES:イベント,武蔵町
ATTACH;FMTTYPE=image/jpeg:https://www.imiru-kunisaki.fun/wp-content/uploads/2025/09/uminokoewokikuhi_eyecatch-800X500.jpg
END:VEVENT
BEGIN:VEVENT
DTSTART;TZID=Asia/Tokyo:20251130T093000
DTEND;TZID=Asia/Tokyo:20251130T160000
DTSTAMP:20260422T103223
CREATED:20251015T021037Z
LAST-MODIFIED:20251015T025715Z
UID:2099-1764495000-1764518400@www.imiru-kunisaki.fun
SUMMARY:くにさき彩に染める~藍染め~【国東おだやか博2025】
DESCRIPTION:JAPANカラーを国東で染めよう💙この春に仕込んだ藍で、オーガニックコットンのストールまたはトートバッグを美しい青に染めます🫧国東の青い空、青い海を映したような、あなただけの一枚をつくってみませんか？🌊☀️（※藍のコンディションにより、インド藍を使用する場合があります） \n【開催日時】\n11月30日（日）①9:30~12:00　②13:30~16:00\n\n【参加料金】\n4\,000円\n\n【場所】\nののはな草木染アカデミー（大分国東市部教室）\n（国東市武蔵町古市639）\n\n【定員】\n各4名　※定員になり次第締切\n\n【持ち物】\nかっぽう着（エプロンまたは汚れてもよい黒系の服）・手を拭くタオル\n\n【大まかな行程】\n①9：30受付→説明→作業→11：30出来上がり→お茶タイム→12：00解散②13：30受付→説明→作業→15：30出来上がり→お茶タイム→16：00解散\n\n【申込締切】\n11月25日（火）16:00　※定員になり次第締切\n\n【お申し込み・お問い合わせ】\n①9:30~12:00　参加お申し込みはこちら＞＞＞\n②13:30~16:00　参加お申し込みはこちら＞＞＞\n\n一般社団法人国東市観光協会\nTEL 0978-73-0962 (受付時間 9:00 ~ 17:00)
URL:https://www.imiru-kunisaki.fun/corner/2-25-11-30/
LOCATION:ののはな草木染アカデミー（大分国東市部教室）\, 古市639\, 国東市武蔵町\, 大分県\, 873-0412\, Japan
CATEGORIES:イベント,おだやか博,体験,武蔵町
ATTACH;FMTTYPE=image/jpeg:https://www.imiru-kunisaki.fun/wp-content/uploads/2025/10/kunisakiironisomeruaizome_eyecatch-800X500.jpg
END:VEVENT
BEGIN:VEVENT
DTSTART;TZID=Asia/Tokyo:20251130T130000
DTEND;TZID=Asia/Tokyo:20251130T153000
DTSTAMP:20260422T103223
CREATED:20250930T043338Z
LAST-MODIFIED:20250930T053404Z
UID:2017-1764507600-1764516600@www.imiru-kunisaki.fun
SUMMARY:からだ思いのみそづくり【国東おだやか博2025】
DESCRIPTION:「かね松」の屋号で親しまれる安永醸造さん✨5代目・百恵さんから麹や発酵の知恵を学びながら、心を込めて麦味噌（2kg）を仕込みます🍶ご自宅で半年じっくり寝かせれば、手づくりならではの深い味わいに。 \nさらに、お湯を注ぐだけでお味噌汁が楽しめる「みそ玉」も10個作ります🍵忙しい日々の中でも、ほっとひと息。体にやさしい第一歩を一緒に始めてみませんか？🌿✨ \n【開催日時】\n11月30日（日）13:00~15:30\n\n【参加料金】\n2\,800円\n\n【場所】\n武蔵中央公民館　調理室\n（国東市武蔵町古市1107-1）\n\n【定員】\n15名　※定員になり次第締切\n\n【持ち物】\nエプロン、三角巾\n\n【大まかな行程】\n13:00開始→工程の説明・熟成期間についての説明　\n味噌作り・みそ玉づくり\n味噌作り説明→大豆潰す→混ぜる→詰める→味噌玉作り→混ぜる→丸める→パックに入れる\n→15：30終了\n\n【申込締切】\n11月17日（月）※定員になり次第締切\n\n【お問い合わせ】\n一般社団法人国東市観光協会\nTEL 0978-73-0962 (受付時間 9:00 ~ 17:00)
URL:https://www.imiru-kunisaki.fun/corner/2025-11-30/
LOCATION:武蔵中央公民館\, 古市1107番地1\, 国東市武蔵町\, 大分県\, 873-0412\, Japan
CATEGORIES:イベント,おだやか博,教室,武蔵町
ATTACH;FMTTYPE=image/jpeg:https://www.imiru-kunisaki.fun/wp-content/uploads/2025/09/karadaomoinomisodukuri3_eyecatch-800X500.jpg
END:VEVENT
END:VCALENDAR