BEGIN:VCALENDAR
VERSION:2.0
PRODID:-//いみ～る国東 - ECPv6.15.20//NONSGML v1.0//EN
CALSCALE:GREGORIAN
METHOD:PUBLISH
X-ORIGINAL-URL:https://www.imiru-kunisaki.fun
X-WR-CALDESC:いみ～る国東 のイベント
REFRESH-INTERVAL;VALUE=DURATION:PT1H
X-Robots-Tag:noindex
X-PUBLISHED-TTL:PT1H
BEGIN:VTIMEZONE
TZID:Asia/Tokyo
BEGIN:STANDARD
TZOFFSETFROM:+0900
TZOFFSETTO:+0900
TZNAME:JST
DTSTART:20240101T000000
END:STANDARD
END:VTIMEZONE
BEGIN:VEVENT
DTSTART;TZID=Asia/Tokyo:20250308T130000
DTEND;TZID=Asia/Tokyo:20250308T160000
DTSTAMP:20260423T063523
CREATED:20250216T054205Z
LAST-MODIFIED:20250216T054750Z
UID:627-1741438800-1741449600@www.imiru-kunisaki.fun
SUMMARY:星と月に願いを込めて　ヒンメリ作り
DESCRIPTION:お申し込みはこちらから＞＞＞ \nフィンランドの伝統工芸「ヒンメリ」は、麦の茎が生み出す繊細で温かな光のアート。今回は、国東市を拠点に活動するヒンメリ作家・高橋慶典さんと一緒に、「月」のヒンメリを作ります。 \n秋に作った「星」と組み合わせても、「月」だけで飾っても、とても美しい佇まい。やさしく揺れる光とともに、春の宵をゆったりと過ごしませんか？ \n素晴らしい景色と、美味しいスイーツ付きでお待ちしています。 \n【開催日時】\n3月8日（土）13:00~16:00 \n【参加料金】\n4500円 \n【集合場所】\nflat（国東市国東町富来浦731-4） \n【定員】\n10名（最少催行5名） \n【行程】\n13:00開始・説明　基本の正八面体を練習→「月」の制作→15:30お茶→16:00終了 \n【申込締切】\n3月5日（水） \n【お申込み・お問い合わせ】\n一般社団法人国東市観光協会\nTEL 0978-73-0962 (受付時間 9:00 ~ 17:00)
URL:https://www.imiru-kunisaki.fun/corner/odayaka2025-03-08/
LOCATION:flat\, 富来浦731-4\, 国東市国東町\, 大分県\, 873-0643\, Japan
CATEGORIES:おだやか博,国東町
END:VEVENT
END:VCALENDAR