BEGIN:VCALENDAR
VERSION:2.0
PRODID:-//いみ～る国東 - ECPv6.15.20//NONSGML v1.0//EN
CALSCALE:GREGORIAN
METHOD:PUBLISH
X-WR-CALNAME:いみ～る国東
X-ORIGINAL-URL:https://www.imiru-kunisaki.fun
X-WR-CALDESC:いみ～る国東 のイベント
REFRESH-INTERVAL;VALUE=DURATION:PT1H
X-Robots-Tag:noindex
X-PUBLISHED-TTL:PT1H
BEGIN:VTIMEZONE
TZID:Asia/Tokyo
BEGIN:STANDARD
TZOFFSETFROM:+0900
TZOFFSETTO:+0900
TZNAME:JST
DTSTART:20240101T000000
END:STANDARD
END:VTIMEZONE
BEGIN:VEVENT
DTSTART;TZID=Asia/Tokyo:20251019T090000
DTEND;TZID=Asia/Tokyo:20251019T160000
DTSTAMP:20260422T175710
CREATED:20250908T032145Z
LAST-MODIFIED:20251001T044043Z
UID:1930-1760864400-1760889600@www.imiru-kunisaki.fun
SUMMARY:国東半島に残るミステリーな神社を巡るプレミアムツアー【国東おだやか博2025】
DESCRIPTION:⛩️ 国東半島 神社ミステリーツアー神仏習合で知られる国東半島。実は、神社に特化したツアーはほとんど存在しません。この特別なツアーでは、国東半島に残る古代史のミステリーをたどりながら、ここでしか聞けないプレミアムな解説をお届けします📜✨ \nさらに、貴重な資料もプレゼント🎁歴史好きにはたまらない、特別な旅へご案内します。 \n【開催日時】\n10月19日（日）9:00~16:00\n\n【参加料金】\n10\,000円\n\n【集合場所】\n道の駅 くにさき\n（国東市国東町小原2662-1）\n\n【定員】\n10名　※定員になり次第締切\n\n【大まかな行程】\n \n9:00開始・講座　道の駅 くにさき →　八幡奈多宮　→　安岐町と武蔵町の神社　→　桜八幡神社 →　赤松厳島神社 →　国見町の神社 →　粟嶋神社　→　道の駅 くにさき　16:00終了\n\n\n【申込締切】\n10月14日（火）16:00　※定員になり次第締切\n\n【お申込み・お問い合わせ】\n参加お申し込みはこちらから＞＞＞\n\n一般社団法人国東市観光協会\nTEL 0978-73-0962 (受付時間 9:00 ~ 17:00)
URL:https://www.imiru-kunisaki.fun/corner/2025-10-19-3/
LOCATION:国東半島\, 国東市\, 大分県\, Japan
CATEGORIES:イベント,おだやか博,国東半島
ATTACH;FMTTYPE=image/jpeg:https://www.imiru-kunisaki.fun/wp-content/uploads/2025/09/kunisakihanntouninokorumisuteri1-_eyecatch-800X500.jpg
END:VEVENT
BEGIN:VEVENT
DTSTART;TZID=Asia/Tokyo:20251019T094500
DTEND;TZID=Asia/Tokyo:20251019T120000
DTSTAMP:20260422T175710
CREATED:20250908T042541Z
LAST-MODIFIED:20251001T044023Z
UID:1939-1760867100-1760875200@www.imiru-kunisaki.fun
SUMMARY:古きを訪ね新しきを知る「鶴川探訪」~空也上人ゆかりの地を歩く~【国東おだやか博2025】
DESCRIPTION:🏯 歴史薫るまち・鶴川を散策ここ鶴川は、平安時代の高僧「空也上人」によって興導寺が創建されたゆかりの地。平安京を模したまちづくりの名残や、地域に点在する歴史的な遺構をめぐりながら、悠久の時に思いを馳せてみませんか？🌿✨ \n古きを訪ね、新しきを探す――そんな出会いがここにはあります🚶‍♀️📜 \n\n【開催日時】\n10月19日（日）9:45~12:00\n\n【参加料金】\n2\,000円\n\n【集合場所】\n鶴川商店街周辺観光・交流拠点施設「きとわ」\n（国東市国東町鶴川1365-1）\n\n【定員】\n10名　※定員になり次第締切\n\n【大まかな行程】\n \n9:45　受付・説明　→　10:00\n鶴川地域の名所・旧跡の約10ヶ所を回ります。各ポイントに専門のガイドが説明します。\n→　12:00　きとわで解散\n\n\n【申込締切】\n10月14日（火）16:00　※定員になり次第締切\n\n【お申込み・お問い合わせ】\n参加お申し込みはこちらから＞＞＞\n\n一般社団法人国東市観光協会\nTEL 0978-73-0962 (受付時間 9:00 ~ 17:00)
URL:https://www.imiru-kunisaki.fun/corner/2025-10-19-4/
LOCATION:鶴川商店街周辺観光・交流拠点施設「きとわ」\, 鶴川１３６５番地１\, 国東市国東町\, 大分県\, 873-0503\, Japan
CATEGORIES:イベント,おだやか博,国東町
ATTACH;FMTTYPE=image/jpeg:https://www.imiru-kunisaki.fun/wp-content/uploads/2025/09/furukiwotazuneatarashikiwoshiru1_eyecatch-800X500.jpg
END:VEVENT
END:VCALENDAR