BEGIN:VCALENDAR
VERSION:2.0
PRODID:-//いみ～る国東 - ECPv6.15.20//NONSGML v1.0//EN
CALSCALE:GREGORIAN
METHOD:PUBLISH
X-ORIGINAL-URL:https://www.imiru-kunisaki.fun
X-WR-CALDESC:いみ～る国東 のイベント
REFRESH-INTERVAL;VALUE=DURATION:PT1H
X-Robots-Tag:noindex
X-PUBLISHED-TTL:PT1H
BEGIN:VTIMEZONE
TZID:Asia/Tokyo
BEGIN:STANDARD
TZOFFSETFROM:+0900
TZOFFSETTO:+0900
TZNAME:JST
DTSTART:20240101T000000
END:STANDARD
END:VTIMEZONE
BEGIN:VEVENT
DTSTART;TZID=Asia/Tokyo:20251108T100000
DTEND;TZID=Asia/Tokyo:20251108T130000
DTSTAMP:20260422T142612
CREATED:20250930T052715Z
LAST-MODIFIED:20251001T235335Z
UID:2031-1762596000-1762606800@www.imiru-kunisaki.fun
SUMMARY:オリーブ園の休日Ⅳ【国東おだやか博2025】
DESCRIPTION:四国を望む園で、秋のオリーブ収穫体験🌿✨完熟した実は、工夫次第で新しい発見につながります！オリーブ栽培のコツや、実を使った加工方法（塩漬け）を、試食をまじえながら楽しくご紹介🥢 \n収穫した実（500g）は、そのままご自宅の食卓で味わえます🍴また、ご希望の方には「BOX LUNCH」（1\,200円・要申込）もご用意🍱ゆったりとした時間を過ごしに、ぜひお越しください🌸 \n【開催日時】\n11月8日（土）10:00~13:00\n\n【参加料金】\n2\,000円\n※ランチにトラットリアスティーレBOXLUNCH（1\,200円別途）\nご希望の方は参加申し込み時にご注文ください。\n\n【集合場所】\n安岐町山浦 橋上研修センター駐車場\n（国東市安岐町山浦1526）\n\n\n【定員】\n10名　※定員になり次第締切\n\n【持ち物】\nスニーカー、帽子、タオル、飲み物、筆記用具オリーブの実持帰り用の保冷バック\n\n【大まかな行程】\n10:00集合場所から園地に移動→開始・説明→完熟オリーブの加工方法紹介→完熟オリーブの加工方法紹介・試食→10:50オリーブ収穫・選別・計量、園地散策12:00～オリーブ園でのランチタイム　\n\n【申込締切】\n10月31日（金）　16:00　※定員になり次第締切\n\n【お申込み・お問い合わせ】\n参加お申込みはこちらから＞＞＞\n一般社団法人国東市観光協会\nTEL 0978-73-0962 (受付時間 9:00 ~ 17:00)
URL:https://www.imiru-kunisaki.fun/corner/2025-11-8/
LOCATION:橋上研修センター駐車場\, 山浦1526\, 国東市安岐町\, 大分県\, Japan
CATEGORIES:イベント,おだやか博,体験,安岐町
ATTACH;FMTTYPE=image/jpeg:https://www.imiru-kunisaki.fun/wp-content/uploads/2025/09/oriveennnokyuujitsu1_eyecatch-800X500.jpg
END:VEVENT
BEGIN:VEVENT
DTSTART;TZID=Asia/Tokyo:20251115T130000
DTEND;TZID=Asia/Tokyo:20251115T150000
DTSTAMP:20260422T142612
CREATED:20250930T140817Z
LAST-MODIFIED:20251001T051649Z
UID:2045-1763211600-1763218800@www.imiru-kunisaki.fun
SUMMARY:国東で大切に育てられる牡蠣「くにさきオイスター」生産現場ツアーと試食体験【国東おだやか博2025】
DESCRIPTION:豊かな自然に育まれた国東の“くにさきオイスター”🦪一粒ずつ丁寧に育てられた牡蠣は、国東の海を感じるすっきりとした味わい。安全性にもこだわり、徹底した浄化を経てお届けしています🌊 \n今回は、生産現場を実際にご覧いただき、その場で新鮮な牡蠣の試食体験も🍴さらに、オストラメンバーだからこそ知る牡蠣の楽しみ方もご紹介します✨ \n国東の海の恵みを、五感で味わってみませんか？🌿 \n【開催日時】\n11月15日（土）13:00~15:00\n\n【参加料金】\n3\,000円\n\n【場所】\nＯｓｔｒａ（オストラ）株式会社　（国東市国見町岐部）\n\n【定員】\n10名　※定員になり次第締切\n\n【持ち物】\n歩きやすいスニーカー、またはウォーキングシューズ\n\n【大まかな行程】\n13：00 集合（オストラ株式会社）　牡蠣の生産についてのご説明　→　14：00　牡蠣の試食\n\n\n【申込締切】\n11月4日（火）※定員になり次第締切\n\n【お申込み・お問い合わせ】\n参加お申し込みはこちらから＞＞＞\n\n一般社団法人国東市観光協会\nTEL 0978-73-0962 (受付時間 9:00 ~ 17:00)
URL:https://www.imiru-kunisaki.fun/corner/2025-11-15/
LOCATION:大分県
CATEGORIES:イベント,おだやか博,国見町
ATTACH;FMTTYPE=image/jpeg:https://www.imiru-kunisaki.fun/wp-content/uploads/2025/09/kunisakidetaisetsunisodaterarerukaki1_eyecatch-800X500.jpg
END:VEVENT
BEGIN:VEVENT
DTSTART;TZID=Asia/Tokyo:20251116T130000
DTEND;TZID=Asia/Tokyo:20251116T150000
DTSTAMP:20260422T142612
CREATED:20251001T050139Z
LAST-MODIFIED:20251001T053247Z
UID:2065-1763298000-1763305200@www.imiru-kunisaki.fun
SUMMARY:七島藺で私だけのシェラカップ 世界農業遺産の里で【国東おだやか博2025】
DESCRIPTION:日本遺産【鬼が仏になった里「くにさき」】で人気のシェラカップ（参加費に含まれます✨）に、七島藺を編み込んだやさしい持ち手カバーをつけ、小さな鍋敷きも手作りします🌿国東半島芸術文化祭で賑わうこの季節、ラバーダックを迎えたサステナブルな里で、自然と文化に触れながらゆったりと楽しみませんか？🦆🌸 \n【開催日時】\n11月16日（日）13:00~15:00\n\n【参加料金】\n4\,500円\n\n【場所】\n国東市旭日地区公民館\n（国東市国東町綱井1025）\n\n【定員】\n20名　※定員になり次第締切\n\n【大まかな行程】\n13:00集合（旭日地区公民館）開始・説明→制作→完成・お茶→15:00終了\n\n【申込締切】\n11月11日（火）16:00　※定員になり次第締切\n\n【お申し込み・お問い合わせ】\n参加お申し込みはこちらから＞＞＞\n一般社団法人国東市観光協会\nTEL 0978-73-0962 (受付時間 9:00 ~ 17:00)
URL:https://www.imiru-kunisaki.fun/corner/2025-11-16/
LOCATION:国東市旭日地区公民館\, 綱井1025\, 国東市国東町\, 大分県\, 873-0513\, Japan
CATEGORIES:イベント,おだやか博,国東町,教室
ATTACH;FMTTYPE=image/jpeg:https://www.imiru-kunisaki.fun/wp-content/uploads/2025/10/shichitouidewatashidakenosyeracup1_eyecatch-800X500.jpg
END:VEVENT
BEGIN:VEVENT
DTSTART;TZID=Asia/Tokyo:20251121T130000
DTEND;TZID=Asia/Tokyo:20251121T160000
DTSTAMP:20260422T142612
CREATED:20251002T002203Z
LAST-MODIFIED:20251002T013705Z
UID:2087-1763730000-1763740800@www.imiru-kunisaki.fun
SUMMARY:大漁旗染め【国東おだやか博2025】
DESCRIPTION:世界にひとつだけの縁起物🎉 大漁旗づくりに挑戦！サイズは70cm×1m。モチーフは Ⓐ鶴 🕊 または Ⓑ鯛 🐟 からお好きな方を選んで染めていただけます。大切な方の幸せと豊漁を願いながら、心を込めて染めてみませんか？🌸 \n詳しくはこちら＞＞＞ \n【開催日時】\n11月21日（金）13:00~16:00\n\n【参加料金】\n4\,500円\n\n【場所】\nまさごや染物店\n（国東市国東町鶴川1447）\n\n【定員】\n4名　※定員になり次第締切\n\n【持ち物】\n汚れてもよい服装、靴\n\n【大まかな行程】\n13:00集合（まさごや染物店）開始・説明→制作  配色を決めて染色→途中休憩あり\n2時間立って作業→16:00終了\n作業終了後、完成までに2週間ほどかかります。完成品の受け取りをお願いいたします。\n※郵送の場合は別途料金を頂きます。\n\n【申込締切】\n11月17日（月）16:00　※定員になり次第締切\n\n【お申し込み・お問い合わせ】\nモチーフA（鶴柄）　参加お申し込みはこちらから＞＞＞\nモチーフB（鯛柄）　参加お申し込みはこちらから＞＞＞\n\n一般社団法人国東市観光協会\nTEL 0978-73-0962 (受付時間 9:00 ~ 17:00)
URL:https://www.imiru-kunisaki.fun/corner/2025-11-21/
LOCATION:まさごや染物店\, 鶴川1447\, 国東市国東町\, 大分県\, 873-0503\, Japan
CATEGORIES:イベント,おだやか博,国東町,教室
ATTACH;FMTTYPE=image/jpeg:https://www.imiru-kunisaki.fun/wp-content/uploads/2025/10/tairyouhatazome_eyecatch-800X500.jpg
END:VEVENT
BEGIN:VEVENT
DTSTART;TZID=Asia/Tokyo:20251124T090000
DTEND;TZID=Asia/Tokyo:20251124T160000
DTSTAMP:20260422T142612
CREATED:20251121T025223Z
LAST-MODIFIED:20251121T033433Z
UID:2289-1763974800-1764000000@www.imiru-kunisaki.fun
SUMMARY:国東半島に残るミステリーな神社を巡るプレミアムツアー【国東おだやか博2025】
DESCRIPTION:神仏習合の地として知られる国東半島。実は、神社に特化したツアーはほとんどないんです⛩️✨ \n今回のツアーでは、国東半島に残る“古代の謎”をたどる、ちょっとミステリーな歴史旅へご案内します。ここでしか聞けない特別な解説と、貴重な資料もプレゼント📜🔍 \n古代へとつながる扉を、そっと開きに行きませんか？😊🌿 \n【開催日時】\n11月24日（月・祝）13:00~15:00\n\n【参加料金】\n10\,000円\n\n【集合場所】\n道の駅くにさき\n\n【定員】\n各10名　※定員になり次第締切\n\n【大まかな行程】\n9:00開始・講座　道の駅くにさき →　八幡奈多宮　→　安岐町と武蔵町の神社　→　桜八幡神社 →　赤松厳島神社 →　国見町の神社 →　粟嶋神社　→　道の駅くにさき　16:00\n\n【持ち物】\n歩きやすい服装、スニーカーまたはウォーキングシューズ、飲み物\n\n【申込締切】\n11月17日（月）16:00　※定員になり次第締切\n\n【お申し込み・お問い合わせ】\n参加お申し込みはこちら＞＞＞\n\n一般社団法人国東市観光協会\nTEL 0978-73-0962 (受付時間 9:00 ~ 17:00)
URL:https://www.imiru-kunisaki.fun/corner/2025-11-24-2/
LOCATION:国東半島\, 国東市\, 大分県\, Japan
CATEGORIES:イベント,おだやか博,国東半島
ATTACH;FMTTYPE=image/jpeg:https://www.imiru-kunisaki.fun/wp-content/uploads/2025/11/kunisakihanntouninokorumisuteri3-_eyecatch-800X500.jpg
END:VEVENT
BEGIN:VEVENT
DTSTART;TZID=Asia/Tokyo:20251127T100000
DTEND;TZID=Asia/Tokyo:20251127T130000
DTSTAMP:20260422T142612
CREATED:20251015T022341Z
LAST-MODIFIED:20251015T023835Z
UID:2105-1764237600-1764248400@www.imiru-kunisaki.fun
SUMMARY:フレッシュモミで飾る ステキなホリデイ【国東おだやか博2025】
DESCRIPTION:香り高いフレッシュモミを使って、自然の恵みあふれるリースづくり🌲ドライフラワーや木の実を添えて、あなただけの森のリースを仕上げましょう🌼ランチには、ミニハンバーガーとサラダ、ドリンクをご用意🍔🥗☕木々の香りに包まれながら、心やすらぐひとときをお過ごしください🍃 \n【開催日時】\n11月27日（木）10:00~13:00\n\n【参加料金】\n4\,000円\n\n【場所】\n秘境の花屋\n（国東市国東町小原145-1）\n\n【定員】\n各20名　※定員になり次第締切\n\n【持ち物】\n作品を持ち帰る袋など\n\n【大まかな行程】\n10:00開始・説明→制作→昼食→13:00終了\n\n【申込締切】\n11月21日（金）16:00　※定員になり次第締切\n\n【お申し込み・お問い合わせ】\n参加お申し込みはこちら＞＞＞\n\n一般社団法人国東市観光協会\nTEL 0978-73-0962 (受付時間 9:00 ~ 17:00)
URL:https://www.imiru-kunisaki.fun/corner/2025-11-27-2/
LOCATION:秘境の花屋\, 小原145-1\, 国東市国東町\, 大分県\, 873-0511\, Japan
CATEGORIES:イベント,おだやか博,体験,国東町,教室
ATTACH;FMTTYPE=image/jpeg:https://www.imiru-kunisaki.fun/wp-content/uploads/2025/10/freshumomidegazaru_eyecatch-800X500.jpg
END:VEVENT
BEGIN:VEVENT
DTSTART;TZID=Asia/Tokyo:20251130T093000
DTEND;TZID=Asia/Tokyo:20251130T160000
DTSTAMP:20260422T142612
CREATED:20251015T021037Z
LAST-MODIFIED:20251015T025715Z
UID:2099-1764495000-1764518400@www.imiru-kunisaki.fun
SUMMARY:くにさき彩に染める~藍染め~【国東おだやか博2025】
DESCRIPTION:JAPANカラーを国東で染めよう💙この春に仕込んだ藍で、オーガニックコットンのストールまたはトートバッグを美しい青に染めます🫧国東の青い空、青い海を映したような、あなただけの一枚をつくってみませんか？🌊☀️（※藍のコンディションにより、インド藍を使用する場合があります） \n【開催日時】\n11月30日（日）①9:30~12:00　②13:30~16:00\n\n【参加料金】\n4\,000円\n\n【場所】\nののはな草木染アカデミー（大分国東市部教室）\n（国東市武蔵町古市639）\n\n【定員】\n各4名　※定員になり次第締切\n\n【持ち物】\nかっぽう着（エプロンまたは汚れてもよい黒系の服）・手を拭くタオル\n\n【大まかな行程】\n①9：30受付→説明→作業→11：30出来上がり→お茶タイム→12：00解散②13：30受付→説明→作業→15：30出来上がり→お茶タイム→16：00解散\n\n【申込締切】\n11月25日（火）16:00　※定員になり次第締切\n\n【お申し込み・お問い合わせ】\n①9:30~12:00　参加お申し込みはこちら＞＞＞\n②13:30~16:00　参加お申し込みはこちら＞＞＞\n\n一般社団法人国東市観光協会\nTEL 0978-73-0962 (受付時間 9:00 ~ 17:00)
URL:https://www.imiru-kunisaki.fun/corner/2-25-11-30/
LOCATION:ののはな草木染アカデミー（大分国東市部教室）\, 古市639\, 国東市武蔵町\, 大分県\, 873-0412\, Japan
CATEGORIES:イベント,おだやか博,体験,武蔵町
ATTACH;FMTTYPE=image/jpeg:https://www.imiru-kunisaki.fun/wp-content/uploads/2025/10/kunisakiironisomeruaizome_eyecatch-800X500.jpg
END:VEVENT
BEGIN:VEVENT
DTSTART;TZID=Asia/Tokyo:20251130T094500
DTEND;TZID=Asia/Tokyo:20251130T120000
DTSTAMP:20260422T142612
CREATED:20251121T030220Z
LAST-MODIFIED:20251121T033536Z
UID:2297-1764495900-1764504000@www.imiru-kunisaki.fun
SUMMARY:古きを訪ね新しきを知る「鶴川探訪」~空也上人ゆかりの地を歩く~【国東おだやか博2025】
DESCRIPTION:🏯 歴史薫るまち・鶴川を散策ここ鶴川は、平安時代の高僧「空也上人」によって興導寺が創建されたゆかりの地。平安京を模したまちづくりの名残や、地域に点在する歴史的な遺構をめぐりながら、悠久の時に思いを馳せてみませんか？🌿✨ \n古きを訪ね、新しきを探す――そんな出会いがここにはあります🚶‍♀️📜 \n\n\n【開催日時】\n11月30日（日）9:45~12:00\n\n【参加料金】\n2\,000円\n\n【集合場所】\n鶴川商店街周辺観光・交流拠点施設「きとわ」\n（国東市国東町鶴川1365-1）\n\n【定員】\n10名　※定員になり次第締切\n\n【大まかな行程】\n \n9:45　受付・説明\n→　10:00 鶴川地域の名所・旧跡の約10ヶ所を回ります。各ポイントに専門のガイドが説明します。\n→　12:00　きとわで解散\n\n\n\n【申込締切】\n11月18日（火）16:00　※定員になり次第締切\n\n\n【お申込み・お問い合わせ】\n参加お申し込みはこちらから＞＞＞\n\n一般社団法人国東市観光協会\nTEL 0978-73-0962 (受付時間 9:00 ~ 17:00)
URL:https://www.imiru-kunisaki.fun/corner/2015-11-30/
LOCATION:鶴川商店街周辺観光・交流拠点施設「きとわ」\, 鶴川１３６５番地１\, 国東市国東町\, 大分県\, 873-0503\, Japan
CATEGORIES:イベント,おだやか博,国東町
ATTACH;FMTTYPE=image/jpeg:https://www.imiru-kunisaki.fun/wp-content/uploads/2025/11/furukiwotazuneatarashikiwoshiru2_eyecatch-800X500.jpg
END:VEVENT
BEGIN:VEVENT
DTSTART;TZID=Asia/Tokyo:20251130T130000
DTEND;TZID=Asia/Tokyo:20251130T153000
DTSTAMP:20260422T142612
CREATED:20250930T043338Z
LAST-MODIFIED:20250930T053404Z
UID:2017-1764507600-1764516600@www.imiru-kunisaki.fun
SUMMARY:からだ思いのみそづくり【国東おだやか博2025】
DESCRIPTION:「かね松」の屋号で親しまれる安永醸造さん✨5代目・百恵さんから麹や発酵の知恵を学びながら、心を込めて麦味噌（2kg）を仕込みます🍶ご自宅で半年じっくり寝かせれば、手づくりならではの深い味わいに。 \nさらに、お湯を注ぐだけでお味噌汁が楽しめる「みそ玉」も10個作ります🍵忙しい日々の中でも、ほっとひと息。体にやさしい第一歩を一緒に始めてみませんか？🌿✨ \n【開催日時】\n11月30日（日）13:00~15:30\n\n【参加料金】\n2\,800円\n\n【場所】\n武蔵中央公民館　調理室\n（国東市武蔵町古市1107-1）\n\n【定員】\n15名　※定員になり次第締切\n\n【持ち物】\nエプロン、三角巾\n\n【大まかな行程】\n13:00開始→工程の説明・熟成期間についての説明　\n味噌作り・みそ玉づくり\n味噌作り説明→大豆潰す→混ぜる→詰める→味噌玉作り→混ぜる→丸める→パックに入れる\n→15：30終了\n\n【申込締切】\n11月17日（月）※定員になり次第締切\n\n【お問い合わせ】\n一般社団法人国東市観光協会\nTEL 0978-73-0962 (受付時間 9:00 ~ 17:00)
URL:https://www.imiru-kunisaki.fun/corner/2025-11-30/
LOCATION:武蔵中央公民館\, 古市1107番地1\, 国東市武蔵町\, 大分県\, 873-0412\, Japan
CATEGORIES:イベント,おだやか博,教室,武蔵町
ATTACH;FMTTYPE=image/jpeg:https://www.imiru-kunisaki.fun/wp-content/uploads/2025/09/karadaomoinomisodukuri3_eyecatch-800X500.jpg
END:VEVENT
END:VCALENDAR