BEGIN:VCALENDAR
VERSION:2.0
PRODID:-//いみ～る国東 - ECPv6.15.20//NONSGML v1.0//EN
CALSCALE:GREGORIAN
METHOD:PUBLISH
X-WR-CALNAME:いみ～る国東
X-ORIGINAL-URL:https://www.imiru-kunisaki.fun
X-WR-CALDESC:いみ～る国東 のイベント
REFRESH-INTERVAL;VALUE=DURATION:PT1H
X-Robots-Tag:noindex
X-PUBLISHED-TTL:PT1H
BEGIN:VTIMEZONE
TZID:Asia/Tokyo
BEGIN:STANDARD
TZOFFSETFROM:+0900
TZOFFSETTO:+0900
TZNAME:JST
DTSTART:20240101T000000
END:STANDARD
END:VTIMEZONE
BEGIN:VEVENT
DTSTART;TZID=Asia/Tokyo:20250501T090000
DTEND;TZID=Asia/Tokyo:20250831T090000
DTSTAMP:20260422T144143
CREATED:20250504T023622Z
LAST-MODIFIED:20250618T052527Z
UID:1206-1746090000-1756630800@www.imiru-kunisaki.fun
SUMMARY:海辺で見つけるタカラモノ【漂流物Craft体験】
DESCRIPTION:海からの贈りもので、世界にひとつのクラフト体験を。 \n道の駅くにさきの目の前に広がる、穏やかな海辺。そこに流れ着いた貝がらや流木は、まるで海のタカラモノ。手に取って、感じて、形にして。あなただけの“海の記憶”を、作品にしてみませんか？ \n詳しくはこちら＞＞＞ \n【開催日時】\n2025年4月〜　9:00-16:00 　※雨天利用不可\n年末年始以外毎日営業。\n但し、レンタサイクル繁忙期はお断りさせていただく場合がありますので、事前にお問合せください。\n\n※終了期間未定\n\n\n\n【場所】\nくにさき観光案内所（道の駅くにさき　サイクリングターミナル内）\n\n\n\n【参加料金】\n500円　　（1セット内容：クルーガンx2、ピンセットx1、バケツx2、ザルx1、各種紐など）\n\n\n【利用方法】\n①くにさき観光案内所にて道具の貸出手続き〈利用時間　9:00-16:00〉\n②ビーチコーミング（海辺で貝殻や流木、漂流物など素材を拾う）\n③レンタルサイクリング倉庫前のテーブルにて工作タイム\n（作業スペースは2名2組程度。営業時間内であれば時間の制限なし。）\n\n※講師はいません。自由に工作いただくための、道具貸出・場所の提供となります。\n\n\n【申込締切】\n予約不可\n\n\n【お問い合わせ】\n一般社団法人国東市観光協会\nTEL 0978-73-0962 (受付時間 9:00 ~ 17:00)
URL:https://www.imiru-kunisaki.fun/corner/2025-05-01-31/
LOCATION:くにさき観光案内所\, 小原2662-1 国東市サイクリングターミナル1階（道の駅くにさき内）\, 国東町\, 大分県\, 873-0511\, Japan
CATEGORIES:体験,国東町
ATTACH;FMTTYPE=image/jpeg:https://www.imiru-kunisaki.fun/wp-content/uploads/2025/05/hyouryuubutsucrafttaikenn-800X500.jpg
END:VEVENT
BEGIN:VEVENT
DTSTART;TZID=Asia/Tokyo:20250607T210000
DTEND;TZID=Asia/Tokyo:20250607T220000
DTSTAMP:20260422T144143
CREATED:20250418T141500Z
LAST-MODIFIED:20250418T141755Z
UID:1169-1749330000-1749333600@www.imiru-kunisaki.fun
SUMMARY:お月さま撮影会【天球館】
DESCRIPTION:梅園の里天文台 天球館で毎月開かれる、お月さま撮影会。澄んだ夜空に輝く美しい月を、一緒にカメラに収めませんか？初心者の方も大歓迎。天文台の特別な設備を使って、いつもとは違う夜を楽しみましょう。定員は8名、当日先着順ですので、参加をご希望の方はお早めにお越しください。 \n【開催日時】\n6月7日（土）21:00~22:00 \n【場所】\n梅園の里天文台 天球館（国東市安岐町富清2244） \n【定員】\n8名　※当日先着順 \n【料金】\n観察料：大人500円・高校生:300円・小中学生200円\n※梅園の里 宿泊者様、団体（10名以上）は、お一人様100円引き \n◆年間パスポート：大人1500円・高校生900円・小中学生600円 \n【お問い合わせ】\n梅園の里天文台 天球館\nTEL:0978-97-2655\n開館時間：平日（月・水・木・金） 18:00～22:00　　土日祝・学童春夏冬休み 13:00〜22:00\n休館日：火曜日（祝祭日の場合は翌平日）
URL:https://www.imiru-kunisaki.fun/corner/2025-6-25/
LOCATION:梅園の里天文台 天球館\, 富清2244\, 国東市安岐町\, 大分県\, 873-0355\, Japan
CATEGORIES:イベント,安岐町
ATTACH;FMTTYPE=image/jpeg:https://www.imiru-kunisaki.fun/wp-content/uploads/2025/04/otsukisamasatsueikai_eyecatch-800X500-3.jpg
END:VEVENT
BEGIN:VEVENT
DTSTART;TZID=Asia/Tokyo:20250611T100000
DTEND;TZID=Asia/Tokyo:20250624T180000
DTSTAMP:20260422T144143
CREATED:20250618T042246Z
LAST-MODIFIED:20250618T050034Z
UID:1446-1749636000-1750788000@www.imiru-kunisaki.fun
SUMMARY:令和7年度 教科用図書展示会
DESCRIPTION:令和7年度使用小学校教科用図書展示会 並びに 令和7年度使用中学校教科用図書展示会開催\n毎年ご好評をいただいております「教科用図書展示会」を、今年も開催いたします。本年度は、中学校で新しい教科書が使われる節目の年でもあります。ぜひこの機会に、未来を担う子どもたちが学ぶ新しい教科書をご覧になってみませんか？ \n展示会場はどなたでも自由にご入場いただけます。※教科書の貸出やコピー（転写）はできませんので、あらかじめご了承ください。 \n【展示期間】\n6月11日（水）〜 6月24日（火）の14日間（土・日曜日を含む）10〜18時 \n【展示場所】\nアストくにさき3階  ギャラリー\n（国東市国東町鶴川160番地2） \n【お問い合わせ】\n国東市学校教育課\n大分県国東市国東町鶴川160番地2　アストくにさき 3階\n指導・人権教育部落差別解消推進係\nTEL 0978-73-0066\nFAX 0978-73-0067
URL:https://www.imiru-kunisaki.fun/corner/2025-6-11-6-24/
LOCATION:アスト国東\, 鶴川160-2\, 国東町\, 大分県\, 873-0503\, Japan
CATEGORIES:イベント,国東町
ATTACH;FMTTYPE=image/jpeg:https://www.imiru-kunisaki.fun/wp-content/uploads/2025/06/toshotennji_eyecatch-800X500.jpg
END:VEVENT
BEGIN:VEVENT
DTSTART;TZID=Asia/Tokyo:20250612T100000
DTEND;TZID=Asia/Tokyo:20250612T120000
DTSTAMP:20260422T144143
CREATED:20250512T064030Z
LAST-MODIFIED:20250512T065315Z
UID:1328-1749722400-1749729600@www.imiru-kunisaki.fun
SUMMARY:令和7年度 プレママ・プレパパ教室
DESCRIPTION:もうすぐ赤ちゃんを迎えるプレママ・プレパパの皆さん、助産師と一緒に「自分らしいお産」について考えてみませんか？ \n出産への不安を和らげるだけでなく、同じ気持ちを持つ仲間と出会える機会にもなりますよ。\nぜひ、お気軽にご参加ください！\n令和7年度プレママ・プレパパ教室 \n〈期間・開催日〉\n令和7年4月から令和8年3月\n※詳しい日程はこちらのサイトでご確認ください。令和7年度プレママ・プレパパ教室 \n〈対象者〉\n妊娠20週頃から出産までの妊婦さんとその夫・パートナー（ご家族の参加は要相談）\n※おひとりでの参加も大歓迎です！\n〈テーマ〉\n助産師と考える「アフターバースプラン」\n※事前申込必要 \n※このプレママ・プレパパ教室は、『妊婦のための支援給付金』の面談を兼ねています。\n詳しくは「出産・子育て応援交付金」（国東市ホームページ）をご確認ください。 \n\n【開催日時】\n6月12日（木）10:00~12:00 ※トイレ休憩あり \n【場所】\n武蔵保健福祉センター ボランティア室\n※都合により変更となる場合がございます \n【参加料金】\n無料 \n【持ち物】\n母子健康手帳、筆記用具、飲み物 \n【予約方法】\n電話もしくは、母子手帳アプリでのWeb予約\n※母子手帳アプリ『母子モ』→『地域の子育て情報』→『子育てイベント』 \n【その他】\n託児が必要な方は、ご相談ください。 \n【お申込み・お問い合わせ】\n国東市役所 子育て支援課 （国東市こども家庭センター）\n大分県国東市国東町鶴川149番地\nTEL 0978-72-5114\n平日8:30～17:00 （土日・祝祭日・年末年始を除く）
URL:https://www.imiru-kunisaki.fun/corner/2025-06-12/
LOCATION:武蔵保健福祉センター\, 古市１０８６−１\, 国東市武蔵町\, 大分県\, 873-0412\, Japan
CATEGORIES:子育て,武蔵町
ATTACH;FMTTYPE=image/jpeg:https://www.imiru-kunisaki.fun/wp-content/uploads/2025/05/puremamapurepapakyoushitsu-800X500-2.jpg
END:VEVENT
BEGIN:VEVENT
DTSTART;TZID=Asia/Tokyo:20250614T083000
DTEND;TZID=Asia/Tokyo:20250614T130000
DTSTAMP:20260422T144143
CREATED:20250409T025733Z
LAST-MODIFIED:20250418T142958Z
UID:1121-1749889800-1749906000@www.imiru-kunisaki.fun
SUMMARY:【国東三山山開き】第3弾　文珠山山開き（616m）
DESCRIPTION:国東三山の山開き―第3弾として「第7回 文珠山山開き」を開催。 \n初夏の風が心地よい6月中旬、深まる緑に包まれた国東の山々。神と仏が息づくこの山で、心をほどくトレイルの旅へ――。 \n信仰と自然が織りなす文珠山で、やさしい時間をお過ごしください。 \nどうぞ、国東の初夏を感じにお越しください。 \n詳しくはこちら＞＞＞ \n【開催日時】\n6月14日（土）8:30集合　9時出発 （約4時間） \n【参加料金】\n1\,000円（ガイド・記念品）\n※参加料は当日現地でお支払いください。\n※お弁当・飲み物は各自ご用意ください。\n※損害保険等は未加入ですので各自で加入してください。 \n【集合場所】\n大分県国東市国東町大恩寺 文殊仙寺駐車場 \n【定員】\n50名　※先着順 \n【コース】※約4時間\n8:30集合 大恩寺 文殊仙寺駐車場　9:00出発\n文殊仙寺→紫竹観音→文殊山頂→葛原集落跡→ゴロタ平→文殊仙寺 \n【必要な物】\n昼食、飲み物、帽子、登山靴（運動靴）、雨具 \n【申込期間】\n現地の部　登山会2日前まで \n【申込締切】\n定員になり次第締め切り \n【お申込み・お問い合わせ】\n一般社団法人国東市観光協会\nTEL 0978-73-0962 (受付時間 9:00 ~ 17:00　土・日・祝はお休み)
URL:https://www.imiru-kunisaki.fun/corner/2025-06-14/
LOCATION:文珠山\, 国東市国東町\, 大分県\, Japan
CATEGORIES:イベント,国東町
ATTACH;FMTTYPE=image/jpeg:https://www.imiru-kunisaki.fun/wp-content/uploads/2025/04/kunisakiyamabiraki_eyecatch-800X500-1.jpg
END:VEVENT
BEGIN:VEVENT
DTSTART;TZID=Asia/Tokyo:20250622T210000
DTEND;TZID=Asia/Tokyo:20250622T220000
DTSTAMP:20260422T144143
CREATED:20250418T142132Z
LAST-MODIFIED:20250418T142847Z
UID:1175-1750626000-1750629600@www.imiru-kunisaki.fun
SUMMARY:M13球状星団撮影会【天球館】
DESCRIPTION:星々がきらめく初夏の夜、はるか彼方に広がる神秘の世界・M13球状星団を一緒に撮影してみませんか？天球館では望遠鏡を使った特別な撮影会を開催します。宇宙の魅力に触れながら、あなただけの一枚を残せる貴重なチャンスです。星空撮影が初めての方も大歓迎。星の解説や撮影サポートも行いますので、どなたでも安心してご参加いただけます。夜空のロマンを感じながら、忘れられないひとときを過ごしましょう。 \n【開催日時】\n6月22日（日）21:00~22:00 \n【場所】\n梅園の里天文台 天球館（国東市安岐町富清2244） \n【定員】\n8名　※当日先着順 \n【料金】\n観察料：大人500円・高校生:300円・小中学生200円\n※梅園の里 宿泊者様、団体（10名以上）は、お一人様100円引き \n◆年間パスポート：大人1500円・高校生900円・小中学生600円 \n【お問い合わせ】\n梅園の里天文台 天球館\nTEL:0978-97-2655\n開館時間：平日（月・水・木・金） 18:00～22:00　　土日祝・学童春夏冬休み 13:00〜22:00\n休館日：火曜日（祝祭日の場合は翌平日）
URL:https://www.imiru-kunisaki.fun/corner/2025-6-22/
LOCATION:梅園の里天文台 天球館\, 富清2244\, 国東市安岐町\, 大分県\, 873-0355\, Japan
CATEGORIES:イベント,安岐町
ATTACH;FMTTYPE=image/jpeg:https://www.imiru-kunisaki.fun/wp-content/uploads/2025/04/m13_eyecatch-800X500-1.jpg
END:VEVENT
BEGIN:VEVENT
DTSTART;TZID=Asia/Tokyo:20250627T103000
DTEND;TZID=Asia/Tokyo:20250627T113000
DTSTAMP:20260422T144143
CREATED:20250527T044556Z
LAST-MODIFIED:20250527T050559Z
UID:1371-1751020200-1751023800@www.imiru-kunisaki.fun
SUMMARY:離乳食教室
DESCRIPTION:「離乳食っていつから始めたらいいの？」「どんな風に進めていけばいいの？」そんなお悩みはありませんか？管理栄養士が離乳食の基本や進め方についてわかりやすくお話しします♪ ちょっとしたコツを知るだけで、ママやパパの負担もぐっと軽くなりますよ！お気軽にご参加くださいね。 \n≪対象≫ おおむね生後3か月～1歳ごろまでの赤ちゃんとご家族 \n≪内容≫ 離乳食の基本や進め方のお話に加えて、離乳食体験（大人の食事からの取り分けメニュー試食）\n※事前申込必要\n※日程・内容は急に変更になることがありますので、あらかじめご了承ください。\n \nR7年度にこにこ子育て広場・離乳食教室 \n【開催日時】\n6月27日（金）10:30~11:30 \n【場所】\n武蔵保健福祉センター（和室）※参加者の状況により会場が変更になる場合があります。 \n【参加料金】\n無料 \n【持ち物】\n＊赤ちゃんのお出かけセット（お気に入りのおもちゃ・着替えやオムツなど）\n＊いつも使用しているスプーン（離乳食を開始している方）\n＊授乳の準備\n＊ママの飲み物\n＊バスタオル\n＊母子手帳\n \n【お申込み・お問い合わせ】\n国東市役所 子育て支援課（国東市こども家庭センター）\n大分県国東市国東町鶴川149番地\nTEL 0978-72-5114\n平日8:30～17:00 （土日・祝祭日・年末年始を除く） \n教室参加の予約をするなら「ひだまりネット ｂｙ母子モ」が簡単便利！\n詳しくはこちら＞＞＞
URL:https://www.imiru-kunisaki.fun/corner/2025-06-27/
LOCATION:武蔵保健福祉センター\, 古市１０８６−１\, 国東市武蔵町\, 大分県\, 873-0412\, Japan
CATEGORIES:イベント,子育て,武蔵町
END:VEVENT
BEGIN:VEVENT
DTSTART;TZID=Asia/Tokyo:20250628T090000
DTEND;TZID=Asia/Tokyo:20250928T170000
DTSTAMP:20260422T144143
CREATED:20250608T132603Z
LAST-MODIFIED:20250608T151826Z
UID:1418-1751101200-1759078800@www.imiru-kunisaki.fun
SUMMARY:国東市歴史体験学習館企画展「戦後80年から振り返る 重光葵と国東 ―平和への道―」
DESCRIPTION:戦争と平和のはざまで生きた一人の外交官──重光葵をたどる \n令和7年、日本は太平洋戦争の終結から80年という節目を迎えます。終戦の際、戦艦ミズーリ号の上で日本の降伏文書に署名した外交官・重光葵（まもる）氏。その遺骨は、ここ国東市安岐町山口の地に静かに眠っています。 \n近くには、弟・蔵（おさむ）氏らの協力により、重光氏の遺品や写真を展示する山渓偉人館が開かれ、彼の足跡を今に伝えています。 \n戦争に心を痛めながらも、時代のうねりの中で歩んだ外交官としての道。降伏文書調印後にはA級戦犯としての逮捕という過酷な運命も経験しました。しかしその一方で、”向陽”という名で書や似顔絵を数多く残した、芸術家としてのもう一つの顔も持ち合わせていました。 \n本企画では、重光葵氏の波乱に満ちた生涯とともに、戦時下のくにさきの人々の暮らしにも光を当て、過去と向き合う時間を皆さまと共有できればと願っています。 \n詳しくはこちら＞＞＞ \n【開催日時】\n6月28日（土）〜9月28日（日） \n【場所】\n弥生のムラ　国東市歴史体験学習館 1階 企画展示室 \n【入館料】\n一般200円・小中学生100円　※団体割引あり \n【開館時間】\n9:00-17:00　※入館は16:30まで \n【休館日】\n毎週月曜日（祝日除く）、祝日の翌日 \n【お問い合わせ】\n国東市社会教育課　文化財課\nTEL 0978-72-2677
URL:https://www.imiru-kunisaki.fun/corner/2025-06-28-09-28/
LOCATION:弥生のムラ　国東市歴史体験学習館\, 国東市国東町安国寺1639番地2\, 国東市\, 大分県\, 873-0504\, Japan
CATEGORIES:国東町,教育・学習
ATTACH;FMTTYPE=image/jpeg:https://www.imiru-kunisaki.fun/wp-content/uploads/2025/06/senngo80nenn_eyecatch-800X500.jpg
END:VEVENT
BEGIN:VEVENT
DTSTART;TZID=Asia/Tokyo:20250629T100000
DTEND;TZID=Asia/Tokyo:20250629T160000
DTSTAMP:20260422T144143
CREATED:20250605T162358Z
LAST-MODIFIED:20250608T104212Z
UID:1390-1751191200-1751212800@www.imiru-kunisaki.fun
SUMMARY:くにみマリンフェス2025＆海辺のマルシェ
DESCRIPTION:🌊 くにみマリンフェス 2025 ＆ 海辺のマルシェ 開催！\n～海と笑顔に出会う、夏のスペシャルイベント～ \n今年の夏は、**道の駅くにみの奥にある「くにみ海浜公園」**で、海と自然を思いきり楽しめる「くにみマリンフェス」を開催します！SUP（サップ）やビーチバレー、ビーチヨガ、親子で学べる「海の安全教室」など、子どもも大人も一緒に楽しめる体験が盛りだくさん！ \nさらに会場では、地元のグルメやスイーツ、ハンドメイド雑貨などが並ぶ「海辺のマルシェ」も開かれます。海で遊んで、おいしいものを食べて、のんびりお買い物もできる、うれしい1日です🌿 \n夏の思い出づくりにぴったりのくにみ海浜公園で、たくさんの笑顔に出会いましょう！ご家族やお友だちと、ぜひ遊びに来てくださいね🌞✨ \n詳しくはこちら＞＞＞ \n【開催日時】\n2025年6月29日（日）\nくにみマリンフェス　9:00〜16:00\n海辺のマルシェ　　  10:00～14:00 \n【会場】\nくにみ海浜公園　（道の駅くにみ　奥） \n【お問い合わせ】\n海辺のマルシェ\n国東市商工会青年部　TEL：0978-72-2000 \nくにみマリンフェス\n主催：国東市　国東市教育委員会　株式会社カレラワークス\nTEL： 0978-72-2121（国東市教育委員会マリンスポーツ担当）
URL:https://www.imiru-kunisaki.fun/corner/2025-06-29/
LOCATION:大分県
CATEGORIES:イベント,国見町
ATTACH;FMTTYPE=image/jpeg:https://www.imiru-kunisaki.fun/wp-content/uploads/2025/06/kunimifestoumibenomarche_eyecatch-800X500.jpg
END:VEVENT
END:VCALENDAR