BEGIN:VCALENDAR
VERSION:2.0
PRODID:-//いみ～る国東 - ECPv6.15.20//NONSGML v1.0//EN
CALSCALE:GREGORIAN
METHOD:PUBLISH
X-WR-CALNAME:いみ～る国東
X-ORIGINAL-URL:https://www.imiru-kunisaki.fun
X-WR-CALDESC:いみ～る国東 のイベント
REFRESH-INTERVAL;VALUE=DURATION:PT1H
X-Robots-Tag:noindex
X-PUBLISHED-TTL:PT1H
BEGIN:VTIMEZONE
TZID:Asia/Tokyo
BEGIN:STANDARD
TZOFFSETFROM:+0900
TZOFFSETTO:+0900
TZNAME:JST
DTSTART:20240101T000000
END:STANDARD
END:VTIMEZONE
BEGIN:VEVENT
DTSTART;TZID=Asia/Tokyo:20250501T090000
DTEND;TZID=Asia/Tokyo:20250831T090000
DTSTAMP:20260422T112640
CREATED:20250504T023622Z
LAST-MODIFIED:20250618T052527Z
UID:1206-1746090000-1756630800@www.imiru-kunisaki.fun
SUMMARY:海辺で見つけるタカラモノ【漂流物Craft体験】
DESCRIPTION:海からの贈りもので、世界にひとつのクラフト体験を。 \n道の駅くにさきの目の前に広がる、穏やかな海辺。そこに流れ着いた貝がらや流木は、まるで海のタカラモノ。手に取って、感じて、形にして。あなただけの“海の記憶”を、作品にしてみませんか？ \n詳しくはこちら＞＞＞ \n【開催日時】\n2025年4月〜　9:00-16:00 　※雨天利用不可\n年末年始以外毎日営業。\n但し、レンタサイクル繁忙期はお断りさせていただく場合がありますので、事前にお問合せください。\n\n※終了期間未定\n\n\n\n【場所】\nくにさき観光案内所（道の駅くにさき　サイクリングターミナル内）\n\n\n\n【参加料金】\n500円　　（1セット内容：クルーガンx2、ピンセットx1、バケツx2、ザルx1、各種紐など）\n\n\n【利用方法】\n①くにさき観光案内所にて道具の貸出手続き〈利用時間　9:00-16:00〉\n②ビーチコーミング（海辺で貝殻や流木、漂流物など素材を拾う）\n③レンタルサイクリング倉庫前のテーブルにて工作タイム\n（作業スペースは2名2組程度。営業時間内であれば時間の制限なし。）\n\n※講師はいません。自由に工作いただくための、道具貸出・場所の提供となります。\n\n\n【申込締切】\n予約不可\n\n\n【お問い合わせ】\n一般社団法人国東市観光協会\nTEL 0978-73-0962 (受付時間 9:00 ~ 17:00)
URL:https://www.imiru-kunisaki.fun/corner/2025-05-01-31/
LOCATION:くにさき観光案内所\, 小原2662-1 国東市サイクリングターミナル1階（道の駅くにさき内）\, 国東町\, 大分県\, 873-0511\, Japan
CATEGORIES:体験,国東町
ATTACH;FMTTYPE=image/jpeg:https://www.imiru-kunisaki.fun/wp-content/uploads/2025/05/hyouryuubutsucrafttaikenn-800X500.jpg
END:VEVENT
BEGIN:VEVENT
DTSTART;TZID=Asia/Tokyo:20250628T090000
DTEND;TZID=Asia/Tokyo:20250928T170000
DTSTAMP:20260422T112640
CREATED:20250608T132603Z
LAST-MODIFIED:20250608T151826Z
UID:1418-1751101200-1759078800@www.imiru-kunisaki.fun
SUMMARY:国東市歴史体験学習館企画展「戦後80年から振り返る 重光葵と国東 ―平和への道―」
DESCRIPTION:戦争と平和のはざまで生きた一人の外交官──重光葵をたどる \n令和7年、日本は太平洋戦争の終結から80年という節目を迎えます。終戦の際、戦艦ミズーリ号の上で日本の降伏文書に署名した外交官・重光葵（まもる）氏。その遺骨は、ここ国東市安岐町山口の地に静かに眠っています。 \n近くには、弟・蔵（おさむ）氏らの協力により、重光氏の遺品や写真を展示する山渓偉人館が開かれ、彼の足跡を今に伝えています。 \n戦争に心を痛めながらも、時代のうねりの中で歩んだ外交官としての道。降伏文書調印後にはA級戦犯としての逮捕という過酷な運命も経験しました。しかしその一方で、”向陽”という名で書や似顔絵を数多く残した、芸術家としてのもう一つの顔も持ち合わせていました。 \n本企画では、重光葵氏の波乱に満ちた生涯とともに、戦時下のくにさきの人々の暮らしにも光を当て、過去と向き合う時間を皆さまと共有できればと願っています。 \n詳しくはこちら＞＞＞ \n【開催日時】\n6月28日（土）〜9月28日（日） \n【場所】\n弥生のムラ　国東市歴史体験学習館 1階 企画展示室 \n【入館料】\n一般200円・小中学生100円　※団体割引あり \n【開館時間】\n9:00-17:00　※入館は16:30まで \n【休館日】\n毎週月曜日（祝日除く）、祝日の翌日 \n【お問い合わせ】\n国東市社会教育課　文化財課\nTEL 0978-72-2677
URL:https://www.imiru-kunisaki.fun/corner/2025-06-28-09-28/
LOCATION:弥生のムラ　国東市歴史体験学習館\, 国東市国東町安国寺1639番地2\, 国東市\, 大分県\, 873-0504\, Japan
CATEGORIES:国東町,教育・学習
ATTACH;FMTTYPE=image/jpeg:https://www.imiru-kunisaki.fun/wp-content/uploads/2025/06/senngo80nenn_eyecatch-800X500.jpg
END:VEVENT
BEGIN:VEVENT
DTSTART;TZID=Asia/Tokyo:20250801T082000
DTEND;TZID=Asia/Tokyo:20250801T212000
DTSTAMP:20260422T112640
CREATED:20250620T034855Z
LAST-MODIFIED:20250620T081226Z
UID:1464-1754036400-1754083200@www.imiru-kunisaki.fun
SUMMARY:月面X観察会【天球館】
DESCRIPTION:月の表面に、一瞬だけ浮かび上がる「X」の文字。それは“月面X”と呼ばれる、限られたタイミングでしか見られない神秘の現象です。 \nそんな貴重な瞬間を、望遠鏡を使ってじっくり観察してみませんか？星空の専門家によるわかりやすい解説もあり、初めての方でも安心して楽しめます。 \n宇宙の不思議にふれる特別なひととき。夜空を見上げながら、月の魅力を再発見しましょう🌌 \n【開催日時】\n8月1日（金）20:20~21:20 \n【定員】\nなし　※申込不要 \n【場所】\n梅園の里天文台 天球館（国東市安岐町富清2244） \n【料金】\n観察料：大人500円・高校生:300円・小中学生200円\n※梅園の里 宿泊者様、団体（10名以上）は、お一人様100円引き \n◆年間パスポート：大人1500円・高校生900円・小中学生600円 \n【お問い合わせ】\n梅園の里天文台 天球館\nTEL:0978-97-2655\n開館時間：平日（月・水・木・金） 18:00～22:00　　土日祝・学童春夏冬休み 13:00〜22:00\n休館日：火曜日（祝祭日の場合は翌平日）
URL:https://www.imiru-kunisaki.fun/corner/2025-08-01/
LOCATION:梅園の里天文台 天球館\, 富清2244\, 国東市安岐町\, 大分県\, 873-0355\, Japan
CATEGORIES:イベント,安岐町
ATTACH;FMTTYPE=image/jpeg:https://www.imiru-kunisaki.fun/wp-content/uploads/2025/06/getsumennx_eyecatch-800X500-1.jpg
END:VEVENT
BEGIN:VEVENT
DTSTART;TZID=Asia/Tokyo:20250803T090000
DTEND;TZID=Asia/Tokyo:20250915T170000
DTSTAMP:20260422T112640
CREATED:20250826T144050Z
LAST-MODIFIED:20250831T071730Z
UID:1760-1754211600-1757955600@www.imiru-kunisaki.fun
SUMMARY:江戸風鈴展【涛音寮】
DESCRIPTION:🎐✨暑い夏に、こころ和む涼やかな音色を✨🎐 \n東京都江戸川区で100年以上の歴史を持つ老舗「篠原風鈴本舗（大正4年創業）」を涛音寮（とういんりょう）にお迎えし、江戸風鈴の魅力をお届けします。江戸時代から受け継がれてきたガラスの風鈴は、透きとおる美しさと澄んだ音色で、そよ風に涼を運んでくれます。 \n☀️猛暑のひととき、心地よい音色に耳を澄ませながら、夏を楽しみにぜひお越しください。🛍️ 当日は江戸風鈴の販売もございます。お気に入りの音色を見つけてみませんか？ \n【開催日時】\n2025年8月3日（水）~9月15日（月）　※火曜定休日\n\n\n【お問い合わせ】\n涛音寮　茶房さんがいや\n国東市国見町伊美2017\nTEL：0978-82-1328　（営業時間：9：00～17：00）
URL:https://www.imiru-kunisaki.fun/corner/2025-8-3-9-15/
LOCATION:涛音寮　茶房さんがいや\, 伊美2017\, 国東市国見町\, 大分県\, Japan
CATEGORIES:イベント,国見町
ATTACH;FMTTYPE=image/jpeg:https://www.imiru-kunisaki.fun/wp-content/uploads/2025/08/edofuurinntenn_eyecatch-800X500.jpg
END:VEVENT
BEGIN:VEVENT
DTSTART;TZID=Asia/Tokyo:20250803T100000
DTEND;TZID=Asia/Tokyo:20250803T153000
DTSTAMP:20260422T112640
CREATED:20250711T061330Z
LAST-MODIFIED:20250714T045955Z
UID:1560-1754215200-1754235000@www.imiru-kunisaki.fun
SUMMARY:古代体験てんこもり！弥生アラカルト【草木染め／発掘体験】
DESCRIPTION:弥生時代の暮らしやものづくりを楽しみながら体験できる、毎年人気のイベント「弥生アラカルト」。今年も土器づくりをはじめ、いろいろな体験が楽しめます♪\n体験内容は日によって異なり、大人の方だけの参加も大歓迎です。\n古代の知恵や技にふれながら、家族や友達と一緒に楽しい時間を過ごしてみませんか？ \n🏺 体験メニュー（※日程ごとに異なります）\n①土器づくり\n②デカ勾玉づくり／特殊勾玉づくり\n③草木染め体験／発掘体験\n④アンギン織り\n⑤古代狩猟体験／とんぼ玉づくり \n各メニューの開催日はこちら＞＞＞\n \n※作業を伴いますので、動きやすく汚れても良い服装でお越しください。みなさまのご参加をお待ちしています！ \n③\n草木染め体験：天然素材で世界に一つだけの染 めもの（ハンカチ）を作ってみ よう♪\n発掘体験：弥生のムラで発掘体験！古代の 歴史をひも解いてみよう！\n \n【開催日時】\n8月3日（日）\n⚫午前の部　草木染め体験　開始10時00分～終了予定12時00分\n⚫午後の部　発掘体験　　　開始13時30分～終了予定15時30分 \n【場所】\n弥生のムラ　国東市歴史体験学習館 \n【参加料金】\n草木染め体験　200円\n発掘体験　　　100円 \n【対象年齢】\n小学生以上　※小学生は保護者同伴 \n【定員】※完全予約制（先着順）\n草木染め体験　20名\n発掘体験　　　10名\n \n【予約について】\n詳しくはこちら＞＞＞ \n【お申込み・お問い合わせ】\n弥生のムラ 国東市歴史体験学習館\nTEL：0978－72－2677\n（月曜日・祝日の翌日は休館）
URL:https://www.imiru-kunisaki.fun/corner/2025-08-03-1-2/
LOCATION:弥生のムラ　国東市歴史体験学習館\, 国東市国東町安国寺1639番地2\, 国東市\, 大分県\, 873-0504\, Japan
CATEGORIES:イベント,体験,国東町
ATTACH;FMTTYPE=image/jpeg:https://www.imiru-kunisaki.fun/wp-content/uploads/2025/07/yayoiarakaruto2025_eyecatch-800X500.jpg
END:VEVENT
BEGIN:VEVENT
DTSTART;TZID=Asia/Tokyo:20250803T133000
DTEND;TZID=Asia/Tokyo:20250803T150000
DTSTAMP:20260422T112640
CREATED:20250620T044452Z
LAST-MODIFIED:20250620T081642Z
UID:1469-1754227800-1754233200@www.imiru-kunisaki.fun
SUMMARY:コンパクトデジタルカメラ 分解教室【天球館】
DESCRIPTION:身近なデジタルカメラの中身、どうなっているか知っていますか？この教室では、使わなくなったコンパクトデジカメを実際に分解して、内部の仕組みを楽しく学びます。\nカメラの部品ってこんなにあるんだ！そんな発見がいっぱいの体験型ワークショップです。 \n電子機器に興味がある方はもちろん、工作やモノづくりが好きな方にもおすすめ！ \n【開催日時】\n8月3日（日）13:30~15:00 \n【場所】\n梅園の里天文台 天球館（国東市安岐町富清2244） \n【定員】\n8名　※事前予約制\nご予約は、開催の約1か月前にホームページでご案内し、ご案内日から先着順でお申し込みを受け付けます。 \n【料金】\n500円 \n【お問い合わせ】\n梅園の里天文台 天球館\nTEL:0978-97-2655\n開館時間：平日（月・水・木・金） 18:00～22:00　　土日祝・学童春夏冬休み 13:00〜22:00\n休館日：火曜日（祝祭日の場合は翌平日）
URL:https://www.imiru-kunisaki.fun/corner/2025-08-03-1/
LOCATION:梅園の里天文台 天球館\, 富清2244\, 国東市安岐町\, 大分県\, 873-0355\, Japan
CATEGORIES:イベント,安岐町,教室
ATTACH;FMTTYPE=image/jpeg:https://www.imiru-kunisaki.fun/wp-content/uploads/2025/06/conpactdejitarukamera_eyecatch-800X500-1.jpg
END:VEVENT
BEGIN:VEVENT
DTSTART;TZID=Asia/Tokyo:20250803T140000
DTEND;TZID=Asia/Tokyo:20250803T140000
DTSTAMP:20260422T112640
CREATED:20250608T125953Z
LAST-MODIFIED:20250608T144120Z
UID:1413-1754229600-1754229600@www.imiru-kunisaki.fun
SUMMARY:木村雄太凱旋コンサート♪
DESCRIPTION:ふるさとに響く、音楽の風──木村雄太さん 凱旋コンサート \n国東市出身のバリトン歌手・木村雄太さんが、音楽仲間たちと共にアストくにさきへ帰ってきます。現在、ヨーロッパで研鑽を積む彼らが、ふるさと国東に届けるのは、心に響く“音楽の風”。 \nさらに、国東市が誇る市民吹奏楽団「むさしウインドハーモニー」との夢の共演も実現します。 \n地元と世界がひとつになる、特別なひととき。皆さまお誘い合わせのうえ、ぜひアストくにさきでその感動を体感してください。 \n詳しくはこちら＞＞＞ \n【開催日時】\n8月3日（日）14：00開演（13：30開場） \n【会場】\nアストくにさき アストホール \n【費用】\n無料（※整理券が必要です）​ \n【チケット配布】\n令和7年6月3日（火曜日）より下記プレイガイドにて配布開始。\n涛音寮、道の駅くにみ、藤原酒店、福田書店、国広書店、道の駅くにさき（サイクリングターミナル内）、たかはし薬局、とくべ、デイリーストア安岐たかはし、ふるさと市場Ｒ213、吉松楽器店（杵築市）、みんなんかん、くにさき総合文化センター（アストくにさき）、武蔵中央公民館、安岐中央公民館\n \n主催：国東市・国東市教育委員会 \n【お問い合わせ】\n国東市社会教育課\nTEL 0978-72-2121
URL:https://www.imiru-kunisaki.fun/corner/2025-08-03/
LOCATION:アスト国東\, 鶴川160-2\, 国東町\, 大分県\, 873-0503\, Japan
CATEGORIES:イベント,国東町
ATTACH;FMTTYPE=image/jpeg:https://www.imiru-kunisaki.fun/wp-content/uploads/2025/06/kunirayutaconcert_eyecatch-800X500.jpg
END:VEVENT
BEGIN:VEVENT
DTSTART;TZID=Asia/Tokyo:20250808T210000
DTEND;TZID=Asia/Tokyo:20250808T220000
DTSTAMP:20260422T112640
CREATED:20250504T041435Z
LAST-MODIFIED:20250504T041435Z
UID:1246-1754686800-1754690400@www.imiru-kunisaki.fun
SUMMARY:お月さま撮影会【天球館】
DESCRIPTION:梅園の里天文台 天球館で毎月開かれる、お月さま撮影会。澄んだ夜空に輝く美しい月を、一緒にカメラに収めませんか？初心者の方も大歓迎。天文台の特別な設備を使って、いつもとは違う夜を楽しみましょう。定員は8名、当日先着順ですので、参加をご希望の方はお早めにお越しください。 \n【開催日時】\n8月8日（金）21:00~22:00 \n【場所】\n梅園の里天文台 天球館（国東市安岐町富清2244） \n【定員】\n8名　※当日先着順 \n【料金】\n観察料：大人500円・高校生:300円・小中学生200円\n※梅園の里 宿泊者様、団体（10名以上）は、お一人様100円引き \n◆年間パスポート：大人1500円・高校生900円・小中学生600円 \n【お問い合わせ】\n梅園の里天文台 天球館\nTEL:0978-97-2655\n開館時間：平日（月・水・木・金） 18:00～22:00　　土日祝・学童春夏冬休み 13:00〜22:00\n休館日：火曜日（祝祭日の場合は翌平日）
URL:https://www.imiru-kunisaki.fun/corner/2025-08-08/
LOCATION:梅園の里天文台 天球館\, 富清2244\, 国東市安岐町\, 大分県\, 873-0355\, Japan
CATEGORIES:イベント,安岐町
ATTACH;FMTTYPE=image/jpeg:https://www.imiru-kunisaki.fun/wp-content/uploads/2025/05/otsukisamasatsueikai_eyecatch-800X500-5.jpg
END:VEVENT
BEGIN:VEVENT
DTSTART;TZID=Asia/Tokyo:20250809T093000
DTEND;TZID=Asia/Tokyo:20250809T153000
DTSTAMP:20260422T112640
CREATED:20250711T062326Z
LAST-MODIFIED:20250714T045929Z
UID:1566-1754731800-1754753400@www.imiru-kunisaki.fun
SUMMARY:古代体験てんこもり！弥生アラカルト【アンギン織り】
DESCRIPTION:弥生時代の暮らしやものづくりを楽しみながら体験できる、毎年人気のイベント「弥生アラカルト」。今年も土器づくりをはじめ、いろいろな体験が楽しめます♪\n体験内容は日によって異なり、大人の方だけの参加も大歓迎です。\n古代の知恵や技にふれながら、家族や友達と一緒に楽しい時間を過ごしてみませんか？ \n🏺 体験メニュー（※日程ごとに異なります）\n①土器づくり\n②デカ勾玉づくり／特殊勾玉づくり\n③草木染め体験／発掘体験\n④アンギン織り\n⑤古代狩猟体験／とんぼ玉づくり \n各メニューの開催日はこちら＞＞＞\n \n※作業を伴いますので、動きやすく汚れても良い服装でお越しください。みなさまのご参加をお待ちしています！ \n④\nアンギン織り：弥生時代の布づくりに挑戦！ かわいいコースターを作ろう♪\n \n【開催日時】\n8月9日（日）\n⚫午前の部　　開始9時30分～終了予定12時00分\n⚫午後の部　　開始13時30分～終了予定15時30分 \n【場所】\n弥生のムラ　国東市歴史体験学習館 \n【参加料金】\n300円 \n【対象年齢】\n小学生以上　※小学生は保護者同伴 \n【定員】※完全予約制（先着順）\n10名\n \n【予約について】\n詳しくはこちら＞＞＞ \n【お申込み・お問い合わせ】\n弥生のムラ 国東市歴史体験学習館\nTEL：0978－72－2677\n（月曜日・祝日の翌日は休館）
URL:https://www.imiru-kunisaki.fun/corner/2025-08-09-1/
LOCATION:弥生のムラ　国東市歴史体験学習館\, 国東市国東町安国寺1639番地2\, 国東市\, 大分県\, 873-0504\, Japan
CATEGORIES:イベント,体験,国東町
ATTACH;FMTTYPE=image/jpeg:https://www.imiru-kunisaki.fun/wp-content/uploads/2025/07/yayoiarakaruto2025_eyecatch-800X500.jpg
END:VEVENT
BEGIN:VEVENT
DTSTART;TZID=Asia/Tokyo:20250809T100000
DTEND;TZID=Asia/Tokyo:20250809T150000
DTSTAMP:20260422T112640
CREATED:20250711T080749Z
LAST-MODIFIED:20250803T123111Z
UID:1595-1754733600-1754751600@www.imiru-kunisaki.fun
SUMMARY:文殊仙寺 キッズ修行体験
DESCRIPTION:🙏 文殊仙寺 キッズ修行体験 開催！ \n静かな山あいのお寺・文殊仙寺で、子どもたちのための一日修行体験を開催します。掃除・座禅・護摩などを通じて、自分と向き合いながら、礼儀作法や感謝の心を学ぶ特別な時間。日常を離れた静寂の空間で、心を整える貴重な体験ができます。 \n詳しくはこちら＞＞＞ \n【開催日時】\n8月9日（土）　10:00〜15:00\n \n【場所】\n文殊仙寺（国東市国東町大恩寺2432） \n【参加費】\n3\,500円(体験代、昼食費等)　※現地にて受付時に集金 \n【対象者】\n小学4年生〜中学3年生 \n【定員】\n30名限定　※要事前申し込み \n【当日のスケジュール】\n10：00　開式\n10：15　坐禅(約30分)\n11：15　掃除(約30分)\n12：00　食事・休憩\n13：15　護摩焚き・法話\n14：00　閉式\n※天候などにより前後する場合があります。 \n【持ち物・服装】\n活動しやすい服（ジーンズは不適）、歩きやすい靴（サンダルは不適）、タオル、帽子、ティッシュ、水筒（お茶・水）、軍手（掃除で落ち葉などを拾います）\n詳しくはこちら＞＞＞ \n【お申し込み・お問い合わせ】\n文殊仙寺\n国東市国東町大恩寺2432\nTEL:0978-74-0820（9:00-16:30）
URL:https://www.imiru-kunisaki.fun/corner/2025-08-09/
LOCATION:文殊仙寺\, 大恩寺2432番地\, 国東市国東町\, 大分県\, 873-0646\, Japan
CATEGORIES:イベント,体験,国東町
ATTACH;FMTTYPE=image/jpeg:https://www.imiru-kunisaki.fun/wp-content/uploads/2025/07/monjyusennjyukizsyugyoutaikenn_eyecatch-800X500.jpg
END:VEVENT
BEGIN:VEVENT
DTSTART;TZID=Asia/Tokyo:20250810T133000
DTEND;TZID=Asia/Tokyo:20250810T143000
DTSTAMP:20260422T112640
CREATED:20250620T082249Z
LAST-MODIFIED:20250701T133632Z
UID:1477-1754832600-1754836200@www.imiru-kunisaki.fun
SUMMARY:天体望遠鏡工作教室【天球館】
DESCRIPTION:自分だけの天体望遠鏡を作って、星空をのぞいてみよう！ \nこの教室では、レンズのしくみや望遠鏡の構造を学びながら、実際に天体望遠鏡を組み立てます。完成した望遠鏡は、もちろん持ち帰っておうちでも使えます！ \n工作が好きな方、星や宇宙に興味がある方にぴったりの体験型イベントです。作った望遠鏡で、月や星を見てみませんか？ \n【開催日時】\n8月10日（日）13:30~14:30 \n【場所】\n梅園の里天文台 天球館（国東市安岐町富清2244） \n【定員】\n16名　※事前予約制\nご予約は、開催の約1か月前にホームページでご案内し、ご案内日から先着順でお申し込みを受け付けます。 \n【料金】\n2\,500円 \n【お問い合わせ】\n梅園の里天文台 天球館\nTEL:0978-97-2655\n開館時間：平日（月・水・木・金） 18:00～22:00　　土日祝・学童春夏冬休み 13:00〜22:00\n休館日：火曜日（祝祭日の場合は翌平日）
URL:https://www.imiru-kunisaki.fun/corner/2025-08-10/
LOCATION:梅園の里天文台 天球館\, 富清2244\, 国東市安岐町\, 大分県\, 873-0355\, Japan
CATEGORIES:イベント,安岐町,教室
ATTACH;FMTTYPE=image/jpeg:https://www.imiru-kunisaki.fun/wp-content/uploads/2025/06/tenntaibouenkyou_eyecatch-800X500-1.jpg
END:VEVENT
BEGIN:VEVENT
DTSTART;TZID=Asia/Tokyo:20250811T093000
DTEND;TZID=Asia/Tokyo:20250811T153000
DTSTAMP:20260422T112640
CREATED:20250711T063246Z
LAST-MODIFIED:20250714T045903Z
UID:1574-1754904600-1754926200@www.imiru-kunisaki.fun
SUMMARY:古代体験てんこもり！弥生アラカルト【古代狩猟体験／とんぼ玉づくり】
DESCRIPTION:弥生時代の暮らしやものづくりを楽しみながら体験できる、毎年人気のイベント「弥生アラカルト」。今年も土器づくりをはじめ、いろいろな体験が楽しめます♪\n体験内容は日によって異なり、大人の方だけの参加も大歓迎です。\n古代の知恵や技にふれながら、家族や友達と一緒に楽しい時間を過ごしてみませんか？ \n🏺 体験メニュー（※日程ごとに異なります）\n①土器づくり\n②デカ勾玉づくり／特殊勾玉づくり\n③草木染め体験／発掘体験\n④アンギン織り\n⑤古代狩猟体験／とんぼ玉づくり \n各メニューの開催日はこちら＞＞＞\n \n※作業を伴いますので、動きやすく汚れても良い服装でお越しください。みなさまのご参加をお待ちしています！ \n⑤\n古代狩猟体験：黒曜石と羽で矢を作って 的を撃ってみよう！\nとんぼ玉づくり：弥生のムラ人気No.1 ガラスを使って、弥生の宝石を 作ってみよう♪\n \n【開催日時】\n8月11日（月・祝）\n⚫午前の部　古代狩猟体験　　開始10時00分～終了予定12時00分\n⚫午後の部　とんぼ玉づくり　開始13時30分～終了予定15時30分 \n【場所】\n弥生のムラ　国東市歴史体験学習館 \n【参加料金】\n古代狩猟体験　　200円\nとんぼ玉づくり　500円 \n【対象年齢】\n小学５年生以上　※小学生は保護者同伴 \n【定員】※完全予約制（先着順）\n各10名\n \n【予約について】\n詳しくはこちら＞＞＞ \n【お申込み・お問い合わせ】\n弥生のムラ 国東市歴史体験学習館\nTEL：0978－72－2677\n（月曜日・祝日の翌日は休館）
URL:https://www.imiru-kunisaki.fun/corner/2025-08-11-1/
LOCATION:弥生のムラ　国東市歴史体験学習館\, 国東市国東町安国寺1639番地2\, 国東市\, 大分県\, 873-0504\, Japan
CATEGORIES:イベント,体験,国東町
ATTACH;FMTTYPE=image/jpeg:https://www.imiru-kunisaki.fun/wp-content/uploads/2025/07/yayoiarakaruto2025_eyecatch-800X500.jpg
END:VEVENT
BEGIN:VEVENT
DTSTART;TZID=Asia/Tokyo:20250812T160000
DTEND;TZID=Asia/Tokyo:20250812T203000
DTSTAMP:20260422T112640
CREATED:20250801T155921Z
LAST-MODIFIED:20250801T170612Z
UID:1707-1755014400-1755030600@www.imiru-kunisaki.fun
SUMMARY:第20回 富来開運夕涼み夏まつり
DESCRIPTION:🎉 夏の「富」がやってくる！縁起の良い地名で知られる国東町富来（とみく）で、夏まつりが開催されます🌻 \n学生たちによる元気いっぱいのパフォーマンス🎤や、ダンス、カラオケなど、楽しいステージイベントが盛りだくさん！屋台やキッチンカー🍧🍟も並び、わくわくのマルシェも同時開催予定です🛍️ \n夏の一日を、にぎやかに楽しみにきませんか？皆さまのお越しをお待ちしています✨ \n詳しくはこちら＞＞＞ \n【開催日時】\n8月12日（火）　16:00〜20:30\n \n【会場】\n富来地区公民館　旧富来中学校（国東町富来） \n【お問い合わせ】\n観光・地域産業創造課\n国東市国東町鶴川149番地（本庁舎2階）商工観光企画係\nTEL：0978-72-5168\nFAX：0978-72-5182
URL:https://www.imiru-kunisaki.fun/corner/2025-08-12-2/
LOCATION:富来地区公民館\, 富来浦189番地\, 国東市国東町\, 大分県\, 873-0643
CATEGORIES:イベント,国東町
ATTACH;FMTTYPE=image/jpeg:https://www.imiru-kunisaki.fun/wp-content/uploads/2025/08/tomikukaiunnyuusuzuminatsumatsuri_eyecatch-800X500.jpg
END:VEVENT
BEGIN:VEVENT
DTSTART;TZID=Asia/Tokyo:20250812T200000
DTEND;TZID=Asia/Tokyo:20250812T220000
DTSTAMP:20260422T112640
CREATED:20250620T101032Z
LAST-MODIFIED:20250803T122926Z
UID:1484-1755028800-1755036000@www.imiru-kunisaki.fun
SUMMARY:ペルセウス座流星群観察会【天球館】
DESCRIPTION:🌠【ペルセウス座流星群 観察会】 \n夏の夜空に、願いを込めて——一年に一度の流星ショー、ペルセウス座流星群を一緒に観察しませんか？ \nこの時期、夜空を流れるたくさんの流れ星に出会えるチャンス！専門スタッフによる星空解説や、星座のお話もあり、天体初心者の方でも楽しめます。 \n夜風を感じながら、ゆったりと寝転んで空を見上げる特別なひととき。ぜひご家族やお友だちとご参加ください🌌 \n【開催日時】\n8月12日（火）20:00~22:00 \n【場所】\n梅園の里天文台 天球館（国東市安岐町富清2244） \n【定員】\nなし　※事前申込不要 \n【料金】\n観察料：大人500円・高校生:300円・小中学生200円\n※梅園の里 宿泊者様、団体（10名以上）は、お一人様100円引き \n◆年間パスポート：大人1500円・高校生900円・小中学生600円 \n【お問い合わせ】\n梅園の里天文台 天球館\nTEL:0978-97-2655\n開館時間：平日（月・水・木・金） 18:00～22:00　　土日祝・学童春夏冬休み 13:00〜22:00\n休館日：火曜日（祝祭日の場合は翌平日）
URL:https://www.imiru-kunisaki.fun/corner/2025-08-12/
LOCATION:梅園の里天文台 天球館\, 富清2244\, 国東市安岐町\, 大分県\, 873-0355\, Japan
CATEGORIES:イベント,安岐町
ATTACH;FMTTYPE=image/jpeg:https://www.imiru-kunisaki.fun/wp-content/uploads/2025/06/peruseusuryuuseigun_eyecatch-800X500.jpg
END:VEVENT
BEGIN:VEVENT
DTSTART;TZID=Asia/Tokyo:20250815T170000
DTEND;TZID=Asia/Tokyo:20250815T210000
DTSTAMP:20260422T112640
CREATED:20250711T075023Z
LAST-MODIFIED:20250714T053255Z
UID:1589-1755277200-1755291600@www.imiru-kunisaki.fun
SUMMARY:第52回 むさしの里の夕涼み 夏の夜まつり【大分合同新聞 むさし花火大会】
DESCRIPTION:🎆 第52回 むさしの里の夕涼み 夏の夜まつり 開催！ \n今年も「むさしの里の夕涼み 夏の夜まつり」が開催されます！キッチンカーや屋台が立ち並ぶ夜市に、豪華ステージイベント、そして迫力満点の花火大会と、夏の夜を楽しみつくせるイベントです！ \n🍧 17:00〜 夜市スタート！市内から人気のキッチンカーや屋台が大集合！グルメもお祭り気分も満喫できます♪ \n🎤 18:00〜 ステージイベント「国東サマーフェス2025」開催！むさしウインドハーモニー、国東のカワタさん、バルーンパフォーマー風助さん、杵築の倖田さんなど、多彩な出演者がステージを盛り上げます！ \n🎇 20:40〜 花火打ち上げ（予定）夜空を彩る華やかな花火で、夏の思い出を締めくくりましょう！ \n【開催日時】\n8月15日（金）　17:00〜夜市スタート・18:00〜ステージイベント開催・20:40〜花火打ち上げ予定\n※荒天の場合17日（日）に延期 \n【場所】\n武蔵港（国東市武蔵町）\n \n駐車場など詳しくはこちら＞＞＞ \n【お問い合わせ】\n大分合同新聞\n大分県大分市府内町３丁目９−１５\nTEL:097-536-2121
URL:https://www.imiru-kunisaki.fun/corner/2025-08-15/
LOCATION:武蔵港\, 古市\, 国東市武蔵町\, 大分県\, Japan
CATEGORIES:イベント,武蔵町
ATTACH;FMTTYPE=image/jpeg:https://www.imiru-kunisaki.fun/wp-content/uploads/2025/07/musashihanabitaikai2025_eyecatch-800X500.jpg
END:VEVENT
BEGIN:VEVENT
DTSTART;TZID=Asia/Tokyo:20250816T090000
DTEND;TZID=Asia/Tokyo:20250816T090000
DTSTAMP:20260422T112640
CREATED:20250803T122803Z
LAST-MODIFIED:20250803T134244Z
UID:1699-1755334800-1755334800@www.imiru-kunisaki.fun
SUMMARY:第34回  川遊びフェスティバル
DESCRIPTION:🌿 第34回 川遊びフェスティバル 〜夏の安岐川で思いっきり遊ぼう！〜国東市安岐町を流れる清流・安岐川の河川敷で、今年も「第34回 川遊びフェスティバル」が開催されます。 \n当日は、なんと4\,000匹もの鮎が安岐川に放流され、元気いっぱいに泳ぐ鮎を手づかみで捕まえる「鮎のつかみ捕り大会」が大人気！子どもから大人まで、川の楽しさを体感しながら夏の思い出をつくりませんか？ \nさらに、ゲーム大会やキッチンカーも登場。美味しい食べ物を楽しみながら、家族や友達と笑顔あふれる一日をお過ごしください。 \n自然いっぱいの安岐川で、今年の夏は思いっきりリフレッシュしましょう！ \n詳しくはこちら＞＞＞ \n【開催日時】\n8月16日(土) 　9:00受付開始 \n【場所】\n安岐川河川敷\n国東市安岐町瀬戸田JA安岐支所裏沈み橋横 \n【参加料金】\n・幼稚園以下 無料\n・小学生 200円\n・中学生以上 500円 \n【タイムテーブル】\n9:00    受付開始\n10:00  ゲーム大会\n11:30  鮎つかみ捕り大会(幼稚園以下)\n12:00  鮎つかみ捕り大会(小学生以上) \n📝 注意事項とお願い\n・参加は軍手または素手に限ります。 網などの道具の使用はご遠慮ください。・参加料は当日、会場受付にてお支払いください。・幼児および小学校低学年以下のお子さまは、保護者の方と一緒にご参加ください。\n皆さまに安全に楽しんでいただくため、ご理解とご協力をよろしくお願いいたします。 \n【主催・後援】\n主催：川遊びフェスティバル実行委員会\n後援：西安岐地区活性化協議会・国東市観光協会・国東市・西安岐お祭り保存会 \n【お問い合わせ】\n商工会安岐支所\nTEL:0978-67-0559
URL:https://www.imiru-kunisaki.fun/corner/2025-08-16/
LOCATION:安岐川河川敷\, 国東市安岐町\, 大分県\, Japan
CATEGORIES:イベント,安岐町
ATTACH;FMTTYPE=image/jpeg:https://www.imiru-kunisaki.fun/wp-content/uploads/2025/08/kawaasobifestival_eyecatch-800X500.jpg
END:VEVENT
BEGIN:VEVENT
DTSTART;TZID=Asia/Tokyo:20250817T133000
DTEND;TZID=Asia/Tokyo:20250817T150000
DTSTAMP:20260422T112640
CREATED:20250620T100135Z
LAST-MODIFIED:20250620T100135Z
UID:1481-1755437400-1755442800@www.imiru-kunisaki.fun
SUMMARY:蓄光星座タペストリー工作「夏の星座」【天球館】
DESCRIPTION:🌟【蓄光星座タペストリー工作『夏の星座』】 \n夜になると、星が光る！自分だけの「夏の星座」タペストリーを作ってみよう！ \nこの工作では、蓄光シートを使って夏の星座をデザインしたタペストリーを制作します。明るい場所で光をためて、暗いところでふんわり光る星座が浮かび上がります。 \n星や宇宙が好きな方、夏の思い出に残る作品を作りたい方にぴったりのワークショップです。 \n完成した作品はお部屋に飾って楽しめます✨ \n【開催日時】\n8月17日（日）13:30~15:00 \n【場所】\n梅園の里天文台 天球館（国東市安岐町富清2244） \n【定員】\n16名　※事前予約制\nご予約は、開催の約1か月前にホームページでご案内し、ご案内日から先着順でお申し込みを受け付けます。 \n【料金】\n500円 \n【お問い合わせ】\n梅園の里天文台 天球館\nTEL:0978-97-2655\n開館時間：平日（月・水・木・金） 18:00～22:00　　土日祝・学童春夏冬休み 13:00〜22:00\n休館日：火曜日（祝祭日の場合は翌平日）
URL:https://www.imiru-kunisaki.fun/corner/2025-08-17/
LOCATION:梅園の里天文台 天球館\, 富清2244\, 国東市安岐町\, 大分県\, 873-0355\, Japan
CATEGORIES:イベント,安岐町,教室
ATTACH;FMTTYPE=image/jpeg:https://www.imiru-kunisaki.fun/wp-content/uploads/2025/06/chikukouseiza_eyecatch-800X500.jpg
END:VEVENT
BEGIN:VEVENT
DTSTART;TZID=Asia/Tokyo:20250817T160000
DTEND;TZID=Asia/Tokyo:20250817T210000
DTSTAMP:20260422T112640
CREATED:20250730T112904Z
LAST-MODIFIED:20250807T153421Z
UID:1695-1755446400-1755464400@www.imiru-kunisaki.fun
SUMMARY:つるがわ夏祭り【きとわ】
DESCRIPTION:🎆 つるがわ夏祭り2025 開催！この夏、つるがわに楽しい夏祭りのひとときが訪れます！子ども縁日にステージイベント、お楽しみ抽選会や線香花火選手権、そしてみんなで踊る盆踊り👘まで、世代を問わず楽しめるプログラムが盛りだくさん♪ \nおいしい屋台グルメを片手に、夕暮れの空の下で、笑顔とふれあいが広がる時間を一緒に過ごしませんか？地域のつながりを感じる、あたたかな夏のイベントです。 \n詳しくはこちら＞＞＞ \n【開催日時】\n8月17日（日）16:00-21:00\n \n【場所】\n「きとわ」鶴川商店街周辺観光・交流拠点施設\n（国東市国東町鶴川1365番地1） \n【駐車場】\n※お祭り当日は「きとわ駐車場」はご利用いただけません。恐れ入りますが、下記の駐車場をご利用くださいますようお願いいたします。\n一般駐車場：アストくにさき駐車場・国東郵便局職員駐車場\n高齢者・身障者用駐車場：櫻八幡神社駐車場 \n【主催・お問い合わせ】\n主催：つるがわマッハ8・鶴川活性化協議会\nお問い合わせ：鶴川商店街周辺の観光・交流拠点施設「きとわ」\nTEL：0978-75-0583
URL:https://www.imiru-kunisaki.fun/corner/2025-08-17-1/
LOCATION:鶴川商店街周辺観光・交流拠点施設「きとわ」\, 鶴川１３６５番地１\, 国東市国東町\, 大分県\, 873-0503\, Japan
CATEGORIES:イベント,国東町
ATTACH;FMTTYPE=image/jpeg:https://www.imiru-kunisaki.fun/wp-content/uploads/2025/07/tsurugawanatsumatsuri_eyecatch-800X500.jpg
END:VEVENT
BEGIN:VEVENT
DTSTART;TZID=Asia/Tokyo:20250821T100000
DTEND;TZID=Asia/Tokyo:20250821T120000
DTSTAMP:20260422T112640
CREATED:20250715T015209Z
LAST-MODIFIED:20250715T020203Z
UID:1627-1755770400-1755777600@www.imiru-kunisaki.fun
SUMMARY:令和7年度 プレママ・プレパパ教室
DESCRIPTION:もうすぐ赤ちゃんを迎えるプレママ・プレパパの皆さん、助産師と一緒に「自分らしいお産」について考えてみませんか？ \n出産への不安を和らげるだけでなく、同じ気持ちを持つ仲間と出会える機会にもなりますよ。\nぜひ、お気軽にご参加ください！\n令和7年度プレママ・プレパパ教室 \n〈期間・開催日〉\n令和7年4月から令和8年3月\n※詳しい日程はこちらのサイトでご確認ください。令和7年度プレママ・プレパパ教室 \n〈対象者〉\n妊娠20週頃から出産までの妊婦さんとその夫・パートナー（ご家族の参加は要相談）\n※おひとりでの参加も大歓迎です！\n〈テーマ〉\n助産師と考える「アフターバースプラン」\n※事前申込必要 \n※このプレママ・プレパパ教室は、『妊婦のための支援給付金』の面談を兼ねています。\n詳しくは「出産・子育て応援交付金」（国東市ホームページ）をご確認ください。 \n\n【開催日時】\n8月21日（木）10:00~12:00 ※トイレ休憩あり \n【場所】\n武蔵保健福祉センター ボランティア室\n※都合により変更となる場合がございます \n【参加料金】\n無料 \n【持ち物】\n母子健康手帳、筆記用具、飲み物 \n【予約方法】\n電話もしくは、母子手帳アプリでのWeb予約\n※母子手帳アプリ『母子モ』→『地域の子育て情報』→『子育てイベント』 \n【その他】\n託児が必要な方は、ご相談ください。 \n【お申込み・お問い合わせ】\n国東市役所 子育て支援課 （国東市こども家庭センター）\n大分県国東市国東町鶴川149番地\nTEL 0978-72-5114\n平日8:30～17:00 （土日・祝祭日・年末年始を除く）
URL:https://www.imiru-kunisaki.fun/corner/2025-08-21/
LOCATION:武蔵保健福祉センター\, 古市１０８６−１\, 国東市武蔵町\, 大分県\, 873-0412\, Japan
CATEGORIES:イベント,子育て,教室,武蔵町
ATTACH;FMTTYPE=image/jpeg:https://www.imiru-kunisaki.fun/wp-content/uploads/2025/07/puremamapurepapakyoushitsu-800X500-4.jpg
END:VEVENT
BEGIN:VEVENT
DTSTART;TZID=Asia/Tokyo:20250822T103000
DTEND;TZID=Asia/Tokyo:20250822T113000
DTSTAMP:20260422T112640
CREATED:20250715T014852Z
LAST-MODIFIED:20250715T020132Z
UID:1625-1755858600-1755862200@www.imiru-kunisaki.fun
SUMMARY:離乳食教室
DESCRIPTION:「離乳食っていつから始めたらいいの？」「どんな風に進めていけばいいの？」そんなお悩みはありませんか？離乳食の基本や進め方についてわかりやすくお話しします♪ ちょっとしたコツを知るだけで、ママやパパの負担もぐっと軽くなりますよ！お気軽にご参加くださいね。 \n≪対象≫ おおむね生後3か月～1歳ごろまでのお子さんがいる、ご家族 \n≪内容≫ 離乳食の基本や進め方のお話に加えて、離乳食体験（大人の食事からの取り分けメニュー試食）\n※事前申込必要 \nR7年度にこにこ子育て広場・離乳食教室 \n【開催日時】\n8月22日（金）10:30~11:30 \n【場所】\n武蔵保健福祉センター（和室） \n【参加料金】\n無料 \n【持ち物】\n赤ちゃんのお出掛けセット ※赤ちゃんの体重測定をしたい方はバスタオルを持ってきてください。 \n【お申込み・お問い合わせ】\n国東市役所 子育て支援課（国東市こども家庭センター）\n大分県国東市国東町鶴川149番地\nTEL 0978-72-5114\n平日8:30～17:00 （土日・祝祭日・年末年始を除く）
URL:https://www.imiru-kunisaki.fun/corner/2025-08-22-1/
LOCATION:武蔵保健福祉センター\, 古市１０８６−１\, 国東市武蔵町\, 大分県\, 873-0412\, Japan
CATEGORIES:イベント,子育て,教室,武蔵町
ATTACH;FMTTYPE=image/jpeg:https://www.imiru-kunisaki.fun/wp-content/uploads/2025/07/rinyuushokukyoushitsu-8-800X500.jpg
END:VEVENT
BEGIN:VEVENT
DTSTART;TZID=Asia/Tokyo:20250822T180000
DTEND;TZID=Asia/Tokyo:20250822T180000
DTSTAMP:20260422T112640
CREATED:20250730T024544Z
LAST-MODIFIED:20250801T173030Z
UID:1680-1755885600-1755885600@www.imiru-kunisaki.fun
SUMMARY:川舟祭
DESCRIPTION:夏の海を彩る伝統行事「川舟祭」住吉社の夏祭「川舟祭」は、旧暦6月29日に最も近い満潮の日に行われる、海の安全と豊漁、そして商売繁盛を願う伝統のお祭りです。江戸時代から受け継がれてきたこの行事では、第1船から第7船までの船団が河口から順にさかのぼり、岸に上陸すると、毛槍を高く掲げた神幸行列が華やかに練り歩きます。海と人、そして神さまがつながる、夏のひとときを感じに、ぜひお越しください。 \n【開催日時】\n8月22日（金）　18時〜\n※雨天の場合は8月23日（土曜日）に延期\n \n【場所】\n国東市安岐町 安岐港から下原商店街周辺 \n詳しくはこちら＞＞＞ \n【お問い合わせ】\n国東市伝統文化活性化実行委員会\n事務局:国東市教育委員会 文化財課\n〒873-0504 大分県国東市国東町安国寺1639-2　国東市歴史体験学習館内\nTEL: 0978-72-2677\nFAX: 0978-72-2505
URL:https://www.imiru-kunisaki.fun/corner/2025-08-22-3/
LOCATION:国東市安岐町 安岐港から下原商店街周辺\, 国東市安岐町\, 大分県\, Japan
CATEGORIES:イベント,安岐町
ATTACH;FMTTYPE=image/jpeg:https://www.imiru-kunisaki.fun/wp-content/uploads/2025/07/kawafunematsuri_eyecatch-800X500.jpg
END:VEVENT
BEGIN:VEVENT
DTSTART;TZID=Asia/Tokyo:20250822T210000
DTEND;TZID=Asia/Tokyo:20250822T220000
DTSTAMP:20260422T112640
CREATED:20250618T052227Z
LAST-MODIFIED:20250618T052252Z
UID:1455-1755896400-1755900000@www.imiru-kunisaki.fun
SUMMARY:M27あれい星雲撮影会【天球館】
DESCRIPTION:夏の夜空に浮かぶ、不思議な形の星雲「M27（あれい星雲／ダンベル星雲）」を一緒に撮影してみませんか？初心者の方も大歓迎！望遠鏡や撮影機材はこちらでご用意します。星空の美しさに触れながら、特別な一枚を撮影しましょう。 \n【開催日時】\n8月22日（金）21:00~22:00 \n【場所】\n梅園の里天文台 天球館（国東市安岐町富清2244） \n【定員】\n8名　※当日先着順 \n【料金】\n観察料：大人500円・高校生:300円・小中学生200円\n※梅園の里 宿泊者様、団体（10名以上）は、お一人様100円引き \n◆年間パスポート：大人1500円・高校生900円・小中学生600円 \n【お問い合わせ】\n梅園の里天文台 天球館\nTEL:0978-97-2655\n開館時間：平日（月・水・木・金） 18:00～22:00　　土日祝・学童春夏冬休み 13:00〜22:00\n休館日：火曜日（祝祭日の場合は翌平日）
URL:https://www.imiru-kunisaki.fun/corner/2025-08-22/
LOCATION:梅園の里天文台 天球館\, 富清2244\, 国東市安岐町\, 大分県\, 873-0355\, Japan
CATEGORIES:イベント,安岐町
ATTACH;FMTTYPE=image/jpeg:https://www.imiru-kunisaki.fun/wp-content/uploads/2025/06/m27_eyecatch-800X500.jpg
END:VEVENT
BEGIN:VEVENT
DTSTART;TZID=Asia/Tokyo:20250823T150000
DTEND;TZID=Asia/Tokyo:20250823T204500
DTSTAMP:20260422T112640
CREATED:20250730T110007Z
LAST-MODIFIED:20250803T122123Z
UID:1689-1755961200-1755981900@www.imiru-kunisaki.fun
SUMMARY:第38回 大権現祭（スカイランタンと花火  光の共演）
DESCRIPTION:🎆 第38回 大権現祭 開催！ 🎇屋台グルメに✨宝探し✨、ドキドキのマリンスポーツ体験🏄‍♂️など、楽しいイベントが盛りだくさん！ \nクライマックスには、大輪の花火🎆とふんわり舞うスカイランタン🎈が国東の夜空を美しく彩ります。 \n夏の思い出づくりに、ぜひ遊びに来てください🌙🌻 \n詳しくはこちら＞＞＞ \n【開催日時】\n8月23日（土）\n■昼の部（くにみ海浜公園）\n15:00〜（14:30より受付開始）ビーチde宝探し（小学生以下 先着100名／参加料200円）\n13:00〜16:00（最終受付15:00まで）マリンスポーツの無料体験\n17:00〜19:00　消防車・救急車の展示・VR体験（無料）\n■夜の部（特設ステージ）\n17:00〜ダンス（竹田津保育所・熊毛保育所）\n17:20〜こどもダンス（ATミュージカル＆カンパニー）\n17:50〜早飲み大会（当日受付16:00〜）小学生以下の部・中学生以下の部（各20分間）※各部優勝者に商品券3\,000円\n18:50〜歌謡ショー（あけみ・神島雄斗）\n19:50〜お楽しみ抽選会\n20:25〜スカイランタン点灯式\n20:30〜花火打上\n（19:00〜スカイランタン受け渡し開始／限定150基、１基500円　※お申込み方法はこちら＞＞＞） \n※雨天の場合、花火・ランタン・出店のみ8月24日（日曜日）に延期\n（16:00〜出店開始　18:30〜ランタン受け渡し開始　19:55〜ランタン一斉リリース　花火打上20:00〜20:45 ） \n【場所】\nくにみ海浜公園（国東市国見町伊美）\n \n【駐車場のご案内】\n・イベント会場（くにみ海浜公園）横\n・B＆G海洋センター駐車場\n・B＆G海洋センター多目的グラウンド \n※当日は大変混雑が予想されますので、交通整理員の指示に従ってください。 \n【お問い合わせ】\n国東市商工会国見支所\nTEL:0978-82-0147
URL:https://www.imiru-kunisaki.fun/corner/2025-08-23-2/
LOCATION:くにみ海浜公園\, 伊美３８６４\, 国東市国見町\, 大分県\, 872-1401\, Japan
CATEGORIES:イベント,国見町
ATTACH;FMTTYPE=image/jpeg:https://www.imiru-kunisaki.fun/wp-content/uploads/2025/07/daigongenmatsuri_eyecatch-800X500.jpg
END:VEVENT
BEGIN:VEVENT
DTSTART;TZID=Asia/Tokyo:20250823T210000
DTEND;TZID=Asia/Tokyo:20250823T213000
DTSTAMP:20260422T112640
CREATED:20250504T044921Z
LAST-MODIFIED:20250504T044921Z
UID:1264-1755982800-1755984600@www.imiru-kunisaki.fun
SUMMARY:夏の星座 実践教室【天球館】
DESCRIPTION:梅園の里天文台 天球館で夏の星座 実践教室が開催されます。\n夏の夜空を彩る美しい星々を一緒に観察し、星座の形や名前を学んでみませんか？\n夏の夜空に輝く星座を実際に観察しながら、星座の知識を深めます。星座の名前や特徴を知ることで、夜空が一層魅力的に感じられることでしょう。初めての方でも安心して参加できる内容ですので、この機会にぜひ星座観察の楽しさを体験してみてください。 \n【開催日時】\n8月23日（土）21:00~21:30 \n【場所】\n梅園の里天文台 天球館（国東市安岐町富清2244） \n【定員】\nなし　※応募不要 \n【料金】\n観覧料：大人500円・高校生:300円・小中学生200円\n※梅園の里 宿泊者様、団体（10名以上）は、お一人様100円引き \n◆年間パスポート：大人1500円・高校生900円・小中学生600円 \n【お問い合わせ】\n梅園の里天文台 天球館\nTEL:0978-97-2655\n開館時間：平日（月・水・木・金） 18:00～22:00　　土日祝・学童春夏冬休み 13:00〜22:00\n休館日：火曜日（祝祭日の場合は翌平日）
URL:https://www.imiru-kunisaki.fun/corner/2025-08-25/
LOCATION:梅園の里天文台 天球館\, 富清2244\, 国東市安岐町\, 大分県\, 873-0355\, Japan
CATEGORIES:イベント,安岐町
ATTACH;FMTTYPE=image/jpeg:https://www.imiru-kunisaki.fun/wp-content/uploads/2025/05/natsunosaiza_eyecatch-800X500-2.jpg
END:VEVENT
BEGIN:VEVENT
DTSTART;TZID=Asia/Tokyo:20250829T183000
DTEND;TZID=Asia/Tokyo:20250829T210000
DTSTAMP:20260422T112640
CREATED:20250730T031953Z
LAST-MODIFIED:20250803T162115Z
UID:1684-1756492200-1756501200@www.imiru-kunisaki.fun
SUMMARY:国東で働く若者交流会2025
DESCRIPTION:＼市内で働く若者たちの交流会、開催します！／おいしい料理とお酒を楽しみながら、さまざまな職種の仲間たちとつながるチャンス！「職場の垣根を越えて交流の輪を広げよう」をテーマに、気軽にご参加いただける交流会を開催します。 \n普段なかなか出会えない人と話してみたい、新しい刺激がほしい…そんなあなたにぴったりの場です。みなさんのご参加を心よりお待ちしています！ \n※本交流会は飲食を伴うため、参加費をいただきます。※市内の方には送迎もご用意しています。ご希望の方は、お申込み申請フォーム内の送迎希望欄にチェックをお忘れなく。 \n【開催日時】\n8月29日（金）18:30-21:00\n \n【場所】\n「きとわ」鶴川商店街周辺観光・交流拠点施設\n国東市国東町鶴川1365番地1 \n【参加資格】\n国東市在住または国東市内の事業所等（自営業含む）で働く20代から30代までの独身の方 \n【参加費】\n2\,000円／人　（食事・酒類等の飲食を含む） \n【イベント内企画】\n・副市長の講演会\n・市内飲食店の食事券が当たる抽選会 \n【市内送迎】\n送迎希望の方は、下記申請フォーム内の送迎希望欄にチェックをお願いします。\n■行き\n【北】17時30分 国見総合支所 発 ー 17時45分 道の駅くにみ 発 ー 18時05分 富来ローソン 発 ー18時20分 きとわ 着\n【南】17時30分 大分空港 発 ー 17時45分 安岐総合支所 発 ー 18時05分 武蔵総合支所 発 ー 18時20分 きとわ 着\n■帰り\n21時15分 きとわ 発 \n【お申込み】\nお申込み申請フォームはこちら＞＞＞ \n【申込締切】\n8月20日（水） \n【主催・お問い合わせ】\n国東市役所まちづくり推進課\nTEL： 0978-72-5186\n平日 8:30-17:00
URL:https://www.imiru-kunisaki.fun/corner/2025-8-29-1/
LOCATION:鶴川商店街周辺観光・交流拠点施設「きとわ」\, 鶴川１３６５番地１\, 国東市国東町\, 大分県\, 873-0503\, Japan
CATEGORIES:イベント,国東町
ATTACH;FMTTYPE=image/jpeg:https://www.imiru-kunisaki.fun/wp-content/uploads/2025/07/kunisakidehatarakuwakamonokouryuukai_eyecatch-800X500.jpg
END:VEVENT
BEGIN:VEVENT
DTSTART;TZID=Asia/Tokyo:20250831T133000
DTEND;TZID=Asia/Tokyo:20250831T133000
DTSTAMP:20260422T112640
CREATED:20250714T033918Z
LAST-MODIFIED:20250715T115553Z
UID:1607-1756647000-1756647000@www.imiru-kunisaki.fun
SUMMARY:『海上自衛隊 佐世保音楽隊サマーコンサート』
DESCRIPTION:🎵 大人気！自衛隊音楽隊コンサート開催決定～海上自衛隊 佐世保音楽隊が3年ぶりに国東へ！～ \n自衛隊音楽隊による迫力の演奏を間近で体感できる人気コンサートを開催します！今回は、海上自衛隊佐世保音楽隊が、なんと3年ぶりに国東での演奏を披露してくださいます。力強くも繊細なサウンドで、聴く人の心を打つ佐世保音楽隊のステージを、ぜひアストくにさきでご鑑賞ください。 \n\n🎺 海上自衛隊 佐世保音楽隊 プロフィール \n佐世保音楽隊は、1955年（昭和30年）に佐世保補充部内の組織として誕生し、1976年（昭和51年）に佐世保地方総監直轄の音楽演奏専門部隊として正式に編成されました。 \n担当エリアは山口県から九州全域、そして沖縄県におよび、「士気高揚のための演奏」「儀式での演奏」「広報のための演奏」を三本柱に、日々の活動を行っています。 \n「皆様に愛され親しまれる音楽隊」をモットーに、地域のイベントや学校訪問、公演活動などを通じて、幅広い世代に音楽の楽しさと感動を届けています。 \nまた、遠洋練習航海では国際親善の一環として音楽隊員が派遣され、海外でも日本の音楽文化を紹介しています。吹奏楽界への貢献も大きく、伊藤康英氏作曲の『吹奏楽のための交響詩《ぐるりよざ》』など、委嘱作品の演奏でも高い評価を得ています。 \n【開催日時】\n8月31日（日）14：00開演（13：30開場） \n【会場】\nアストくにさき アストホール \n【費用】\n無料（入場整理券が必要です）※全席自由席です。 \n【整理券配布先】\n8月18日（月曜日）より下記プレイガイドにて整理券の配布を開始します。\n※整理券はお一人2枚までです。 \n涛音寮、道の駅くにみ、藤原酒店、福田書店、国広書店、国東市観光協会、たかはし薬局、デイリーストア安岐たかはし、ふるさと市場R213、とくべ、吉松楽器店、みんなんかん 、くにさき総合文化センター（アストくにさき）、武蔵中央公民館、安岐中央公民館​ \n主催：国東市・国東市教育委員会　後援：自衛隊大分地方協力本部 \n【お問い合わせ】\n国東市社会教育課\nTEL 0978-72-2121
URL:https://www.imiru-kunisaki.fun/corner/2025-08-31/
LOCATION:アスト国東\, 鶴川160-2\, 国東町\, 大分県\, 873-0503\, Japan
CATEGORIES:イベント,国東町
ATTACH;FMTTYPE=image/jpeg:https://www.imiru-kunisaki.fun/wp-content/uploads/2025/07/kaijyoujieitaisaseboconcert_eyecatch-800X500.jpg
END:VEVENT
END:VCALENDAR