BEGIN:VCALENDAR
VERSION:2.0
PRODID:-//いみ～る国東 - ECPv6.15.20//NONSGML v1.0//EN
CALSCALE:GREGORIAN
METHOD:PUBLISH
X-WR-CALNAME:いみ～る国東
X-ORIGINAL-URL:https://www.imiru-kunisaki.fun
X-WR-CALDESC:いみ～る国東 のイベント
REFRESH-INTERVAL;VALUE=DURATION:PT1H
X-Robots-Tag:noindex
X-PUBLISHED-TTL:PT1H
BEGIN:VTIMEZONE
TZID:Asia/Tokyo
BEGIN:STANDARD
TZOFFSETFROM:+0900
TZOFFSETTO:+0900
TZNAME:JST
DTSTART:20240101T000000
END:STANDARD
END:VTIMEZONE
BEGIN:VEVENT
DTSTART;TZID=Asia/Tokyo:20250317T150000
DTEND;TZID=Asia/Tokyo:20250317T170000
DTSTAMP:20260422T213057
CREATED:20250314T022948Z
LAST-MODIFIED:20250515T134236Z
UID:783-1742223600-1742230800@www.imiru-kunisaki.fun
SUMMARY:国東高校　制服バンク譲渡会
DESCRIPTION:国東高校卒業生の制服・体操服の譲渡会がアスト国東で開催されます。\n数には限りがありますが、これまで大切に使われてきた品々が必要な方に届くことを願っていますので、ぜひお気軽にお立ち寄りください。 \n【開催日時】\n2025年3月17日（月）15:00〜17:00 \n【場所】\nアスト国東（小・中会議室） \n【譲渡内容】\n・国東高校　制服、体操服（緑・赤・青）\n※お一人様、各種１着\n※集まった制服に限りがあります。（先着順）\n※転売防止のため、身分証明書の確認をさせていただきます。 \n【お問い合わせ】\n国東市社会福祉協議会　総務福祉課\nTEL 0978-68-1976
URL:https://www.imiru-kunisaki.fun/corner/2025-03-17/
LOCATION:アスト国東\, 鶴川160-2\, 国東町\, 大分県\, 873-0503\, Japan
CATEGORIES:国東町
ATTACH;FMTTYPE=image/jpeg:https://www.imiru-kunisaki.fun/wp-content/uploads/2025/03/jyoutokai_eyecatch-800x500-1.jpg
END:VEVENT
END:VCALENDAR