BEGIN:VCALENDAR
VERSION:2.0
PRODID:-//いみ～る国東 - ECPv6.15.20//NONSGML v1.0//EN
CALSCALE:GREGORIAN
METHOD:PUBLISH
X-WR-CALNAME:いみ～る国東
X-ORIGINAL-URL:https://www.imiru-kunisaki.fun
X-WR-CALDESC:いみ～る国東 のイベント
REFRESH-INTERVAL;VALUE=DURATION:PT1H
X-Robots-Tag:noindex
X-PUBLISHED-TTL:PT1H
BEGIN:VTIMEZONE
TZID:Asia/Tokyo
BEGIN:STANDARD
TZOFFSETFROM:+0900
TZOFFSETTO:+0900
TZNAME:JST
DTSTART:20240101T000000
END:STANDARD
END:VTIMEZONE
BEGIN:VEVENT
DTSTART;TZID=Asia/Tokyo:20250420T130000
DTEND;TZID=Asia/Tokyo:20250420T130000
DTSTAMP:20260422T195026
CREATED:20250418T145637Z
LAST-MODIFIED:20250418T150525Z
UID:1185-1745154000-1745154000@www.imiru-kunisaki.fun
SUMMARY:おせったい【KITOWA“きとわ”】
DESCRIPTION:＼ 心ほどける、春のおもてなし ／国東半島に受け継がれる、あたたかな風習「おせったい」。家々に祀られた「お弘法さま」を囲み、地域の人々や訪れた人たちが笑顔で集う、特別な一日です。お参りをすると、地元の方々が用意したお菓子や軽食がふるまわれる――そんな心づくしのもてなしに、気づけばほっこり。 \n“きとわ”でも、この伝統行事をみなさんと一緒に楽しむ機会をつくりました。今日はちょっとした“旅気分”。森の中、海辺、知らなかった道の先にある「お接待処」を巡る楽しさも魅力のひとつ。一年に一度、農道に渋滞が起こるほどの賑わいに、自然と笑顔がこぼれます。 \nそんな“地域のやさしさ”を感じに、ぜひお越しください。“きとわ”で、お待ちしています。 \n詳しくはこちら＞＞＞ \n【開催日時】\n4月20日（日）13:00より（なくなり次第終了）\n \n【場所】\n旧古城医院 玄関スペース\n鶴川商店街周辺の観光・交流拠点施設「きとわ」 \n【お問い合わせ】\n鶴川商店街周辺の観光・交流拠点施設「きとわ」\nTEL：0978-75-0583\nメールアドレス：tsuru-y@jcom.zaq.n
URL:https://www.imiru-kunisaki.fun/corner/2025-4-20_3/
LOCATION:鶴川商店街周辺観光・交流拠点施設「きとわ」\, 鶴川１３６５番地１\, 国東市国東町\, 大分県\, 873-0503\, Japan
CATEGORIES:イベント,国東町
END:VEVENT
BEGIN:VEVENT
DTSTART;TZID=Asia/Tokyo:20250420T210000
DTEND;TZID=Asia/Tokyo:20250420T220000
DTSTAMP:20260422T195026
CREATED:20250325T173329Z
LAST-MODIFIED:20250406T012222Z
UID:882-1745182800-1745186400@www.imiru-kunisaki.fun
SUMMARY:M67 散開星団撮影会【天球館】
DESCRIPTION:梅園の里天文台天球館で、M67散開星団を撮影する特別なひとときをご一緒しませんか？静かな夜空に広がる星々をカメラに収めながら、宇宙の神秘に触れる時間をお楽しみください。定員8名、当日先着順ですので、ご希望の方はお早めにお越しください。 \n【開催日時】\n4月20日（日）21:00~22:00 \n【場所】\n梅園の里天文台 天球館（国東市安岐町富清2244） \n【定員】\n8名　※当日先着順 \n【料金】\n観察料：大人500円・高校生:300円・小中学生200円\n※梅園の里 宿泊者様、団体（10名以上）は、お一人様100円引き \n◆年間パスポート：大人1500円・高校生900円・小中学生600円 \n【お問い合わせ】\n梅園の里天文台 天球館\nTEL:0978-97-2655\n開館時間：平日（月・水・木・金） 18:00～22:00　　土日祝・学童春夏冬休み 13:00〜22:00\n休館日：火曜日（祝祭日の場合は翌平日）
URL:https://www.imiru-kunisaki.fun/corner/2025-04-20/
LOCATION:梅園の里天文台 天球館\, 富清2244\, 国東市安岐町\, 大分県\, 873-0355\, Japan
CATEGORIES:イベント,安岐町
ATTACH;FMTTYPE=image/jpeg:https://www.imiru-kunisaki.fun/wp-content/uploads/2025/03/m67_eyecatch-800X500-1.jpg
END:VEVENT
END:VCALENDAR