BEGIN:VCALENDAR
VERSION:2.0
PRODID:-//いみ～る国東 - ECPv6.15.20//NONSGML v1.0//EN
CALSCALE:GREGORIAN
METHOD:PUBLISH
X-WR-CALNAME:いみ～る国東
X-ORIGINAL-URL:https://www.imiru-kunisaki.fun
X-WR-CALDESC:いみ～る国東 のイベント
REFRESH-INTERVAL;VALUE=DURATION:PT1H
X-Robots-Tag:noindex
X-PUBLISHED-TTL:PT1H
BEGIN:VTIMEZONE
TZID:Asia/Tokyo
BEGIN:STANDARD
TZOFFSETFROM:+0900
TZOFFSETTO:+0900
TZNAME:JST
DTSTART:20240101T000000
END:STANDARD
END:VTIMEZONE
BEGIN:VEVENT
DTSTART;TZID=Asia/Tokyo:20250429T083000
DTEND;TZID=Asia/Tokyo:20250531T170000
DTSTAMP:20260422T180420
CREATED:20250519T033554Z
LAST-MODIFIED:20250519T044154Z
UID:1353-1745915400-1748710800@www.imiru-kunisaki.fun
SUMMARY:くにさき 春のサイクリングキャンペーン
DESCRIPTION:自然に包まれた国東市には、南北に約13キロ続く美しい海岸線のサイクリングロードがあります🌿🚴‍♀️心地よい潮風にふかれながら、きらめく海を眺めてゆっくり走るひととき🌊🍃国東の自然とひとつになる、爽やかなサイクリングを楽しんでみませんか？☀️✨ \n【開催期間】\n4月29日（火）〜5月31日（土） \n【内容】\n1.期間中、国東市サイクリングターミナルにてレンタサイクルをご利用のお客様全員にさ吉くんミニタオルをプレゼント！\n2.レンタサイクルご利用時にキャンペーン応募用紙をお渡しします。応募用紙を提出した方の中から抽選で30名様に国東市の特産品をお贈りします！\n※抽選結果は賞品の発送をもって代えさせていただきます。 \n【場所】\n国東市サイクリングターミナル（道の駅くにさき内）\n営業時間8:30-17:00  TEL:0978-72-5173 \n【レンタサイクルについて】\n国東市サイクリングターミナルでは、ロードバイクやクロスバイクはもちろん、電動アシスト自転車やお子さま用など、約80台の多彩な自転車をご用意しています。土日・祝日を含め、キャンペーン開催期間中は毎日元気に営業中！この機会に、ぜひご家族やお友だちと一緒にサイクリングをお楽しみください。皆さまのご利用を心よりお待ちしています！\nレンタサイクルの詳細はこちら＞＞＞ \n【お問い合わせ】\n国東市観光・地域産業創造課　商工観光企画係\nTEL：0978-72-5168
URL:https://www.imiru-kunisaki.fun/corner/2025-04-29-05-31/
LOCATION:国東市サイクリングターミナル\, 小原2662番地1\, 国東市国東町\, 大分県\, 873-0511
CATEGORIES:イベント,国東町
ATTACH;FMTTYPE=image/jpeg:https://www.imiru-kunisaki.fun/wp-content/uploads/2025/05/kunisakiharunosaikurinngu「キャンペーン」は英語で-campaign_eyecatch-800X500.jpg
END:VEVENT
BEGIN:VEVENT
DTSTART;TZID=Asia/Tokyo:20250429T133000
DTEND;TZID=Asia/Tokyo:20250429T143000
DTSTAMP:20260422T180420
CREATED:20250326T135320Z
LAST-MODIFIED:20250407T033223Z
UID:916-1745933400-1745937000@www.imiru-kunisaki.fun
SUMMARY:レジンで作る星ブローチ【天球館】
DESCRIPTION:梅園の里天文台 天球館で「星ブローチ作り」のワークショップが開催されます。レジンを使って、星空の美しさを閉じ込めたオリジナルのブローチを作ります。輝く星々を自分の手で形にし、唯一無二のアクセサリーを完成させる楽しさを体験しませんか？星のようにきらめく、あなただけのアクセサリーを作りましょう！ワークショップは事前予約制・先着順ですので、お申し込みはお早めに！ \n\n【開催日時】\n4月29日（火）13:30~14:30 \n【場所】\n梅園の里天文台 天球館（国東市安岐町富清2244） \n【定員】\n16名　※事前予約制\nご予約は、開催の約1か月前にホームページでご案内し、ご案内日から先着順でお申し込みを受け付けます。 \n【料金】\n800円 \n【お問い合わせ】\n梅園の里天文台 天球館\nTEL:0978-97-2655\n開館時間：平日（月・水・木・金） 18:00～22:00　　土日祝・学童春夏冬休み 13:00〜22:00\n休館日：火曜日（祝祭日の場合は翌平日）
URL:https://www.imiru-kunisaki.fun/corner/2025-04-29/
LOCATION:梅園の里天文台 天球館\, 富清2244\, 国東市安岐町\, 大分県\, 873-0355\, Japan
CATEGORIES:イベント,安岐町
ATTACH;FMTTYPE=image/jpeg:https://www.imiru-kunisaki.fun/wp-content/uploads/2025/03/rejinndetsukuruhoshiburouchi_eyecatch-800X500-2.jpg
END:VEVENT
END:VCALENDAR