BEGIN:VCALENDAR
VERSION:2.0
PRODID:-//いみ～る国東 - ECPv6.15.20//NONSGML v1.0//EN
CALSCALE:GREGORIAN
METHOD:PUBLISH
X-ORIGINAL-URL:https://www.imiru-kunisaki.fun
X-WR-CALDESC:いみ～る国東 のイベント
REFRESH-INTERVAL;VALUE=DURATION:PT1H
X-Robots-Tag:noindex
X-PUBLISHED-TTL:PT1H
BEGIN:VTIMEZONE
TZID:Asia/Tokyo
BEGIN:STANDARD
TZOFFSETFROM:+0900
TZOFFSETTO:+0900
TZNAME:JST
DTSTART:20240101T000000
END:STANDARD
END:VTIMEZONE
BEGIN:VEVENT
DTSTART;TZID=Asia/Tokyo:20250501T090000
DTEND;TZID=Asia/Tokyo:20250831T090000
DTSTAMP:20260422T125909
CREATED:20250504T023622Z
LAST-MODIFIED:20250618T052527Z
UID:1206-1746090000-1756630800@www.imiru-kunisaki.fun
SUMMARY:海辺で見つけるタカラモノ【漂流物Craft体験】
DESCRIPTION:海からの贈りもので、世界にひとつのクラフト体験を。 \n道の駅くにさきの目の前に広がる、穏やかな海辺。そこに流れ着いた貝がらや流木は、まるで海のタカラモノ。手に取って、感じて、形にして。あなただけの“海の記憶”を、作品にしてみませんか？ \n詳しくはこちら＞＞＞ \n【開催日時】\n2025年4月〜　9:00-16:00 　※雨天利用不可\n年末年始以外毎日営業。\n但し、レンタサイクル繁忙期はお断りさせていただく場合がありますので、事前にお問合せください。\n\n※終了期間未定\n\n\n\n【場所】\nくにさき観光案内所（道の駅くにさき　サイクリングターミナル内）\n\n\n\n【参加料金】\n500円　　（1セット内容：クルーガンx2、ピンセットx1、バケツx2、ザルx1、各種紐など）\n\n\n【利用方法】\n①くにさき観光案内所にて道具の貸出手続き〈利用時間　9:00-16:00〉\n②ビーチコーミング（海辺で貝殻や流木、漂流物など素材を拾う）\n③レンタルサイクリング倉庫前のテーブルにて工作タイム\n（作業スペースは2名2組程度。営業時間内であれば時間の制限なし。）\n\n※講師はいません。自由に工作いただくための、道具貸出・場所の提供となります。\n\n\n【申込締切】\n予約不可\n\n\n【お問い合わせ】\n一般社団法人国東市観光協会\nTEL 0978-73-0962 (受付時間 9:00 ~ 17:00)
URL:https://www.imiru-kunisaki.fun/corner/2025-05-01-31/
LOCATION:くにさき観光案内所\, 小原2662-1 国東市サイクリングターミナル1階（道の駅くにさき内）\, 国東町\, 大分県\, 873-0511\, Japan
CATEGORIES:体験,国東町
ATTACH;FMTTYPE=image/jpeg:https://www.imiru-kunisaki.fun/wp-content/uploads/2025/05/hyouryuubutsucrafttaikenn-800X500.jpg
END:VEVENT
BEGIN:VEVENT
DTSTART;TZID=Asia/Tokyo:20250628T090000
DTEND;TZID=Asia/Tokyo:20250928T170000
DTSTAMP:20260422T125909
CREATED:20250608T132603Z
LAST-MODIFIED:20250608T151826Z
UID:1418-1751101200-1759078800@www.imiru-kunisaki.fun
SUMMARY:国東市歴史体験学習館企画展「戦後80年から振り返る 重光葵と国東 ―平和への道―」
DESCRIPTION:戦争と平和のはざまで生きた一人の外交官──重光葵をたどる \n令和7年、日本は太平洋戦争の終結から80年という節目を迎えます。終戦の際、戦艦ミズーリ号の上で日本の降伏文書に署名した外交官・重光葵（まもる）氏。その遺骨は、ここ国東市安岐町山口の地に静かに眠っています。 \n近くには、弟・蔵（おさむ）氏らの協力により、重光氏の遺品や写真を展示する山渓偉人館が開かれ、彼の足跡を今に伝えています。 \n戦争に心を痛めながらも、時代のうねりの中で歩んだ外交官としての道。降伏文書調印後にはA級戦犯としての逮捕という過酷な運命も経験しました。しかしその一方で、”向陽”という名で書や似顔絵を数多く残した、芸術家としてのもう一つの顔も持ち合わせていました。 \n本企画では、重光葵氏の波乱に満ちた生涯とともに、戦時下のくにさきの人々の暮らしにも光を当て、過去と向き合う時間を皆さまと共有できればと願っています。 \n詳しくはこちら＞＞＞ \n【開催日時】\n6月28日（土）〜9月28日（日） \n【場所】\n弥生のムラ　国東市歴史体験学習館 1階 企画展示室 \n【入館料】\n一般200円・小中学生100円　※団体割引あり \n【開館時間】\n9:00-17:00　※入館は16:30まで \n【休館日】\n毎週月曜日（祝日除く）、祝日の翌日 \n【お問い合わせ】\n国東市社会教育課　文化財課\nTEL 0978-72-2677
URL:https://www.imiru-kunisaki.fun/corner/2025-06-28-09-28/
LOCATION:弥生のムラ　国東市歴史体験学習館\, 国東市国東町安国寺1639番地2\, 国東市\, 大分県\, 873-0504\, Japan
CATEGORIES:国東町,教育・学習
ATTACH;FMTTYPE=image/jpeg:https://www.imiru-kunisaki.fun/wp-content/uploads/2025/06/senngo80nenn_eyecatch-800X500.jpg
END:VEVENT
BEGIN:VEVENT
DTSTART;TZID=Asia/Tokyo:20250803T090000
DTEND;TZID=Asia/Tokyo:20250915T170000
DTSTAMP:20260422T125909
CREATED:20250826T144050Z
LAST-MODIFIED:20250831T071730Z
UID:1760-1754211600-1757955600@www.imiru-kunisaki.fun
SUMMARY:江戸風鈴展【涛音寮】
DESCRIPTION:🎐✨暑い夏に、こころ和む涼やかな音色を✨🎐 \n東京都江戸川区で100年以上の歴史を持つ老舗「篠原風鈴本舗（大正4年創業）」を涛音寮（とういんりょう）にお迎えし、江戸風鈴の魅力をお届けします。江戸時代から受け継がれてきたガラスの風鈴は、透きとおる美しさと澄んだ音色で、そよ風に涼を運んでくれます。 \n☀️猛暑のひととき、心地よい音色に耳を澄ませながら、夏を楽しみにぜひお越しください。🛍️ 当日は江戸風鈴の販売もございます。お気に入りの音色を見つけてみませんか？ \n【開催日時】\n2025年8月3日（水）~9月15日（月）　※火曜定休日\n\n\n【お問い合わせ】\n涛音寮　茶房さんがいや\n国東市国見町伊美2017\nTEL：0978-82-1328　（営業時間：9：00～17：00）
URL:https://www.imiru-kunisaki.fun/corner/2025-8-3-9-15/
LOCATION:涛音寮　茶房さんがいや\, 伊美2017\, 国東市国見町\, 大分県\, Japan
CATEGORIES:イベント,国見町
ATTACH;FMTTYPE=image/jpeg:https://www.imiru-kunisaki.fun/wp-content/uploads/2025/08/edofuurinntenn_eyecatch-800X500.jpg
END:VEVENT
BEGIN:VEVENT
DTSTART;TZID=Asia/Tokyo:20250812T160000
DTEND;TZID=Asia/Tokyo:20250812T203000
DTSTAMP:20260422T125909
CREATED:20250801T155921Z
LAST-MODIFIED:20250801T170612Z
UID:1707-1755014400-1755030600@www.imiru-kunisaki.fun
SUMMARY:第20回 富来開運夕涼み夏まつり
DESCRIPTION:🎉 夏の「富」がやってくる！縁起の良い地名で知られる国東町富来（とみく）で、夏まつりが開催されます🌻 \n学生たちによる元気いっぱいのパフォーマンス🎤や、ダンス、カラオケなど、楽しいステージイベントが盛りだくさん！屋台やキッチンカー🍧🍟も並び、わくわくのマルシェも同時開催予定です🛍️ \n夏の一日を、にぎやかに楽しみにきませんか？皆さまのお越しをお待ちしています✨ \n詳しくはこちら＞＞＞ \n【開催日時】\n8月12日（火）　16:00〜20:30\n \n【会場】\n富来地区公民館　旧富来中学校（国東町富来） \n【お問い合わせ】\n観光・地域産業創造課\n国東市国東町鶴川149番地（本庁舎2階）商工観光企画係\nTEL：0978-72-5168\nFAX：0978-72-5182
URL:https://www.imiru-kunisaki.fun/corner/2025-08-12-2/
LOCATION:富来地区公民館\, 富来浦189番地\, 国東市国東町\, 大分県\, 873-0643
CATEGORIES:イベント,国東町
ATTACH;FMTTYPE=image/jpeg:https://www.imiru-kunisaki.fun/wp-content/uploads/2025/08/tomikukaiunnyuusuzuminatsumatsuri_eyecatch-800X500.jpg
END:VEVENT
BEGIN:VEVENT
DTSTART;TZID=Asia/Tokyo:20250812T200000
DTEND;TZID=Asia/Tokyo:20250812T220000
DTSTAMP:20260422T125909
CREATED:20250620T101032Z
LAST-MODIFIED:20250803T122926Z
UID:1484-1755028800-1755036000@www.imiru-kunisaki.fun
SUMMARY:ペルセウス座流星群観察会【天球館】
DESCRIPTION:🌠【ペルセウス座流星群 観察会】 \n夏の夜空に、願いを込めて——一年に一度の流星ショー、ペルセウス座流星群を一緒に観察しませんか？ \nこの時期、夜空を流れるたくさんの流れ星に出会えるチャンス！専門スタッフによる星空解説や、星座のお話もあり、天体初心者の方でも楽しめます。 \n夜風を感じながら、ゆったりと寝転んで空を見上げる特別なひととき。ぜひご家族やお友だちとご参加ください🌌 \n【開催日時】\n8月12日（火）20:00~22:00 \n【場所】\n梅園の里天文台 天球館（国東市安岐町富清2244） \n【定員】\nなし　※事前申込不要 \n【料金】\n観察料：大人500円・高校生:300円・小中学生200円\n※梅園の里 宿泊者様、団体（10名以上）は、お一人様100円引き \n◆年間パスポート：大人1500円・高校生900円・小中学生600円 \n【お問い合わせ】\n梅園の里天文台 天球館\nTEL:0978-97-2655\n開館時間：平日（月・水・木・金） 18:00～22:00　　土日祝・学童春夏冬休み 13:00〜22:00\n休館日：火曜日（祝祭日の場合は翌平日）
URL:https://www.imiru-kunisaki.fun/corner/2025-08-12/
LOCATION:梅園の里天文台 天球館\, 富清2244\, 国東市安岐町\, 大分県\, 873-0355\, Japan
CATEGORIES:イベント,安岐町
ATTACH;FMTTYPE=image/jpeg:https://www.imiru-kunisaki.fun/wp-content/uploads/2025/06/peruseusuryuuseigun_eyecatch-800X500.jpg
END:VEVENT
END:VCALENDAR