BEGIN:VCALENDAR
VERSION:2.0
PRODID:-//いみ～る国東 - ECPv6.15.20//NONSGML v1.0//EN
CALSCALE:GREGORIAN
METHOD:PUBLISH
X-WR-CALNAME:いみ～る国東
X-ORIGINAL-URL:https://www.imiru-kunisaki.fun
X-WR-CALDESC:いみ～る国東 のイベント
REFRESH-INTERVAL;VALUE=DURATION:PT1H
X-Robots-Tag:noindex
X-PUBLISHED-TTL:PT1H
BEGIN:VTIMEZONE
TZID:Asia/Tokyo
BEGIN:STANDARD
TZOFFSETFROM:+0900
TZOFFSETTO:+0900
TZNAME:JST
DTSTART:20240101T000000
END:STANDARD
END:VTIMEZONE
BEGIN:VEVENT
DTSTART;TZID=Asia/Tokyo:20251004T100000
DTEND;TZID=Asia/Tokyo:20251004T130000
DTSTAMP:20260422T093706
CREATED:20250908T025847Z
LAST-MODIFIED:20250911T020401Z
UID:1924-1759572000-1759582800@www.imiru-kunisaki.fun
SUMMARY:腸からきれいに！紫もち麦粉で作る水キムチ＆パティシエスイーツ【国東おだやか博2025】
DESCRIPTION:🌾 むらさきもち麦の魅力を味わう特別教室！生産者直伝✨ 乳酸菌たっぷりで子どもも食べやすい「水キムチ作り」体験🥒💚さらに、パティシエが目の前で仕上げる、むらさきもち麦粉を使ったヘルシースイーツもご堪能いただけます🍰✨嬉しいお土産付きで、学んで・作って・味わえる贅沢なひとときをお楽しみください🎁 \n【開催日時】\n10月4日（土）10:00~13:00\n\n【参加料金】\n4\,300円\n\n【場所】\n武蔵中央公民館（セントラルホール）隣\n（国東市武蔵町古市1107-1）\n\n【定員】\n12名　※定員になり次第締切\n\n【持ち物】\nエプロン、三角巾、お手拭き\n\n【大まかな行程】\n10：00開始・美腸講座→水キムチ作り→水キムチ作りの簡単アレンジ調理　→11：45会食→片付け→13:00終了\n\n【申込締切】\n9月29日（月）※定員になり次第締切\n\n【お申込み・お問い合わせ】\nお申し込みはこちら＞＞＞\n一般社団法人国東市観光協会\nTEL 0978-73-0962 (受付時間 9:00 ~ 17:00)
URL:https://www.imiru-kunisaki.fun/corner/2025-10-4-3/
LOCATION:大分県
CATEGORIES:イベント,おだやか博,体験,武蔵町
ATTACH;FMTTYPE=image/jpeg:https://www.imiru-kunisaki.fun/wp-content/uploads/2025/09/tyoukarakireini_eyecatch-800X500.jpg
END:VEVENT
BEGIN:VEVENT
DTSTART;TZID=Asia/Tokyo:20251004T100000
DTEND;TZID=Asia/Tokyo:20251004T140000
DTSTAMP:20260422T093706
CREATED:20250906T075231Z
LAST-MODIFIED:20250906T083814Z
UID:1910-1759572000-1759586400@www.imiru-kunisaki.fun
SUMMARY:武蔵楽交 ２学期
DESCRIPTION:「武蔵楽交 ２学期」が、旧武蔵東小学校グラウンドで開催されます！\n今回のテーマは「大人も子どもも よ〜いドン！」みんなで楽しむ 運動会 を開催します！\n🏃‍♂️ステージイベント✨\n1限11:00~パン食い競走\n2限11:30~ATミュージカル＆ダンスカンパニー\n3限12:00~トモダンススクール\n4限13:00~コンバット\n5限13:30~借り物競走＆パン食い競走\n🍴出店はなんと 25店舗！グルメやワークショップなど盛りだくさん🎶\nご家族・ご友人と一緒に、ぜひ楽しいひとときをお過ごしください。 \n\n詳しくはこちら＞＞＞ \n【開催日時】\n10月4日（土）10:00-14:00　※小雨決行 \n【会場】\n旧武蔵東小学校グラウンド \n【お問い合わせ】\n武蔵活性化委員会\n代表：矢野　誠治　TEL：090-5475-0974
URL:https://www.imiru-kunisaki.fun/corner/2025-10-4-2/
LOCATION:旧武蔵東小学校グラウンド\, 古市711\, 国東市武蔵町\, 大分県\, Japan
CATEGORIES:イベント,武蔵町
ATTACH;FMTTYPE=image/jpeg:https://www.imiru-kunisaki.fun/wp-content/uploads/2025/09/musashigakkou2gakki2025_eyecatch-800X500.jpg
END:VEVENT
BEGIN:VEVENT
DTSTART;TZID=Asia/Tokyo:20251004T210000
DTEND;TZID=Asia/Tokyo:20251004T220000
DTSTAMP:20260422T093706
CREATED:20250905T014205Z
LAST-MODIFIED:20250911T020505Z
UID:1844-1759611600-1759615200@www.imiru-kunisaki.fun
SUMMARY:お月様撮影会【天球館】
DESCRIPTION:梅園の里天文台 天球館で毎月開かれる、お月さま撮影会。澄んだ夜空に輝く美しい月を、一緒にカメラに収めませんか？初心者の方も大歓迎。天文台の特別な設備を使って、いつもとは違う夜を楽しみましょう。定員は8名、当日先着順ですので、参加をご希望の方はお早めにお越しください。 \n【開催日時】\n10月4日（土）21:00~22:00 \n【場所】\n梅園の里天文台 天球館（国東市安岐町富清2244） \n【定員】\n8名　※当日先着順 \n【料金】\n観察料：大人500円・高校生:300円・小中学生200円\n※梅園の里 宿泊者様、団体（10名以上）は、お一人様100円引き \n◆年間パスポート：大人1500円・高校生900円・小中学生600円 \n【お問い合わせ】\n梅園の里天文台 天球館\nTEL:0978-97-2655\n開館時間：平日（月・水・木・金） 18:00～22:00　　土日祝・学童春夏冬休み 13:00〜22:00\n休館日：火曜日（祝祭日の場合は翌平日）
URL:https://www.imiru-kunisaki.fun/corner/2025-10-4/
LOCATION:梅園の里天文台 天球館\, 富清2244\, 国東市安岐町\, 大分県\, 873-0355\, Japan
CATEGORIES:イベント,安岐町
ATTACH;FMTTYPE=image/jpeg:https://www.imiru-kunisaki.fun/wp-content/uploads/2025/09/otsukisamasatsueikai_eyecatch-800X500-7.jpg
END:VEVENT
END:VCALENDAR