BEGIN:VCALENDAR
VERSION:2.0
PRODID:-//いみ～る国東 - ECPv6.15.20//NONSGML v1.0//EN
CALSCALE:GREGORIAN
METHOD:PUBLISH
X-WR-CALNAME:いみ～る国東
X-ORIGINAL-URL:https://www.imiru-kunisaki.fun
X-WR-CALDESC:いみ～る国東 のイベント
REFRESH-INTERVAL;VALUE=DURATION:PT1H
X-Robots-Tag:noindex
X-PUBLISHED-TTL:PT1H
BEGIN:VTIMEZONE
TZID:Asia/Tokyo
BEGIN:STANDARD
TZOFFSETFROM:+0900
TZOFFSETTO:+0900
TZNAME:JST
DTSTART:20240101T000000
END:STANDARD
END:VTIMEZONE
BEGIN:VEVENT
DTSTART;TZID=Asia/Tokyo:20251011T000000
DTEND;TZID=Asia/Tokyo:20251130T000000
DTSTAMP:20260422T074744
CREATED:20250715T121346Z
LAST-MODIFIED:20250722T051358Z
UID:1647-1760140800-1764460800@www.imiru-kunisaki.fun
SUMMARY:国東半島芸術文化祭2025
DESCRIPTION:国東半島が、まるごとアートと文化の舞台に。国東市と豊後高田市が手を取り合い、「国東半島芸術文化祭2025」を開催します。お寺が美術館に変身したり、全長9.5メートルの大きなアヒルが登場したり…！？この秋は、アート・文化・自然が彩る国東半島で、心おどる体験をしてみませんか。期間中は楽しいプロジェクトが盛りだくさん！どうぞお楽しみに。 \n詳しくはこちら＞＞＞\nInstagramでも情報発信しています。 \n【開催期間】\n令和7年10月11日（土曜日）～11月30日（日曜日）まで\n※期間中に行われるプロジェクトはそれぞれ開催期間が異なります。 \n【お問い合わせ】\n国東市観光・地域産業創造課\nTEL：0978-72-5168
URL:https://www.imiru-kunisaki.fun/corner/2025-10-11-11-30/
LOCATION:大分県
CATEGORIES:イベント,国東半島
ATTACH;FMTTYPE=image/jpeg:https://www.imiru-kunisaki.fun/wp-content/uploads/2025/07/kunisakihantougeijyutsubunnkasai_eyecatch-800X500.jpg
END:VEVENT
BEGIN:VEVENT
DTSTART;VALUE=DATE:20251012
DTEND;VALUE=DATE:20251201
DTSTAMP:20260422T074744
CREATED:20251021T030040Z
LAST-MODIFIED:20251023T055508Z
UID:2208-1760227200-1764547199@www.imiru-kunisaki.fun
SUMMARY:私達写真プロジェクト【国東半島芸術文化祭2025】
DESCRIPTION:📸【国東半島芸術文化祭2025】−KUNISAKI ART & CULTURE FESTIVAL 2025− \n写真家・秦雅則氏と紡ぐ「私達写真プロジェクト」📷✨ \n写真家・秦雅則（はた まさのり）氏と、公募で集まった地域スタッフ約40名が力を合わせてつくり上げるアートプロジェクト。 \n地域に息づく文化や、国東半島での暮らしをテーマに、秦氏とスタッフたちが写真や動画を撮影します。その素材に秦氏が独自のストーリーとアレンジを加え、インスタレーションを取り入れた作品として各会場に展示されます🌿✨ \n国東会場では、なんと8トンもの砂を敷き詰めた空間を準備中！🏖️その“砂浜の部屋”で、どんな物語が生まれるのでしょうか…？ \n地域とアーティストが共に紡ぐ、新しい“私たち”の姿。ぜひ会場で、その瞬間を体感してください💫ご来場の際は、日程をお確かめのうえお越しください。 \nInstagramでも情報発信しています。 \n【期間】\n10月12日（日）～11月30日（日）まで \n【私達写真プロジェクト会場】\n◯国東市\n会場：旧国見ユースホステル（国東市国見町伊美3750） \n【お問い合わせ】\n国東市観光・地域産業創造課\nTEL：0978-72-5168
URL:https://www.imiru-kunisaki.fun/corner/2025-10-12-11-30/
LOCATION:旧国見ユースホステル\, 伊美3750\, 国東市国見町\, 大分県\, 872-1401\, Japan
CATEGORIES:イベント,国見町
ATTACH;FMTTYPE=image/jpeg:https://www.imiru-kunisaki.fun/wp-content/uploads/2025/10/watashitachiartproject_eyecatch-800X500.jpg
END:VEVENT
BEGIN:VEVENT
DTSTART;VALUE=DATE:20251012
DTEND;VALUE=DATE:20251201
DTSTAMP:20260422T074744
CREATED:20251021T030744Z
LAST-MODIFIED:20251029T133602Z
UID:2213-1760227200-1764547199@www.imiru-kunisaki.fun
SUMMARY:国東半島記憶博物館プロジェクト【国東半島芸術文化祭2025】
DESCRIPTION:🎨【国東半島芸術文化祭2025】−KUNISAKI ART & CULTURE FESTIVAL 2025− \n記憶と歴史を観る、識る、感じる―国東半島記憶博物館プロジェクト🏛️ \n「国東半島の記憶」をテーマに、さまざまなアーティストたちが手がける展覧会。国東半島には、神様や仏様、海や山の豊かな自然、そして人々の暮らしとともに受け継がれてきた文化があります。それらの“記憶”を見つめ、感じ、未来へつなぐプロジェクトが始まります🌿✨ \nこの取り組みでは、写真家や音楽家、料理研究家など多様な分野の専門家を「研究員」として迎え、国東という地を多角的に探りながら、その成果を作品として展示します。 \n会場は、かつて旅人たちが集い語らった「旧国見ユースホステル」。今、そこに16名のアーティストが新たな息吹を吹き込み、“国東半島の記憶”がアートとして蘇ります💫 \nあなたの心に響く「記憶の物語」を、ぜひ体感してください。 \n\n👩‍🎨参加アーティスト（全16名）・秦 雅則（写真家）・千葉 麻十佳（美術作家）・KOURYOU（芸術家）・畑 直幸（写真家）・濱田 哲彰（竹芸家）・水田 雅也（アーティスト）・谷口 聡子（ニットアーティスト）・宗久 典高（ガラス工芸作家）・ゲンシシャ（書肆ゲンシシャ店主と幻視者たち）・Mari（料理研究家）・辺口 芳典（詩人）・大江 正彦（画家）・国東えんげき工房（市民劇団）・EXPEVISION（光と音のインスタレーション）・飯島 剛哉（超立体作家）・三原 回（アーティスト） \n\nInstagramでも情報発信しています。 \n【展示期間】\n10月12日（日）～11月30日（日）9:00〜16:00\n \n【会場】\n旧国見ユースホステル（国東市国見町伊美3750） \n【お問い合わせ】\n国東市観光・地域産業創造課\nTEL：0978-72-5168
URL:https://www.imiru-kunisaki.fun/corner/2025-10-12-11-30-2/
LOCATION:旧国見ユースホステル\, 伊美3750\, 国東市国見町\, 大分県\, 872-1401\, Japan
CATEGORIES:イベント,国見町
ATTACH;FMTTYPE=image/jpeg:https://www.imiru-kunisaki.fun/wp-content/uploads/2025/10/kunisakihanntoukiokuhakubutsukannproject_eyecatch-800X500.jpg
END:VEVENT
BEGIN:VEVENT
DTSTART;VALUE=DATE:20251115
DTEND;VALUE=DATE:20251201
DTSTAMP:20260422T074744
CREATED:20251021T024221Z
LAST-MODIFIED:20251024T085830Z
UID:2198-1763164800-1764547199@www.imiru-kunisaki.fun
SUMMARY:国東ラバーダックプロジェクト【国東半島芸術文化祭2025】
DESCRIPTION:🎨【国東半島芸術文化祭2025】−KUNISAKI ART & CULTURE FESTIVAL 2025− \n国東市に、世界の人気者・巨大アヒルがやってくる！？🦆💛「国東ラバーダックプロジェクト」開催！ \nお風呂にぷかぷか浮かぶ小さなアヒル。その姿は、国や言葉、世代を越えて、子どもの頃のやさしい記憶を呼び起こします。世界を旅するラバーダックは、笑顔と平和の象徴✨ \nこれまでヨーロッパ、南米、アジア、オセアニア、中東、北米と世界中の水辺を巡ってきたラバーダックが、1300年の歴史を受け継ぐ祈りの里「国東」に幸せを届けにやってきます。 \n○ラバーダックとは🐥『世界にボーダーラインはない』という想いのもと、オランダ出身の現代アーティスト・フロレンタイン・ホフマン氏が手がけたアート作品です。川や海といった水辺を大きなバスタブに見立て、街並みを背景に溶け込むその姿は、見た人の心をやさしく包み込むパブリックアートとして世界中で愛されています🌏💫 \n期間中は、ここでしか手に入らないラバーダックグッズの販売も予定しています🎁どうぞお楽しみに！ \n※画像はイメージです。すべてのグッズが販売されるわけではございませんのでご了承ください。 \n詳しくはこちら＞＞＞\nInstagramでも情報発信しています。 \n【ラバーダック出現期間】\n11月15日（土）～11月30日（日）まで \n【ラバーダック出現場所】\n迫池（国東市国東町綱井1867番地） \n【お問い合わせ】\n国東市観光・地域産業創造課\nTEL：0978-72-5168
URL:https://www.imiru-kunisaki.fun/corner/2025-11-15-30/
LOCATION:迫池\, 綱井1867番地\, 国東市国東町\, 大分県\, Japan
CATEGORIES:イベント,国東町
ATTACH;FMTTYPE=image/jpeg:https://www.imiru-kunisaki.fun/wp-content/uploads/2025/10/kunisakiraba-dakkuproject_eyecatch-800X500.jpg
END:VEVENT
BEGIN:VEVENT
DTSTART;VALUE=DATE:20251115
DTEND;VALUE=DATE:20251201
DTSTAMP:20260422T074744
CREATED:20251021T025124Z
LAST-MODIFIED:20251029T143310Z
UID:2203-1763164800-1764547199@www.imiru-kunisaki.fun
SUMMARY:お寺美術館プロジェクト【国東半島芸術文化祭2025】
DESCRIPTION:🎨【国東半島芸術文化祭2025】−KUNISAKI ART & CULTURE FESTIVAL 2025− \n歴史ある六郷満山のお寺が、美術館に！？🕊️「お寺美術館プロジェクト」開催✨ \n国東半島の文化と信仰を今に伝える「六郷満山」。1300年の歴史をもつこの地で、寺院をまるごと美術館に見立て、国東を拠点に活動するアーティストたちの作品を展示します🖼️ \nどのお寺に、どんなアートが登場するのか——新しい“祈りと芸術”のかたちに出会える特別な時間です🌿アーティストの皆さんについては、後日あらためてご紹介いたします☺️ \nまた、国東半島には、訪れた人をお茶やお菓子でもてなす「おせったい」というあたたかな風習があります🍵🍡期間中、各会場の境内で地域ならではのおもてなしをご用意。人と人、心と心がつながる、やさしいひとときをお楽しみください💫 \n歴史 × アート × 文化。お寺美術館プロジェクトを通して、国東の魅力を感じてみませんか？✨期間中は数量限定の特典配布も予定しています🎁\nInstagramでも情報発信しています。 \n【期間】\n11月15日（土）～11月30日（日）まで \n【美術館会場】\n国東市：両子寺／興導寺／文殊仙寺／岩戸寺／泉福寺\n豊後高田市：富貴寺／長安寺／無動寺／霊仙寺／天念寺 \n【お問い合わせ】\n国東市観光・地域産業創造課\nTEL：0978-72-5168
URL:https://www.imiru-kunisaki.fun/corner/2025-11-15-30-2/
LOCATION:両子寺／興導寺／文殊仙寺／岩戸寺／泉福寺\, 国東市\, 大分県\, Japan
CATEGORIES:イベント,国東半島
ATTACH;FMTTYPE=image/jpeg:https://www.imiru-kunisaki.fun/wp-content/uploads/2025/10/oterabijyutsukannproject_eyecatch-800X500.jpg
END:VEVENT
BEGIN:VEVENT
DTSTART;TZID=Asia/Tokyo:20251129T100000
DTEND;TZID=Asia/Tokyo:20251129T210000
DTSTAMP:20260422T074744
CREATED:20251109T141828Z
LAST-MODIFIED:20251109T151347Z
UID:2253-1764410400-1764450000@www.imiru-kunisaki.fun
SUMMARY:八坂神社秋まつり
DESCRIPTION:✨来浦の八坂神社で「八坂神社 秋まつり」開催！✨ \nお祭り気分を満喫できる屋台はもちろん🍧🎯心に響く弾き語りライブ🎸や、ちょっぴりドキドキの怪談話👻も♪さらに大人も子どもも楽しめるドローン体験会🚁も行われます！ \n秋の一日を、笑顔いっぱいで過ごしませんか？😊🍂皆さまのお越しをお待ちしています⛩️🎶 \n【開催日時】\n11月29日（土）　10:00〜21:00\n \n【場所】\n八坂神社（国東市国東町来浦） \n詳しくはこちら＞＞＞ \n【お問い合わせ】\n地球の公僕実行委員会
URL:https://www.imiru-kunisaki.fun/corner/2025-11-29/
LOCATION:八坂神社\, 来浦\, 国東市国東町\, 大分県\, 872-1652\, Japan
CATEGORIES:イベント,国東町
ATTACH;FMTTYPE=image/jpeg:https://www.imiru-kunisaki.fun/wp-content/uploads/2025/11/yasakaakimatsuri_eyecatch-800X500.jpg
END:VEVENT
END:VCALENDAR